BEGIN:VCALENDAR
VERSION:2.0
PRODID:-//Villa MONIN - ECPv6.15.17//NONSGML v1.0//EN
CALSCALE:GREGORIAN
METHOD:PUBLISH
X-WR-CALNAME:Villa MONIN
X-ORIGINAL-URL:https://villamonin.fr
X-WR-CALDESC:Évènements pour Villa MONIN
REFRESH-INTERVAL;VALUE=DURATION:PT1H
X-Robots-Tag:noindex
X-PUBLISHED-TTL:PT1H
BEGIN:VTIMEZONE
TZID:Europe/Paris
BEGIN:DAYLIGHT
TZOFFSETFROM:+0100
TZOFFSETTO:+0200
TZNAME:CEST
DTSTART:20240331T010000
END:DAYLIGHT
BEGIN:STANDARD
TZOFFSETFROM:+0200
TZOFFSETTO:+0100
TZNAME:CET
DTSTART:20241027T010000
END:STANDARD
BEGIN:DAYLIGHT
TZOFFSETFROM:+0100
TZOFFSETTO:+0200
TZNAME:CEST
DTSTART:20250330T010000
END:DAYLIGHT
BEGIN:STANDARD
TZOFFSETFROM:+0200
TZOFFSETTO:+0100
TZNAME:CET
DTSTART:20251026T010000
END:STANDARD
BEGIN:DAYLIGHT
TZOFFSETFROM:+0100
TZOFFSETTO:+0200
TZNAME:CEST
DTSTART:20260329T010000
END:DAYLIGHT
BEGIN:STANDARD
TZOFFSETFROM:+0200
TZOFFSETTO:+0100
TZNAME:CET
DTSTART:20261025T010000
END:STANDARD
END:VTIMEZONE
BEGIN:VEVENT
DTSTART;TZID=Europe/Paris:20250703T121500
DTEND;TZID=Europe/Paris:20250703T130000
DTSTAMP:20260422T014620
CREATED:20250513T125551Z
LAST-MODIFIED:20250513T131325Z
UID:72556-1751544900-1751547600@villamonin.fr
SUMMARY:Un plat démo - Quasi de veau
DESCRIPTION:Plat :  \nQuasi de veau basse température \nPomme de terre anna et croûte d’herbes fraîches \nDesserts des chefs à emporter \nTechniques abordées: \n\nRéalisation de le pomme de terre anna\nFabrication de la croûte d’herbes fraîches\n\n 
URL:https://villamonin.fr/cours/un-plat-demo-quasi-de-veau-03-07-25/
CATEGORIES:Atelier Cuisine,Menu thématique - 2h
ATTACH;FMTTYPE=image/jpeg:https://villamonin.fr/wp-content/uploads/2023/02/cours-villa-mail.jpg
END:VEVENT
BEGIN:VEVENT
DTSTART;TZID=Europe/Paris:20250704T093000
DTEND;TZID=Europe/Paris:20250704T113000
DTSTAMP:20260422T014620
CREATED:20250513T124847Z
LAST-MODIFIED:20250513T124847Z
UID:72553-1751621400-1751628600@villamonin.fr
SUMMARY:Menu fraîcheur
DESCRIPTION:Entrée :  \nCarpaccio de concombre \nTarte de truite fumée \nFeta et vinaigrette au sirop de Monin \n  \nPlat :  \nQuasi de veau basse température \nPomme de terre anna et croûte d’herbes fraîches \n  \nDesserts des chefs à emporter \nTechniques abordées: \n\nDécoupe des légumes et du poisson\nRéalisation de la vinaigrette\nRéalisation de le pomme de terre anna\nFabrication de la croûte d’herbes fraîches\n\n 
URL:https://villamonin.fr/cours/menu-fraicheur-02-07-25-2/
CATEGORIES:Atelier Cuisine,Menu thématique - 2h
ATTACH;FMTTYPE=image/jpeg:https://villamonin.fr/wp-content/uploads/2023/02/cours-villa-mail.jpg
END:VEVENT
BEGIN:VEVENT
DTSTART;TZID=Europe/Paris:20250704T170000
DTEND;TZID=Europe/Paris:20250704T183000
DTSTAMP:20260422T014620
CREATED:20250522T091656Z
LAST-MODIFIED:20250604T123121Z
UID:72640-1751648400-1751653800@villamonin.fr
SUMMARY:Pâtisserie - Spécial Macarons
DESCRIPTION:L’équipe de Chefs présente ses Macarons et ses astuces de réussite \nTechniques abordées : \n\nLa réalisation de la meringue au sirop\nDosage sucre/poudre d’amandes\nLe macaronage\nApprentissage du dosage en poche\nL’utilisation des colorants naturels\nLa cuisson\nLes garnitures faciles et gourmandes
URL:https://villamonin.fr/cours/patisserie-special-macarons-04-07-25/
CATEGORIES:Atelier Pâtisserie
ATTACH;FMTTYPE=image/jpeg:https://villamonin.fr/wp-content/uploads/2023/10/HILG7664.jpg
END:VEVENT
BEGIN:VEVENT
DTSTART;TZID=Europe/Paris:20250705T093000
DTEND;TZID=Europe/Paris:20250705T110000
DTSTAMP:20260422T014620
CREATED:20250513T133235Z
LAST-MODIFIED:20250527T095419Z
UID:72569-1751707800-1751713200@villamonin.fr
SUMMARY:Pâtisserie - Spécial Macarons
DESCRIPTION:L’équipe de Chefs présente ses Macarons et ses astuces de réussite \nTechniques abordées : \n\nLa réalisation de la meringue au sirop\nDosage sucre/poudre d’amandes\nLe macaronage\nApprentissage du dosage en poche\nL’utilisation des colorants naturels\nLa cuisson\nLes garnitures faciles et gourmandes
URL:https://villamonin.fr/cours/patisserie-special-macarons-05-07-25/
CATEGORIES:Atelier Pâtisserie
ATTACH;FMTTYPE=image/jpeg:https://villamonin.fr/wp-content/uploads/2023/10/HILG7664.jpg
END:VEVENT
BEGIN:VEVENT
DTSTART;TZID=Europe/Paris:20250705T180000
DTEND;TZID=Europe/Paris:20250705T193000
DTSTAMP:20260422T014620
CREATED:20250428T122406Z
LAST-MODIFIED:20250505T084945Z
UID:72087-1751738400-1751743800@villamonin.fr
SUMMARY:Mixologie
DESCRIPTION:Latino Vol.2 \nAprès le succès du 1er cours autour de la culture latino\, vous apprendrez à réaliser 3 autres cocktails emblématiques classiques et revisités : \n\nLa Tequila Sunrise: re découvrez notre version moderne de ce cocktail. Une explosion de couleurs et de saveurs.\nLe Paloma : un cocktail mexicain qui marie la fraîcheur de la tequila à l’acidité pétillante des agrumes. Une boisson légère et désaltérante.\nLa Batida : un cocktail crémeux à base de cachaça qui vous transportera sous les tropiques.\n\nDes techniques simples et des astuces vous seront partagées pour maîtriser ces classiques intemporels
URL:https://villamonin.fr/cours/mixologie-05-07-25/
CATEGORIES:Mixologie - 1h30
ATTACH;FMTTYPE=image/png:https://villamonin.fr/wp-content/uploads/2025/04/tequila-sunrise.png
END:VEVENT
BEGIN:VEVENT
DTSTART;TZID=Europe/Paris:20250709T093000
DTEND;TZID=Europe/Paris:20250709T113000
DTSTAMP:20260422T014620
CREATED:20250513T133936Z
LAST-MODIFIED:20250513T133936Z
UID:72572-1752053400-1752060600@villamonin.fr
SUMMARY:Menu Tartare & Carpaccio
DESCRIPTION:Entrée : \nTartare de cabillaud \nFruit de la passion et condiments \n  \nPlat : \nCarpaccio de veau a l’italienne \nMozzarella \, parmesan et roquette \n  \nTechniques détaillées : \n\nDécoupe du tartare et du carpaccio\nVinaigrette au sirop de Monin\nPréparation d’une huile aromatisé\n\n 
URL:https://villamonin.fr/cours/menu-tartare-carpaccio/
CATEGORIES:Atelier Cuisine,Menu thématique - 2h
ATTACH;FMTTYPE=image/jpeg:https://villamonin.fr/wp-content/uploads/2022/05/Blanc-de-poisson.jpg
END:VEVENT
BEGIN:VEVENT
DTSTART;TZID=Europe/Paris:20250709T140000
DTEND;TZID=Europe/Paris:20250709T160000
DTSTAMP:20260422T014620
CREATED:20250513T134931Z
LAST-MODIFIED:20250513T134931Z
UID:72581-1752069600-1752076800@villamonin.fr
SUMMARY:Pâtisserie - Parent/enfant - Spécialité Pavlova
DESCRIPTION:Détail du menu : \nPavlova aux fruits rouges \nMousse au au fruit de Monin \nMarshmallow \n  \nTechniques détaillées : \nRéalisation du Marshmallow \nRéalisation de la mousse aux fruits de Monin \nRéalisation de la meringue \n 
URL:https://villamonin.fr/cours/patisserie-parent-enfant-specialite-pavlova/
CATEGORIES:Atelier Pâtisserie
ATTACH;FMTTYPE=image/jpeg:https://villamonin.fr/wp-content/uploads/2024/03/IMG_0504.jpg
END:VEVENT
BEGIN:VEVENT
DTSTART;TZID=Europe/Paris:20250710T121500
DTEND;TZID=Europe/Paris:20250710T130000
DTSTAMP:20260422T014620
CREATED:20250513T135505Z
LAST-MODIFIED:20250513T135505Z
UID:72584-1752149700-1752152400@villamonin.fr
SUMMARY:Un Plat démo - Carpaccio de veau
DESCRIPTION:Plat : \nCarpaccio de veau a l’italienne \nMozzarella \, parmesan et roquette \nDessert des chefs à emporter  \n  \nTechniques détaillées : \nDécoupe du carpaccio \nVinaigrette au srop de monin \nPrep d’une huile aromatisé
URL:https://villamonin.fr/cours/un-plat-demo-carpaccio-de-veau/
CATEGORIES:Atelier Cuisine,Menu express 45min
ATTACH;FMTTYPE=image/jpeg:https://villamonin.fr/wp-content/uploads/2022/05/Blanc-de-poisson.jpg
END:VEVENT
BEGIN:VEVENT
DTSTART;TZID=Europe/Paris:20250710T173000
DTEND;TZID=Europe/Paris:20250710T190000
DTSTAMP:20260422T014620
CREATED:20250523T075311Z
LAST-MODIFIED:20250605T134139Z
UID:73146-1752168600-1752174000@villamonin.fr
SUMMARY:Mixologie
DESCRIPTION:Les Créations du Bar 1912 de la VILLA MONIN \n\n 3 cocktails signature créés par nos Chefs Barmen\n\nle Verger d’automne à base de cidre\nle Green Park Fizz à base de Vermouth blanc\nla Mule gourmande à base de vodka\n\n\n\n 
URL:https://villamonin.fr/cours/mixologie-10-07-25/
CATEGORIES:Mixologie - 1h30
ATTACH;FMTTYPE=image/png:https://villamonin.fr/wp-content/uploads/2025/04/6.png
END:VEVENT
BEGIN:VEVENT
DTSTART;TZID=Europe/Paris:20250711T173000
DTEND;TZID=Europe/Paris:20250711T190000
DTSTAMP:20260422T014620
CREATED:20250428T124024Z
LAST-MODIFIED:20250505T085114Z
UID:72091-1752255000-1752260400@villamonin.fr
SUMMARY:Mixologie
DESCRIPTION:VODKA VOL.1 \nVous apprendre à réaliser trois cocktails classiques ayant comme base la vodka : \n\nCosmopolitan : historique du cocktail newyorkais star de la série Sex & The City\, liqueur de Curaçao Triple Sec + suggestion d’aromatisation\, règles d’élaboration des 3 S (Sweet Sour Strong)\, méthode au shaker\, et décor avec un zeste d’orange taillé.\nPorn Star Martini : cocktail n°1 au UK\, méthode au shaker\, mise en avant du sirop de Vanille de Madagascar et Le Fruit Passion\, garnish fruit de la passion.\nAlternative Sex on the Beach : variante des différentes recettes existantes\, mise en avant du sirop de Pêche ou Le Fruit Pêche\, réalisation du cocktail long drink au shaker\, petit concours de garnish pour décorer le cocktail entre les participants.\nMoscow Mule : le cocktail tendance du moment\, historique du lancement du Moscow Mule dans les années 50 aux Etats Unis\, réalisation direct au verre (mule mug)\, soit avec Rantcho Citron Vert soit avec Le Fruit Citron Vert et version\naromatisée (Le Fruit Ananas\, Mangue ou Passion) déclinaison possible avec le rhum (Rum Mule).
URL:https://villamonin.fr/cours/mixologie-11-07-25/
CATEGORIES:Mixologie - 1h30
ATTACH;FMTTYPE=image/png:https://villamonin.fr/wp-content/uploads/2025/04/Le-sex-on-the-beach.png
END:VEVENT
BEGIN:VEVENT
DTSTART;TZID=Europe/Paris:20250712T093000
DTEND;TZID=Europe/Paris:20250712T113000
DTSTAMP:20260422T014620
CREATED:20250513T135810Z
LAST-MODIFIED:20250513T135811Z
UID:72578-1752312600-1752319800@villamonin.fr
SUMMARY:Menu Tartare & Carpaccio
DESCRIPTION:Entrée : \nTartare de cabillaud \nFruit de la passion et condiments \n  \nPlat : \nCarpaccio de veau a l’italienne \nMozzarella \, parmesan et roquette \n  \nTechniques détaillées : \n\nDécoupe du tartare et du carpaccio\nVinaigrette au sirop de Monin\nPréparation d’une huile aromatisé\n\n 
URL:https://villamonin.fr/cours/menu-tartare-carpaccio-11-07-25/
CATEGORIES:Atelier Cuisine,Menu thématique - 2h
ATTACH;FMTTYPE=image/jpeg:https://villamonin.fr/wp-content/uploads/2022/05/Blanc-de-poisson.jpg
END:VEVENT
BEGIN:VEVENT
DTSTART;TZID=Europe/Paris:20250712T180000
DTEND;TZID=Europe/Paris:20250712T193000
DTSTAMP:20260422T014620
CREATED:20250428T124803Z
LAST-MODIFIED:20250505T085242Z
UID:72094-1752343200-1752348600@villamonin.fr
SUMMARY:Mixologie
DESCRIPTION:VODKA Vol.2 \nPour ce deuxième volume\, notre expert boisson vous apprendra à réaliser trois cocktails emblématiques : \n\nLe Blue Lagoon\,\nLe Sex On The Beach\,\nL’Expresso Martini.\n\nVous découvrirez l’origine et l’histoire de leur création et les variantes de ces grands classiques.
URL:https://villamonin.fr/cours/mixologie-12-07-25/
CATEGORIES:Mixologie - 1h30
ATTACH;FMTTYPE=image/png:https://villamonin.fr/wp-content/uploads/2025/04/Le-blue-lagoon.png
END:VEVENT
BEGIN:VEVENT
DTSTART;TZID=Europe/Paris:20250716T093000
DTEND;TZID=Europe/Paris:20250716T113000
DTSTAMP:20260422T014620
CREATED:20250513T140416Z
LAST-MODIFIED:20250513T140416Z
UID:72588-1752658200-1752665400@villamonin.fr
SUMMARY:Menu retour du Marché
DESCRIPTION:Entrée : \nŒuf mollet \nTartare de tomate basilic et roquette \n  \nPlat : \nMédaillon de volaille basse température \nFraicheur de petits pois \nPetits farcis \n  \nTechniques détaillées : \n\nRéalisation de l’œuf poché\nDécoupe du tartare\nRéalisation de la farce fine
URL:https://villamonin.fr/cours/menu-retour-du-marche-3/
CATEGORIES:Atelier Cuisine,Menu thématique - 2h
ATTACH;FMTTYPE=image/jpeg:https://villamonin.fr/wp-content/uploads/2023/03/Blanc-de-volaille.jpg
END:VEVENT
BEGIN:VEVENT
DTSTART;TZID=Europe/Paris:20250716T140000
DTEND;TZID=Europe/Paris:20250716T160000
DTSTAMP:20260422T014620
CREATED:20250513T141210Z
LAST-MODIFIED:20250513T141228Z
UID:72597-1752674400-1752681600@villamonin.fr
SUMMARY:Pâtisserie - Parent/enfant - Spécial chocolat
DESCRIPTION:Détail du cours : \nFondant \nMousses \nMi-cuit \nTechniques abordées : \n\nTechniques de cuisson (temps\, température\, niveau)\nDifférents moules à utiliser
URL:https://villamonin.fr/cours/patisserie-parent-enfant-special-chocolat-16-07-25/
CATEGORIES:Atelier parent/enfant,Atelier Pâtisserie
ATTACH;FMTTYPE=image/webp:https://villamonin.fr/wp-content/uploads/2022/12/chocolat-300x300-1.webp
END:VEVENT
BEGIN:VEVENT
DTSTART;TZID=Europe/Paris:20250717T121500
DTEND;TZID=Europe/Paris:20250717T130000
DTSTAMP:20260422T014620
CREATED:20250513T142153Z
LAST-MODIFIED:20250513T142153Z
UID:72600-1752754500-1752757200@villamonin.fr
SUMMARY:Un Plat démo - retour du marché
DESCRIPTION:Plat : \nMédaillon de volaille basse température \nFraicheur de petits pois \nPetits farcis \n  \nTechniques détaillées : \nRéalisation de la farce fine \nRéalisation des petits farcis \n 
URL:https://villamonin.fr/cours/un-plat-demo-retour-du-marche/
CATEGORIES:Atelier Cuisine,Menu express 45min
ATTACH;FMTTYPE=image/jpeg:https://villamonin.fr/wp-content/uploads/2023/03/Blanc-de-volaille.jpg
END:VEVENT
BEGIN:VEVENT
DTSTART;TZID=Europe/Paris:20250718T093000
DTEND;TZID=Europe/Paris:20250718T113000
DTSTAMP:20260422T014620
CREATED:20250513T140549Z
LAST-MODIFIED:20250513T140549Z
UID:72591-1752831000-1752838200@villamonin.fr
SUMMARY:Menu retour du Marché
DESCRIPTION:Entrée : \nŒuf mollet \nTartare de tomate basilic et roquette \n  \nPlat : \nMédaillon de volaille basse température \nFraicheur de petits pois \nPetits farcis \n  \nTechniques détaillées : \n\nRéalisation de l’œuf poché\nDécoupe du tartare\nRéalisation de la farce fine
URL:https://villamonin.fr/cours/menu-retour-du-marche-16-07-25/
CATEGORIES:Atelier Cuisine,Menu thématique - 2h
ATTACH;FMTTYPE=image/jpeg:https://villamonin.fr/wp-content/uploads/2023/03/Blanc-de-volaille.jpg
END:VEVENT
BEGIN:VEVENT
DTSTART;TZID=Europe/Paris:20250718T173000
DTEND;TZID=Europe/Paris:20250718T190000
DTSTAMP:20260422T014620
CREATED:20250428T125724Z
LAST-MODIFIED:20250505T085339Z
UID:72097-1752859800-1752865200@villamonin.fr
SUMMARY:Mixologie
DESCRIPTION:RHUM Vol.2 \nVous réaliserez trois cocktails autour du spiritueux préféré des français\, le rhum : \n\nLe Falernum Rhum Mule\,\nLa Daïquiri\nLe Rhum Old Fashioned\n\nVous découvrirez les différents rhums et leurs origines\, ainsi que leur utilisation en cocktails. Mais aussi : \n\nL’histoire de ces cocktails emblématiques\n\n\nLa Technique\, les dosages et les équilibres\nLa verrerie
URL:https://villamonin.fr/cours/mixologie-18-07-25/
CATEGORIES:Mixologie - 1h30
ATTACH;FMTTYPE=image/png:https://villamonin.fr/wp-content/uploads/2025/04/La-Daiquiri.png
END:VEVENT
BEGIN:VEVENT
DTSTART;TZID=Europe/Paris:20250719T093000
DTEND;TZID=Europe/Paris:20250719T113000
DTSTAMP:20260422T014620
CREATED:20250513T140711Z
LAST-MODIFIED:20250606T073816Z
UID:72594-1752917400-1752924600@villamonin.fr
SUMMARY:Menu retour du Marché
DESCRIPTION:Entrée : \nŒuf mollet \nTartare de tomate basilic et roquette \n  \nPlat : \nMédaillon de volaille basse température \nFraicheur de petits pois \nPetits farcis \n  \nTechniques détaillées : \n\nRéalisation de l’œuf poché\nDécoupe du tartare\nRéalisation de la farce fine
URL:https://villamonin.fr/cours/menu-retour-du-marche-19-07-25/
CATEGORIES:Atelier Cuisine,Menu thématique - 2h
ATTACH;FMTTYPE=image/jpeg:https://villamonin.fr/wp-content/uploads/2023/03/Blanc-de-volaille.jpg
END:VEVENT
BEGIN:VEVENT
DTSTART;TZID=Europe/Paris:20250719T180000
DTEND;TZID=Europe/Paris:20250719T193000
DTSTAMP:20260422T014620
CREATED:20250428T130202Z
LAST-MODIFIED:20250505T080342Z
UID:72100-1752948000-1752953400@villamonin.fr
SUMMARY:Mixologie
DESCRIPTION:RHUM Vol.3 \nPlongez encore plus loin dans l’univers du Rhum avec ce troisième volume\, avec 3 cocktails créatifs et emblématiques : \n\nle Timur n°5\, \nle El Presidente\, \nle Tanayuki. \n\nUne nouvelle exploration du rhum à ne pas manquer.
URL:https://villamonin.fr/cours/mixologie-19-07-25/
CATEGORIES:Mixologie - 1h30
ATTACH;FMTTYPE=image/jpeg:https://villamonin.fr/wp-content/uploads/2023/09/Pornstar.jpg
END:VEVENT
BEGIN:VEVENT
DTSTART;TZID=Europe/Paris:20250723T093000
DTEND;TZID=Europe/Paris:20250723T113000
DTSTAMP:20260422T014620
CREATED:20250513T143057Z
LAST-MODIFIED:20250513T143057Z
UID:72603-1753263000-1753270200@villamonin.fr
SUMMARY:Menu tout en fraîcheur
DESCRIPTION:Entrée : \nFraîcheur de fregola sarda au pesto \nChèvre chavignol et vieux jambon \n  \nPlat : \nDorade royale et snackée \nRémoulade de tomate céleri et concombre \nChou chinois rôti \n  \nTechniques détaillées : \nCuisson de fregola sarda \nFabrication du pesto \nFabrication de la rémoulade de tomate céleri et concombre \n 
URL:https://villamonin.fr/cours/menu-tout-en-fraicheur/
CATEGORIES:Atelier Cuisine,Menu thématique - 2h
ATTACH;FMTTYPE=image/jpeg:https://villamonin.fr/wp-content/uploads/2022/11/Photo-524.jpg
END:VEVENT
BEGIN:VEVENT
DTSTART;TZID=Europe/Paris:20250723T140000
DTEND;TZID=Europe/Paris:20250723T160000
DTSTAMP:20260422T014620
CREATED:20250513T145146Z
LAST-MODIFIED:20250513T145314Z
UID:72619-1753279200-1753286400@villamonin.fr
SUMMARY:Pâtisserie - Parent/enfant - Spécial sablé breton
DESCRIPTION:Une inscription à 69€ = un duo parent/enfant (à partir de 6 ans) – 5 places “duo” disponibles \nChamallows \nSablés breton \nMousseux aux fruits \nTechnique abordée \n\nFaire ses chamallows\nTechnique des sablés\nComment faire ses mousseux
URL:https://villamonin.fr/cours/patisserie-parent-enfant-special-sable-breton-23-07-25/
CATEGORIES:Atelier parent/enfant,Atelier Pâtisserie
ATTACH;FMTTYPE=image/jpeg:https://villamonin.fr/wp-content/uploads/2022/01/close-up-of-woman-tying-apron-taking-part-in-cooke-2021-08-27-09-55-29-utc.jpg
END:VEVENT
BEGIN:VEVENT
DTSTART;TZID=Europe/Paris:20250724T121500
DTEND;TZID=Europe/Paris:20250724T130000
DTSTAMP:20260422T014620
CREATED:20250513T145859Z
LAST-MODIFIED:20250513T145859Z
UID:72623-1753359300-1753362000@villamonin.fr
SUMMARY:Un Plat démo - Dorade royale
DESCRIPTION:Plat : \nDorade royale et snackée \nRemoulade de tomate céleri et concombre \nChou chinois rôti \n  \nTechniques abordées: \nFabrication de la Remoulade de tomate céleri et concombre \nCuisson du poisson \n  \n 
URL:https://villamonin.fr/cours/un-plat-demo-dorade-royale/
CATEGORIES:Atelier Cuisine,Menu express 45min
ATTACH;FMTTYPE=image/jpeg:https://villamonin.fr/wp-content/uploads/2022/11/Photo-524.jpg
END:VEVENT
BEGIN:VEVENT
DTSTART;TZID=Europe/Paris:20250725T093000
DTEND;TZID=Europe/Paris:20250725T113000
DTSTAMP:20260422T014620
CREATED:20250513T143259Z
LAST-MODIFIED:20250513T143300Z
UID:72606-1753435800-1753443000@villamonin.fr
SUMMARY:Menu tout en fraîcheur
DESCRIPTION:Entrée : \nFraîcheur de fregola sarda au pesto \nChèvre chavignol et vieux jambon \n  \nPlat : \nDorade royale et snackée \nRémoulade de tomate céleri et concombre \nChou chinois rôti \n  \nTechniques détaillées : \nCuisson de fregola sarda \nFabrication du pesto \nFabrication de la rémoulade de tomate céleri et concombre \n 
URL:https://villamonin.fr/cours/menu-tout-en-fraicheur-23-07-25/
CATEGORIES:Atelier Cuisine,Menu thématique - 2h
ATTACH;FMTTYPE=image/jpeg:https://villamonin.fr/wp-content/uploads/2022/11/Photo-524.jpg
END:VEVENT
BEGIN:VEVENT
DTSTART;TZID=Europe/Paris:20250725T173000
DTEND;TZID=Europe/Paris:20250725T190000
DTSTAMP:20260422T014620
CREATED:20250428T130754Z
LAST-MODIFIED:20250505T085541Z
UID:72103-1753464600-1753470000@villamonin.fr
SUMMARY:Mixologie
DESCRIPTION:GIN Vol.1 \nLe Gin est devenu ces dernières années l’un des spiritueux les plus populaires auprès des consommateurs. \nAccompagné de notre mixologue vous apprendrez à réaliser ces trois cocktails : \n\nLe London Mule\,\nLe Gin Tonic aromatisé\,\nLe Gin Sour.
URL:https://villamonin.fr/cours/mixologie-25-07-25/
CATEGORIES:Mixologie - 1h30
ATTACH;FMTTYPE=image/png:https://villamonin.fr/wp-content/uploads/2025/04/Le-Falernum-Rhum-Mule.png
END:VEVENT
BEGIN:VEVENT
DTSTART;TZID=Europe/Paris:20250726T093000
DTEND;TZID=Europe/Paris:20250726T113000
DTSTAMP:20260422T014620
CREATED:20250513T143451Z
LAST-MODIFIED:20250513T143451Z
UID:72609-1753522200-1753529400@villamonin.fr
SUMMARY:Menu tout en fraîcheur
DESCRIPTION:Entrée : \nFraîcheur de fregola sarda au pesto \nChèvre chavignol et vieux jambon \n  \nPlat : \nDorade royale et snackée \nRémoulade de tomate céleri et concombre \nChou chinois rôti \n  \nTechniques détaillées : \nCuisson de fregola sarda \nFabrication du pesto \nFabrication de la rémoulade de tomate céleri et concombre \n 
URL:https://villamonin.fr/cours/menu-tout-en-fraicheur-25-07-25/
CATEGORIES:Atelier Cuisine,Menu thématique - 2h
ATTACH;FMTTYPE=image/jpeg:https://villamonin.fr/wp-content/uploads/2022/11/Photo-524.jpg
END:VEVENT
BEGIN:VEVENT
DTSTART;TZID=Europe/Paris:20250726T180000
DTEND;TZID=Europe/Paris:20250726T193000
DTSTAMP:20260422T014620
CREATED:20250428T131217Z
LAST-MODIFIED:20250505T080551Z
UID:72106-1753552800-1753558200@villamonin.fr
SUMMARY:Mixologie
DESCRIPTION:GIN Vol.2 \nPour ce second opus à travers l’univers du gin\, vous découvrirez comment réinterpréter 3 cocktails classiques : \n\nle Tom Collins\,\nle Clover Club\, \nle Red Lion \n\nTout cela en leur apportant un twist original avec un parfum MONIN.
URL:https://villamonin.fr/cours/mixologie-26-07-25/
CATEGORIES:Mixologie - 1h30
ATTACH;FMTTYPE=image/jpeg:https://villamonin.fr/wp-content/uploads/2023/02/ginto_portraitcRinaNURRA-bd.jpg
END:VEVENT
BEGIN:VEVENT
DTSTART;TZID=Europe/Paris:20250730T093000
DTEND;TZID=Europe/Paris:20250730T113000
DTSTAMP:20260422T014620
CREATED:20250513T150604Z
LAST-MODIFIED:20250513T151000Z
UID:72626-1753867800-1753875000@villamonin.fr
SUMMARY:Menu Gastronomique
DESCRIPTION:Entrée : \nTartare de thon \nMimosa d’œuf \nPoireau fondant \n  \nPlat : \nMagret de canard basse température \nMillefeuille de légumes aux herbes fraîches \nJus cuisiné à la cerise \n  \nTechniques détaillées : \n\nDécoupe du poisson\nRéalisation des mimosas d’œufs\nRéalisation du millefeuille de légumes\n\n 
URL:https://villamonin.fr/cours/menu-gastronomique-30-07-25-2/
CATEGORIES:Atelier Cuisine,Menu thématique - 2h
ATTACH;FMTTYPE=image/jpeg:https://villamonin.fr/wp-content/uploads/2023/02/Magret.jpg
END:VEVENT
BEGIN:VEVENT
DTSTART;TZID=Europe/Paris:20250730T140000
DTEND;TZID=Europe/Paris:20250730T160000
DTSTAMP:20260422T014620
CREATED:20250513T132819Z
LAST-MODIFIED:20250520T145826Z
UID:72566-1753884000-1753891200@villamonin.fr
SUMMARY:Pâtisserie - Parent/enfant - Spécial Macarons
DESCRIPTION:Une inscription à 69€ = un duo parent/enfant (à partir de 6 ans) – 5 places “duo” disponibles \nL’équipe de Chefs présente ses Macarons et ses astuces de réussite \nTechniques abordées : \n\nLa réalisation de la meringue au sirop\nDosage sucre/poudre d’amandes\nLe macaronage\nApprentissage du dosage en poche\nL’utilisation des colorants naturels\nLa cuisson\nLes garnitures faciles et gourmandes
URL:https://villamonin.fr/cours/patisserie-parent-enfant-special-macarons-30-07-25/
CATEGORIES:Atelier Pâtisserie
ATTACH;FMTTYPE=image/jpeg:https://villamonin.fr/wp-content/uploads/2023/10/HILG7664.jpg
END:VEVENT
BEGIN:VEVENT
DTSTART;TZID=Europe/Paris:20250731T121500
DTEND;TZID=Europe/Paris:20250731T130000
DTSTAMP:20260422T014620
CREATED:20250513T152356Z
LAST-MODIFIED:20250513T152356Z
UID:72637-1753964100-1753966800@villamonin.fr
SUMMARY:Un plat démo - Magret de canard
DESCRIPTION:Plat : \nMagret de canard basse température \nMillefeuille de légumes aux herbes fraîcheur \nJus cuisiné à la cerise \n  \nDessert des chefs à emporter \n  \nTechniques détaillées : \nRéalisation du millefeuille de légumes \nRéalisation du jus cuisiné
URL:https://villamonin.fr/cours/un-plat-demo-magret-de-canard/
CATEGORIES:Atelier Cuisine,Menu express 45min
ATTACH;FMTTYPE=image/jpeg:https://villamonin.fr/wp-content/uploads/2023/02/Magret.jpg
END:VEVENT
BEGIN:VEVENT
DTSTART;TZID=Europe/Paris:20250801T093000
DTEND;TZID=Europe/Paris:20250801T113000
DTSTAMP:20260422T014620
CREATED:20250513T150836Z
LAST-MODIFIED:20250513T150837Z
UID:72629-1754040600-1754047800@villamonin.fr
SUMMARY:Menu Gastronomique
DESCRIPTION:Entrée : \nTartare de thon \nMimosa d’œuf \nPoireau fondant \n  \nPlat : \nMagret de canard basse température \nMillefeuille de légumes aux herbes fraîches \nJus cuisiné à la cerise \n  \nTechniques détaillées : \n\nDécoupe du poisson\nRéalisation des mimosas d’œufs\nRéalisation du millefeuille de légumes\n\n 
URL:https://villamonin.fr/cours/menu-gastronomique-30-07-25/
CATEGORIES:Atelier Cuisine,Menu thématique - 2h
ATTACH;FMTTYPE=image/jpeg:https://villamonin.fr/wp-content/uploads/2023/02/Magret.jpg
END:VEVENT
END:VCALENDAR