BEGIN:VCALENDAR
VERSION:2.0
PRODID:-//Villa MONIN - ECPv6.15.17//NONSGML v1.0//EN
CALSCALE:GREGORIAN
METHOD:PUBLISH
X-ORIGINAL-URL:https://villamonin.fr
X-WR-CALDESC:Évènements pour Villa MONIN
REFRESH-INTERVAL;VALUE=DURATION:PT1H
X-Robots-Tag:noindex
X-PUBLISHED-TTL:PT1H
BEGIN:VTIMEZONE
TZID:Europe/Paris
BEGIN:DAYLIGHT
TZOFFSETFROM:+0100
TZOFFSETTO:+0200
TZNAME:CEST
DTSTART:20240331T010000
END:DAYLIGHT
BEGIN:STANDARD
TZOFFSETFROM:+0200
TZOFFSETTO:+0100
TZNAME:CET
DTSTART:20241027T010000
END:STANDARD
BEGIN:DAYLIGHT
TZOFFSETFROM:+0100
TZOFFSETTO:+0200
TZNAME:CEST
DTSTART:20250330T010000
END:DAYLIGHT
BEGIN:STANDARD
TZOFFSETFROM:+0200
TZOFFSETTO:+0100
TZNAME:CET
DTSTART:20251026T010000
END:STANDARD
BEGIN:DAYLIGHT
TZOFFSETFROM:+0100
TZOFFSETTO:+0200
TZNAME:CEST
DTSTART:20260329T010000
END:DAYLIGHT
BEGIN:STANDARD
TZOFFSETFROM:+0200
TZOFFSETTO:+0100
TZNAME:CET
DTSTART:20261025T010000
END:STANDARD
END:VTIMEZONE
BEGIN:VEVENT
DTSTART;TZID=Europe/Paris:20250514T093000
DTEND;TZID=Europe/Paris:20250514T113000
DTSTAMP:20260422T004856
CREATED:20250206T102049Z
LAST-MODIFIED:20250505T113757Z
UID:69231-1747215000-1747222200@villamonin.fr
SUMMARY:Menu de Sologne
DESCRIPTION:Asperges violette de Sologne en fraicheur\, salade de jeunes pousses à l’ail des ours\nSuprême de volaille du Berry cuit au foin\, carottes des sables et céleris nouveaux aux deux cuissons\nDessert des Chefs à emporter\n\nTechniques abordées \n\nPréparation et cuisson des asperges\nTechnique de cuisson basse température au foin\, présentation des 2 cuissons des légumes
URL:https://villamonin.fr/cours/menu-de-sologne-14-05-25/
CATEGORIES:Atelier Cuisine,Menu thématique - 2h
END:VEVENT
BEGIN:VEVENT
DTSTART;TZID=Europe/Paris:20250514T140000
DTEND;TZID=Europe/Paris:20250514T160000
DTSTAMP:20260422T004856
CREATED:20250206T102609Z
LAST-MODIFIED:20250505T113902Z
UID:69234-1747231200-1747238400@villamonin.fr
SUMMARY:Pâtisserie - Parent/Enfant - La Pavlova aux Fruits
DESCRIPTION:Une inscription à 69€ = un duo parent/enfant (à partir de 6 ans) – 5 places “duo” disponibles \n\nLa Pavlova aux fruits de A à Z\n\nTechniques abordées \n\nFaire sa meringue (cuite et crue)\nTechnique de la crème chantilly aromatisée\nDécoupe des fruits\n\n 
URL:https://villamonin.fr/cours/patisserie-parent-enfant-la-pavlova-aux-fruits-14-05-25/
CATEGORIES:Atelier parent/enfant
ATTACH;FMTTYPE=image/jpeg:https://villamonin.fr/wp-content/uploads/2024/03/IMG_0504.jpg
END:VEVENT
BEGIN:VEVENT
DTSTART;TZID=Europe/Paris:20250515T121500
DTEND;TZID=Europe/Paris:20250515T130000
DTSTAMP:20260422T004856
CREATED:20250206T103029Z
LAST-MODIFIED:20250505T114006Z
UID:69237-1747311300-1747314000@villamonin.fr
SUMMARY:Un Plat démo - Tapas du Sud-Ouest
DESCRIPTION:Tapas du Sud-ouest\, en chaud et froid\nDessert des Chefs à emporter\n\nTechniques abordées \n\nTechnique de garnitures\nDressage des tapas
URL:https://villamonin.fr/cours/un-plat-demo-tapas-du-sud-ouest-15-05-25/
CATEGORIES:Menu express 45min
ATTACH;FMTTYPE=image/jpeg:https://villamonin.fr/wp-content/uploads/2022/05/tapas-1.jpg
END:VEVENT
BEGIN:VEVENT
DTSTART;TZID=Europe/Paris:20250515T173000
DTEND;TZID=Europe/Paris:20250515T190000
DTSTAMP:20260422T004856
CREATED:20250225T141333Z
LAST-MODIFIED:20250225T142234Z
UID:70099-1747330200-1747335600@villamonin.fr
SUMMARY:Mixologie
DESCRIPTION:Les Créations du Bar 1912 de la VILLA MONIN \n\n 3 cocktails signature créés par nos Chefs Barmen\n\nClos des Fées\nL’Ursine\nLe Green’sh
URL:https://villamonin.fr/cours/mixologie-15-05-25/
CATEGORIES:Mixologie - 1h30
ATTACH;FMTTYPE=image/jpeg:https://villamonin.fr/wp-content/uploads/2023/07/moscowmule_paysagecRinaNURRA-bd.jpg
END:VEVENT
BEGIN:VEVENT
DTSTART;TZID=Europe/Paris:20250516T093000
DTEND;TZID=Europe/Paris:20250516T113000
DTSTAMP:20260422T004856
CREATED:20250206T103339Z
LAST-MODIFIED:20250206T103339Z
UID:69240-1747387800-1747395000@villamonin.fr
SUMMARY:Menu du Sud-Ouest
DESCRIPTION:Tapas du Sud-ouest\, en chaud et froid\nEffiloché de canard confit\, pulpe de patate douce\nDessert des Chefs à emporter\n\nTechniques abordées \n\nTechnique de garnitures\nDressage des tapas\nPréparation du canard
URL:https://villamonin.fr/cours/menu-du-sud-ouest-4/
CATEGORIES:Atelier Cuisine,Menu thématique - 2h
ATTACH;FMTTYPE=image/jpeg:https://villamonin.fr/wp-content/uploads/2022/05/tapas-1.jpg
END:VEVENT
BEGIN:VEVENT
DTSTART;TZID=Europe/Paris:20250516T173000
DTEND;TZID=Europe/Paris:20250516T190000
DTSTAMP:20260422T004856
CREATED:20250131T104157Z
LAST-MODIFIED:20250131T104157Z
UID:68838-1747416600-1747422000@villamonin.fr
SUMMARY:Mixologie
DESCRIPTION:Le Gin est devenu ces dernières années l’un des spiritueux les plus populaires auprès des consommateurs. Accompagné de notre mixologue vous apprendrez à réaliser Le London Mule\, un Gin Tonic aromatisé et le Gin Sour.
URL:https://villamonin.fr/cours/mixologie-129/
CATEGORIES:Mixologie - 1h30
ATTACH;FMTTYPE=image/jpeg:https://villamonin.fr/wp-content/uploads/2022/07/Gin.jpg
END:VEVENT
BEGIN:VEVENT
DTSTART;TZID=Europe/Paris:20250517T093000
DTEND;TZID=Europe/Paris:20250517T113000
DTSTAMP:20260422T004856
CREATED:20250206T103556Z
LAST-MODIFIED:20250206T103556Z
UID:69243-1747474200-1747481400@villamonin.fr
SUMMARY:Menu du Sud-Ouest
DESCRIPTION:Tapas du Sud-ouest\, en chaud et froid\nEffiloché de canard confit\, pulpe de patate douce\nDessert des Chefs à emporter\n\nTechniques abordées \n\nTechnique de garnitures\nDressage des tapas\nPréparation du canard
URL:https://villamonin.fr/cours/menu-du-sud-ouest-5/
CATEGORIES:Atelier Cuisine,Menu thématique - 2h
ATTACH;FMTTYPE=image/jpeg:https://villamonin.fr/wp-content/uploads/2022/05/tapas-1.jpg
END:VEVENT
BEGIN:VEVENT
DTSTART;TZID=Europe/Paris:20250517T180000
DTEND;TZID=Europe/Paris:20250517T193000
DTSTAMP:20260422T004856
CREATED:20250131T104408Z
LAST-MODIFIED:20250131T104408Z
UID:68841-1747504800-1747510200@villamonin.fr
SUMMARY:Mixologie
DESCRIPTION:Gin Vol.2\nPour ce second opus à travers l’univers du gin\, vous découvrirez comment réinterpréter 3 cocktails classiques\, le Tom Collins\, le Clover Club\, et le Red Lion en leur apportant un twist original avec un parfum MONIN.
URL:https://villamonin.fr/cours/mixologie-130/
CATEGORIES:Mixologie - 1h30
ATTACH;FMTTYPE=image/jpeg:https://villamonin.fr/wp-content/uploads/2022/07/Gin.jpg
END:VEVENT
BEGIN:VEVENT
DTSTART;TZID=Europe/Paris:20250521T093000
DTEND;TZID=Europe/Paris:20250521T110000
DTSTAMP:20260422T004856
CREATED:20250206T103935Z
LAST-MODIFIED:20250505T114310Z
UID:69246-1747819800-1747825200@villamonin.fr
SUMMARY:Pâtisserie - Millefeuilles
DESCRIPTION:Millefeuilles d’Arlette\, ganache montée chocolat blanc et fruits de saison\n\nTechnique abordée \n\nComment travailler la pâte feuilletée façon Arlette\nRéalisation de la ganache\nDécoupe des fruits
URL:https://villamonin.fr/cours/patisserie-millefeuilles-21-05-25/
CATEGORIES:Atelier Pâtisserie
ATTACH;FMTTYPE=image/jpeg:https://villamonin.fr/wp-content/uploads/2022/07/cathCdrale_robot.jpg
END:VEVENT
BEGIN:VEVENT
DTSTART;TZID=Europe/Paris:20250521T140000
DTEND;TZID=Europe/Paris:20250521T160000
DTSTAMP:20260422T004856
CREATED:20250206T104423Z
LAST-MODIFIED:20250505T114417Z
UID:69249-1747836000-1747843200@villamonin.fr
SUMMARY:Pâtisserie - Parent/Enfant - Spécial Chausson
DESCRIPTION:Une inscription à 69€ = un duo parent/enfant (à partir de 6 ans) – 5 places “duo” disponibles \nSpécial Chausson : \n\nAux pommes\nAux poires\nChocolat\n\nTechnique abordée \n\nComment travailler la pâte feuilletée façon Arlette\nRéalisation des garnitures
URL:https://villamonin.fr/cours/patisserie-parent-enfant-special-chausson-21-05-25/
CATEGORIES:Atelier parent/enfant
ATTACH;FMTTYPE=image/jpeg:https://villamonin.fr/wp-content/uploads/2022/06/Cromesquis.jpg
END:VEVENT
BEGIN:VEVENT
DTSTART;TZID=Europe/Paris:20250522T121500
DTEND;TZID=Europe/Paris:20250522T130000
DTSTAMP:20260422T004856
CREATED:20250206T104755Z
LAST-MODIFIED:20250505T114527Z
UID:69252-1747916100-1747918800@villamonin.fr
SUMMARY:Un Plat démo - Risotto aux pleurotes
DESCRIPTION:Risotto aux pleurotes\, crevettes roses et herbes fraiches\nDessert des Chefs à emporter\n\nTechniques abordées \n\nCuisson du risotto et réalisation de l’assemblage\nDressage à l’assiette
URL:https://villamonin.fr/cours/un-plat-demo-risotto-aux-pleurotes-22-05-25/
CATEGORIES:Menu express 45min
ATTACH;FMTTYPE=image/jpeg:https://villamonin.fr/wp-content/uploads/2022/06/Risotto-de-volaille.jpg
END:VEVENT
BEGIN:VEVENT
DTSTART;TZID=Europe/Paris:20250522T173000
DTEND;TZID=Europe/Paris:20250522T190000
DTSTAMP:20260422T004856
CREATED:20250225T140946Z
LAST-MODIFIED:20250225T142345Z
UID:70096-1747935000-1747940400@villamonin.fr
SUMMARY:Mixologie
DESCRIPTION:Back to Basic \n\nTrois cocktails classiques ayant comme base la vodka : Le Cosmopolitan\, Le Porn Star Martini (ou le Sex on The\nBeach) et le Moscow Mule.\nCosmopolitan : historique du cocktail new yorkais star de la série Sex & The City\, liqueur de Curaçao Triple Sec +\nsuggestion d’aromatisation\, règles d’élaboration des 3 S (Sweet Sour Strong)\, méthode au shaker\, et décor avec un\nzeste d’orange taillé (taillage du zeste ou exprimer un zeste sur le cocktail).\nPorn Star Martini : cocktail n°1 au UK\, méthode au shaker\, mise en avant du sirop de Vanille de Madagascar et Le Fruit\nPassion\, garnish avec fruit de la passion.\nAlternative 🡺 Sex on the Beach : variante des différentes recettes existantes\, mise en avant du sirop de Pêche ou Le\nFruit Pêche\, réalisation du cocktail long drink au shaker\, petit concours de garnish pour décorer le cocktail entre les\nparticipants\nMoscow Mule : le cocktail tendance du moment\, historique du lancement du Moscow Mule dans les années 50 aux\nEtats Unis\, réalisation direct au verre (mule mug)\, soit avec Rantcho Citron Vert soit avec Le Fruit Citron Vert et version\naromatisée (Le Fruit Ananas\, Mangue ou Passion) déclinaison possible avec le rhum (Rum Mule).
URL:https://villamonin.fr/cours/mixologie-22-05-25/
CATEGORIES:Mixologie - 1h30
ATTACH;FMTTYPE=image/jpeg:https://villamonin.fr/wp-content/uploads/2023/09/Pornstar.jpg
END:VEVENT
BEGIN:VEVENT
DTSTART;TZID=Europe/Paris:20250523T093000
DTEND;TZID=Europe/Paris:20250523T113000
DTSTAMP:20260422T004856
CREATED:20250206T105237Z
LAST-MODIFIED:20250206T105238Z
UID:69255-1747992600-1747999800@villamonin.fr
SUMMARY:Menu des Pouilles
DESCRIPTION:Bruschetta à la Burrata et vieux jambon\nRisotto aux pleurotes\, crevettes roses et herbes fraiches\nDessert des Chefs à emporter\n\nTechniques abordées \n\nPréparation de la Bruschetta\nCuisson du risotto et réalisation de l’assemblage\nDressage à l’assiette
URL:https://villamonin.fr/cours/menu-des-pouilles/
CATEGORIES:Atelier Cuisine,Menu thématique - 2h
ATTACH;FMTTYPE=image/jpeg:https://villamonin.fr/wp-content/uploads/2022/06/Risotto-de-volaille.jpg
END:VEVENT
BEGIN:VEVENT
DTSTART;TZID=Europe/Paris:20250523T173000
DTEND;TZID=Europe/Paris:20250523T190000
DTSTAMP:20260422T004856
CREATED:20250204T131959Z
LAST-MODIFIED:20250204T131959Z
UID:69090-1748021400-1748026800@villamonin.fr
SUMMARY:Mixologie
DESCRIPTION:Dans ce cours vous découvrirez trois cocktails emblématiques de la culture cocktail inspirés des Etats Unis :\n\nLe Mint Julep : le cocktail phare du Derby du Kentucky\, servi dans son Julep Cup\, à base de bourbon\, de menthe de bitter aromatique et de Sirop Pur Sucre de Canne.\nLe Whiskey Sour : Notre mixologue vous apprendra tout sur la famille des sours et vous dévoilera les secrets de la méthode du « Reverse Dry Shake » et du « Double Strain » afin de réaliser un cocktail parfaitement équilibré avec une onctueuse mousse de blanc d’œuf*. Vous aurez le choix de confectionner le cocktail classique original ou de le twister avec une des saveurs Le Sirop de MONIN disponible à La Cour des Chefs.\n\n*allergènes \n\nLe Bourbon Old Fashioned : le cocktail n°1 aux USA\, qui se réalise directement au verre. Vous aurez le choix de préparer la recette originale ou de la twister avec un Sirop de MONIN parmi la gamme présente à La Cour de Chefs (Popcorn\, caramel salé\, Pain d’Epices\, Sucre Muscovado…). Notre mixologue vous apprendra à décorer ce cocktail avec un zeste d’orange exprimé et taillé.\n\nLes cocktails composant ce cours ne peuvent pas être déclinés en version sans alcool.
URL:https://villamonin.fr/cours/mixologie-131/
CATEGORIES:Mixologie - 1h30
ATTACH;FMTTYPE=image/jpeg:https://villamonin.fr/wp-content/uploads/2022/06/Rhums.jpg
END:VEVENT
BEGIN:VEVENT
DTSTART;TZID=Europe/Paris:20250524T093000
DTEND;TZID=Europe/Paris:20250524T113000
DTSTAMP:20260422T004856
CREATED:20250206T105508Z
LAST-MODIFIED:20250206T105508Z
UID:69258-1748079000-1748086200@villamonin.fr
SUMMARY:Menu des Pouilles
DESCRIPTION:Bruschetta à la Burrata et vieux jambon\nRisotto aux pleurotes\, crevettes roses et herbes fraiches\nDessert des Chefs à emporter\n\nTechniques abordées \n\nPréparation de la Bruschetta\nCuisson du risotto et réalisation de l’assemblage\nDressage à l’assiette
URL:https://villamonin.fr/cours/menu-des-pouilles-2/
CATEGORIES:Atelier Cuisine,Menu thématique - 2h
ATTACH;FMTTYPE=image/jpeg:https://villamonin.fr/wp-content/uploads/2022/06/Risotto-de-volaille.jpg
END:VEVENT
BEGIN:VEVENT
DTSTART;TZID=Europe/Paris:20250524T180000
DTEND;TZID=Europe/Paris:20250524T193000
DTSTAMP:20260422T004856
CREATED:20250204T132237Z
LAST-MODIFIED:20250204T132237Z
UID:69096-1748109600-1748115000@villamonin.fr
SUMMARY:Mixologie
DESCRIPTION:FRENCH SPIRITS \nFrench Spirits : Nous avons tous à la maison des bouteilles de spiritueux dans nos placards que l’on ne boit jamais parce que l’on ne sait pas comment les utiliser. Dans ce cours notre expert boissons vous enseignera à confectionner 3 cocktails classiques revisités avec des eaux de vie françaises comme le Cognac ou le Calvados\, car oui cela ne sert pas que de digestif et qu’on peut créer de délicieux breuvages avec !
URL:https://villamonin.fr/cours/mixologie-132/
CATEGORIES:Mixologie - 1h30
ATTACH;FMTTYPE=image/jpeg:https://villamonin.fr/wp-content/uploads/2022/05/Cinammon-Roll-Clarified-Milkpunch-splash-1.jpg
END:VEVENT
BEGIN:VEVENT
DTSTART;TZID=Europe/Paris:20250528T140000
DTEND;TZID=Europe/Paris:20250528T160000
DTSTAMP:20260422T004856
CREATED:20250206T110545Z
LAST-MODIFIED:20250206T110546Z
UID:69261-1748440800-1748448000@villamonin.fr
SUMMARY:Pâtisserie - Parent/Enfant - Spécial Desserts
DESCRIPTION:Une inscription à 69€ = un duo parent/enfant (à partir de 6 ans) – 5 places “duo” disponibles \n\nCharlotte aux fraises biscuits joconde\nIle flottante minute crème anglaise Vanille de Madagascar\n\nTechniques abordées \n\nMarinade pour les biscuits\nMousseux de fraises\nMeringue rapide
URL:https://villamonin.fr/cours/patisserie-parent-enfant-special-desserts/
CATEGORIES:Atelier parent/enfant
ATTACH;FMTTYPE=image/jpeg:https://villamonin.fr/wp-content/uploads/2025/02/Ile-flottante.jpg
END:VEVENT
BEGIN:VEVENT
DTSTART;TZID=Europe/Paris:20250529T121500
DTEND;TZID=Europe/Paris:20250529T130000
DTSTAMP:20260422T004856
CREATED:20250206T133205Z
LAST-MODIFIED:20250521T143110Z
UID:69275-1748520900-1748523600@villamonin.fr
SUMMARY:Un Plat démo - Poisson du Marché
DESCRIPTION:Poisson du Marché\, sauce vierge tiède\, crumble d’épeautre – petits légumes de saison\n\nTechniques abordées \n\nCuisson et préparation du poisson\nTechnique de la sauce vierge\nDressage à l’assiette
URL:https://villamonin.fr/cours/un-plat-demo-poisson-du-marche-29-05-25/
CATEGORIES:Menu express 45min
ATTACH;FMTTYPE=image/jpeg:https://villamonin.fr/wp-content/uploads/2022/07/Merlu.jpg
END:VEVENT
BEGIN:VEVENT
DTSTART;TZID=Europe/Paris:20250530T093000
DTEND;TZID=Europe/Paris:20250530T113000
DTSTAMP:20260422T004856
CREATED:20250206T133509Z
LAST-MODIFIED:20250521T143254Z
UID:69278-1748597400-1748604600@villamonin.fr
SUMMARY:Menu du Marché
DESCRIPTION:Gaspacho de petits pois\, chèvre Chavignol et menthe fraiche\nPoisson du Marché\, sauce vierge tiède\, crumble d’épeautre – petits légumes de saison\nDessert du Chef à emporter\n\nTechniques abordées \n\nPréparation du gaspacho\nCuisson et préparation du poisson\nTechnique de la sauce vierge\nDressage à l’assiette
URL:https://villamonin.fr/cours/menu-du-marche-30-05-25/
CATEGORIES:Atelier Cuisine,Menu thématique - 2h
ATTACH;FMTTYPE=image/jpeg:https://villamonin.fr/wp-content/uploads/2022/07/Merlu.jpg
END:VEVENT
BEGIN:VEVENT
DTSTART;TZID=Europe/Paris:20250530T173000
DTEND;TZID=Europe/Paris:20250530T190000
DTSTAMP:20260422T004856
CREATED:20250204T133222Z
LAST-MODIFIED:20250204T133223Z
UID:69102-1748626200-1748631600@villamonin.fr
SUMMARY:Mixologie
DESCRIPTION:Trois cocktails emblématique de la culture Latino : la Margarita\, la Caïpirinha\, le Pisco Sour\n\nMargarita : cocktail national du Mexique\, historique du cocktail\, qu’est ce que la téquila\, règles des 3 S\, méthode d’élaboration au shaker\, verre à margarita givré au sel\, décor avec tranche de citron vert cannelée\, liqueur de Curaçao Triple Sec MONIN\, version frozen au blender aromatisée avec Le Fruit Fraise ou Passion.\nCaïpirinha : le cocktail national du Brésil\, qu’est ce que la cachaça\, méthode au pilon + glace pilée\, recette classique\, sirop Pour Sucre de Canne Blanc ou Roux ou aromatisée avec Le Fruit Ananas ou Mangue\nPisco Sour : le cocktail national du Chili/Pérou\, qu’est ce que le Pisco\, réalisation au shaker avec la méthode du dry shake/reverse dry shake pour obtenir une mousse parfaite\, double strain\, décor sur la mousse du cocktail\, version classique avec Pur Sucre de Canne ou version aromatisée avec sirop Spicy Mango\, Pumpkin Spice ou Mandarine.
URL:https://villamonin.fr/cours/mixologie-133/
CATEGORIES:Mixologie - 1h30
ATTACH;FMTTYPE=image/jpeg:https://villamonin.fr/wp-content/uploads/2025/02/Monin-acerola-ginsour.jpg
END:VEVENT
BEGIN:VEVENT
DTSTART;TZID=Europe/Paris:20250531T093000
DTEND;TZID=Europe/Paris:20250531T113000
DTSTAMP:20260422T004856
CREATED:20250206T133731Z
LAST-MODIFIED:20250206T133732Z
UID:69281-1748683800-1748691000@villamonin.fr
SUMMARY:Menu du Marché
DESCRIPTION:Gaspacho de petits pois\, chèvre Chavignol et menthe fraiche\nPoisson du Marché\, sauce vierge tiède\, crumble d’épeautre – petits légumes de saison\nDessert du Chef à emporter\n\nTechniques abordées \n\nPréparation du gaspacho\nCuisson et préparation du poisson\nTechnique de la sauce vierge\nDressage à l’assiette
URL:https://villamonin.fr/cours/menu-du-marche-4/
CATEGORIES:Atelier Cuisine,Menu thématique - 2h
ATTACH;FMTTYPE=image/jpeg:https://villamonin.fr/wp-content/uploads/2022/07/Merlu.jpg
END:VEVENT
BEGIN:VEVENT
DTSTART;TZID=Europe/Paris:20250531T180000
DTEND;TZID=Europe/Paris:20250531T193000
DTSTAMP:20260422T004856
CREATED:20250204T133932Z
LAST-MODIFIED:20250204T133932Z
UID:69106-1748714400-1748719800@villamonin.fr
SUMMARY:Mixologie
DESCRIPTION:LATINO VOL 2 \n\nAprès le succès du 1er cours autour de la culture latino\, vous apprendrez à réaliser 3 autres cocktails emblématiques classiques et revisités : la Tequila Sunrise\, le Paloma\, et la Batida.\n\n\nLa Tequila Sunrise : re découvrez notre version moderne de ce cocktail. Une explosion de couleurs et de saveurs.\nLe Paloma : un cocktail mexicain qui marie la fraîcheur de la tequila à l’acidité pétillante des agrumes. Une boisson légère et désaltérante.\nLa Batida : un cocktail crémeux à base de cachaça qui vous transportera sous les tropiques.\n\nDes techniques simples et des astuces vous seront partagées pour maîtriser ces classiques intemporels
URL:https://villamonin.fr/cours/mixologie-134/
CATEGORIES:Mixologie - 1h30
ATTACH;FMTTYPE=image/jpeg:https://villamonin.fr/wp-content/uploads/2025/02/Monin-acerola-ginsour.jpg
END:VEVENT
BEGIN:VEVENT
DTSTART;TZID=Europe/Paris:20250604T093000
DTEND;TZID=Europe/Paris:20250604T113000
DTSTAMP:20260422T004856
CREATED:20250327T124607Z
LAST-MODIFIED:20250527T081103Z
UID:71091-1749029400-1749036600@villamonin.fr
SUMMARY:Menu Pâtes fraiches italiennes
DESCRIPTION:Ravioles d’épinards et ricotta aux herbes\nTagliatelles sauce Gorgonzola\, sauce Légumes du Sud\nDessert du Chef à emporter\n\nTechniques abordées: \n\nRéalisation de la pâte fraiche et manipulation technique\nTechnique de coloration naturelle\nLes différentes farces et sauces
URL:https://villamonin.fr/cours/menu-pates-fraiches-italiennes-04-06-25/
CATEGORIES:Atelier Cuisine,Menu thématique - 2h
ATTACH;FMTTYPE=image/jpeg:https://villamonin.fr/wp-content/uploads/2022/07/Linguine-au-pesto.jpg
END:VEVENT
BEGIN:VEVENT
DTSTART;TZID=Europe/Paris:20250604T140000
DTEND;TZID=Europe/Paris:20250604T160000
DTSTAMP:20260422T004856
CREATED:20250327T125818Z
LAST-MODIFIED:20250527T081434Z
UID:71094-1749045600-1749052800@villamonin.fr
SUMMARY:Pâtisserie - Parents/enfants - Spécial Pavlova
DESCRIPTION:Une inscription à 69€ = un duo parent/enfant (à partir de 6 ans) – 5 places “duo” disponibles \n\nSpécial Pavlova – fruits\n\nTechniques abordées : \n\nRéalisation de la meringue\nDécoupe des fruits\nRéalisation de la chantilly
URL:https://villamonin.fr/cours/patisserie-parents-enfants-special-pavlova-04-06-25/
CATEGORIES:Atelier parent/enfant
ATTACH;FMTTYPE=image/jpeg:https://villamonin.fr/wp-content/uploads/2024/03/IMG_0504.jpg
END:VEVENT
BEGIN:VEVENT
DTSTART;TZID=Europe/Paris:20250606T093000
DTEND;TZID=Europe/Paris:20250606T113000
DTSTAMP:20260422T004856
CREATED:20250327T140530Z
LAST-MODIFIED:20250527T081648Z
UID:71097-1749202200-1749209400@villamonin.fr
SUMMARY:Menu Pâtes fraîches italiennes
DESCRIPTION:Ravioles d’épinards et ricotta aux herbes\nTagliatelles sauce Gorgonzola\, sauce Légumes du Sud\nDessert du Chef à emporter\n\nTechniques abordées :  \n\nRéalisation de la pâte fraiche et manipulation technique\nTechnique de coloration naturelle\nLes différentes farces et sauces
URL:https://villamonin.fr/cours/menu-pates-fraiches-italiennes-06-06-25/
CATEGORIES:Atelier Cuisine,Menu thématique - 2h
ATTACH;FMTTYPE=image/jpeg:https://villamonin.fr/wp-content/uploads/2022/07/Linguine-au-pesto.jpg
END:VEVENT
BEGIN:VEVENT
DTSTART;TZID=Europe/Paris:20250606T170000
DTEND;TZID=Europe/Paris:20250606T183000
DTSTAMP:20260422T004856
CREATED:20250325T094648Z
LAST-MODIFIED:20250505T115634Z
UID:71002-1749229200-1749234600@villamonin.fr
SUMMARY:Pâtisserie - Spécial Macarons
DESCRIPTION:L’équipe de Chefs présente ses Macarons et ses astuces de réussite \nTechniques abordées \n\nComment faire la meringue au sirop\nLe dosage sucre/poudre d’amandes\nLe macaronage\nApprentissage du dosage en poche\nL’utilisation des colorants naturels\nLa cuisson\nLes garnitures faciles et gourmandes
URL:https://villamonin.fr/cours/patisserie-special-macarons-06-06-25/
CATEGORIES:Atelier Pâtisserie
ATTACH;FMTTYPE=image/jpeg:https://villamonin.fr/wp-content/uploads/2023/10/HILG7664.jpg
END:VEVENT
BEGIN:VEVENT
DTSTART;TZID=Europe/Paris:20250607T093000
DTEND;TZID=Europe/Paris:20250607T110000
DTSTAMP:20260422T004856
CREATED:20250325T095005Z
LAST-MODIFIED:20250505T115737Z
UID:71005-1749288600-1749294000@villamonin.fr
SUMMARY:Pâtisserie - Spécial Macarons
DESCRIPTION:L’équipe de Chefs présente ses Macarons et ses astuces de réussite \nTechniques abordées \n\nComment faire la meringue au sirop\nLe dosage sucre/poudre d’amandes\nLe macaronage\nApprentissage du dosage en poche\nL’utilisation des colorants naturels\nLa cuisson\nLes garnitures faciles et gourmandes
URL:https://villamonin.fr/cours/patisserie-special-macarons-07-06-25/
CATEGORIES:Atelier Pâtisserie
ATTACH;FMTTYPE=image/jpeg:https://villamonin.fr/wp-content/uploads/2022/11/IMG_0602.jpg
END:VEVENT
BEGIN:VEVENT
DTSTART;TZID=Europe/Paris:20250607T180000
DTEND;TZID=Europe/Paris:20250607T193000
DTSTAMP:20260422T004856
CREATED:20250402T071620Z
LAST-MODIFIED:20250604T122858Z
UID:71309-1749319200-1749324600@villamonin.fr
SUMMARY:Mixologie
DESCRIPTION:Techniques abordées \n\nBack to Basic Vol.2 Pour ce deuxième volume\, notre expert boisson vous apprendra à réaliser trois cocktails emblématiques\, Le Blue Lagoon\, le Sex On The Beach\, et l’Expresso Martini. Vous découvrirez l’origine et l’histoire de leur création et les variantes de ces grands classiques.
URL:https://villamonin.fr/cours/mixologie-07-06-25/
CATEGORIES:Mixologie - 1h30
ATTACH;FMTTYPE=image/jpeg:https://villamonin.fr/wp-content/uploads/2023/12/Ruby-k-ube-Sour.jpg
END:VEVENT
BEGIN:VEVENT
DTSTART;TZID=Europe/Paris:20250611T093000
DTEND;TZID=Europe/Paris:20250611T113000
DTSTAMP:20260422T004856
CREATED:20250327T103147Z
LAST-MODIFIED:20250527T081806Z
UID:71083-1749634200-1749641400@villamonin.fr
SUMMARY:Menu Terre et Mer
DESCRIPTION:Tartare de melon et concombre\, vieux jambon et œuf parfait\nFilet de canette basse température\, cerises et fenouil au sésame\nDessert des Chefs à emporter\n\nTechniques abordées \n\nDécoupe des fruits et légumes\nPréparation et cuisson du filet de canette\nDressage à l’assiette
URL:https://villamonin.fr/cours/menu-terre-et-mer-11-06-25/
CATEGORIES:Atelier Cuisine,Menu thématique - 2h
ATTACH;FMTTYPE=image/jpeg:https://villamonin.fr/wp-content/uploads/2023/02/Magret.jpg
END:VEVENT
BEGIN:VEVENT
DTSTART;TZID=Europe/Paris:20250611T140000
DTEND;TZID=Europe/Paris:20250611T160000
DTSTAMP:20260422T004856
CREATED:20250327T103806Z
LAST-MODIFIED:20250404T123229Z
UID:71087-1749650400-1749657600@villamonin.fr
SUMMARY:Pâtisserie - Parents/enfants
DESCRIPTION:Une inscription à 69€ = un duo parents/enfants (à partir de 6 ans) \n5 places « duo » disponibles \nSpécial Chocolat \n\nFondant\nMousses\nMi-cuit\n\nTechniques abordées : \n\nTechniques de cuisson (temps\, température\, niveau)\nDifférents moules à utiliser
URL:https://villamonin.fr/cours/patisserie-parents-enfants-11-06-25/
CATEGORIES:Atelier parent/enfant
ATTACH;FMTTYPE=image/webp:https://villamonin.fr/wp-content/uploads/2022/12/chocolat-300x300-1.webp
END:VEVENT
END:VCALENDAR