BEGIN:VCALENDAR
VERSION:2.0
PRODID:-//Villa MONIN - ECPv6.15.17//NONSGML v1.0//EN
CALSCALE:GREGORIAN
METHOD:PUBLISH
X-ORIGINAL-URL:https://villamonin.fr
X-WR-CALDESC:Évènements pour Villa MONIN
REFRESH-INTERVAL;VALUE=DURATION:PT1H
X-Robots-Tag:noindex
X-PUBLISHED-TTL:PT1H
BEGIN:VTIMEZONE
TZID:Europe/Paris
BEGIN:DAYLIGHT
TZOFFSETFROM:+0100
TZOFFSETTO:+0200
TZNAME:CEST
DTSTART:20240331T010000
END:DAYLIGHT
BEGIN:STANDARD
TZOFFSETFROM:+0200
TZOFFSETTO:+0100
TZNAME:CET
DTSTART:20241027T010000
END:STANDARD
BEGIN:DAYLIGHT
TZOFFSETFROM:+0100
TZOFFSETTO:+0200
TZNAME:CEST
DTSTART:20250330T010000
END:DAYLIGHT
BEGIN:STANDARD
TZOFFSETFROM:+0200
TZOFFSETTO:+0100
TZNAME:CET
DTSTART:20251026T010000
END:STANDARD
BEGIN:DAYLIGHT
TZOFFSETFROM:+0100
TZOFFSETTO:+0200
TZNAME:CEST
DTSTART:20260329T010000
END:DAYLIGHT
BEGIN:STANDARD
TZOFFSETFROM:+0200
TZOFFSETTO:+0100
TZNAME:CET
DTSTART:20261025T010000
END:STANDARD
END:VTIMEZONE
BEGIN:VEVENT
DTSTART;TZID=Europe/Paris:20250131T121500
DTEND;TZID=Europe/Paris:20250131T130000
DTSTAMP:20260421T180849
CREATED:20241108T144317Z
LAST-MODIFIED:20241108T144317Z
UID:63494-1738325700-1738328400@villamonin.fr
SUMMARY:Un Plat démo - La soupe Tom kha gai
DESCRIPTION:La soupe Tom kha gai\, bouillon de poulet épicé\, au lait de coco\, au citron vert\, à la citronnelle\, et blancs de poulet pochés\nDessert à emporter\n\nTechniques abordées \n\nTechnique de la soupe Thaï\nPochage du poulet
URL:https://villamonin.fr/cours/un-plat-demo-la-soupe-tom-kha-gai-2/
CATEGORIES:Menu express 45min
ATTACH;FMTTYPE=image/jpeg:https://villamonin.fr/wp-content/uploads/2022/07/Soupe-miso-aux-champignons.jpg
END:VEVENT
BEGIN:VEVENT
DTSTART;TZID=Europe/Paris:20250131T173000
DTEND;TZID=Europe/Paris:20250131T190000
DTSTAMP:20260421T180849
CREATED:20241108T095549Z
LAST-MODIFIED:20241108T095549Z
UID:63429-1738344600-1738350000@villamonin.fr
SUMMARY:Mixologie
DESCRIPTION:Le Gin est devenu ces dernières années l’un des spiritueux les plus populaires auprès des consommateurs. Accompagné de notre mixologue vous apprendrez à réaliser Le London Mule\, un Gin Tonic aromatisé et le Gin Sour.
URL:https://villamonin.fr/cours/mixologie-108/
CATEGORIES:Mixologie - 1h30
ATTACH;FMTTYPE=image/jpeg:https://villamonin.fr/wp-content/uploads/2022/07/Gin.jpg
END:VEVENT
BEGIN:VEVENT
DTSTART;TZID=Europe/Paris:20250201T093000
DTEND;TZID=Europe/Paris:20250201T113000
DTSTAMP:20260421T180849
CREATED:20241112T092840Z
LAST-MODIFIED:20241112T092840Z
UID:63598-1738402200-1738409400@villamonin.fr
SUMMARY:Menu Thaï
DESCRIPTION:Tartare de gambas\, vinaigrette exotique\nLa soupe Tom kha gai\, bouillon de poulet épicé\, au lait de coco\, au citron vert\, à la citronnelle\, et blancs de poulet pochés\nDessert du Chef à emporter\n\nTechniques abordées \n\nPréparation et découpe des gambas\nCuisson par pochage du poulet\nTechnique de la soupe Thaï\nUtilisation de pâte de curry rouge
URL:https://villamonin.fr/cours/menu-thai-8/
CATEGORIES:Atelier Cuisine,Menu thématique - 2h
ATTACH;FMTTYPE=image/jpeg:https://villamonin.fr/wp-content/uploads/2022/07/Soupe-miso-aux-champignons.jpg
END:VEVENT
BEGIN:VEVENT
DTSTART;TZID=Europe/Paris:20250201T180000
DTEND;TZID=Europe/Paris:20250201T193000
DTSTAMP:20260421T180849
CREATED:20241108T095834Z
LAST-MODIFIED:20241108T095834Z
UID:63432-1738432800-1738438200@villamonin.fr
SUMMARY:Mixologie
DESCRIPTION:Gin Vol.2\nPour ce second opus à travers l’univers du gin\, vous découvrirez comment réinterpréter 3 cocktails classiques\, le Tom Collins\, le Clover Club\, et le Red Lion en leur apportant un twist original avec un parfum MONIN.
URL:https://villamonin.fr/cours/mixologie-109/
CATEGORIES:Mixologie - 1h30
ATTACH;FMTTYPE=image/jpeg:https://villamonin.fr/wp-content/uploads/2022/07/Gin.jpg
END:VEVENT
BEGIN:VEVENT
DTSTART;TZID=Europe/Paris:20250205T093000
DTEND;TZID=Europe/Paris:20250205T113000
DTSTAMP:20260421T180849
CREATED:20241120T104541Z
LAST-MODIFIED:20241121T075028Z
UID:63991-1738747800-1738755000@villamonin.fr
SUMMARY:Menu autour du Thon
DESCRIPTION:Tartare et carpaccio\, oignons rouges\, cébette et jus de citron de Sicile\nTataki sésame et soja\, chou chinois braisé au miel de l’Orée du bois\nDessert des Chefs à emporter\n\nTechniques abordées \n\nDifférentes découpes du Thon\nTechnique de cuisson du Tataki\nCuisson des garnitures
URL:https://villamonin.fr/cours/menu-autour-du-thon-05-02-25/
CATEGORIES:Atelier Cuisine,Menu thématique - 2h
ATTACH;FMTTYPE=image/jpeg:https://villamonin.fr/wp-content/uploads/2024/11/Tataki-de-saumon.jpg
END:VEVENT
BEGIN:VEVENT
DTSTART;TZID=Europe/Paris:20250205T140000
DTEND;TZID=Europe/Paris:20250205T160000
DTSTAMP:20260421T180849
CREATED:20241120T143148Z
LAST-MODIFIED:20250129T152756Z
UID:64012-1738764000-1738771200@villamonin.fr
SUMMARY:Pâtisserie Parent/Enfant - Spécial Crêpes et Gâteaux
DESCRIPTION:Une inscription à 69€ = un duo parent/enfant (à partir de 6 ans) – 5 places “duo” disponibles \n\nCrêpes de la Chandeleur\nDesserts à base de crêpes\n\nTechnique abordée \n\nRéalisation de la pâte à crêpes\nRéalisation de la garniture
URL:https://villamonin.fr/cours/patisserie-parent-enfant-special-crepes-et-gateaux-05-02-25/
CATEGORIES:Atelier parent/enfant
END:VEVENT
BEGIN:VEVENT
DTSTART;TZID=Europe/Paris:20250206T121500
DTEND;TZID=Europe/Paris:20250206T130000
DTSTAMP:20260421T180849
CREATED:20241120T105326Z
LAST-MODIFIED:20241121T075113Z
UID:63997-1738844100-1738846800@villamonin.fr
SUMMARY:Un Plat démo - Tataki de Thon
DESCRIPTION:Tataki de Thon sésame et soja\, chou chinois braisé au miel de l’Orée du bois\nDessert du Chef à emporter\n\nTechniques abordées \n\nTechnique de cuisson du Tataki\nCuisson des garnitures
URL:https://villamonin.fr/cours/un-plat-demo-tataki-de-thon-06-02-25/
CATEGORIES:Menu express 45min
ATTACH;FMTTYPE=image/jpeg:https://villamonin.fr/wp-content/uploads/2024/11/Tataki-de-saumon.jpg
END:VEVENT
BEGIN:VEVENT
DTSTART;TZID=Europe/Paris:20250206T173000
DTEND;TZID=Europe/Paris:20250206T190000
DTSTAMP:20260421T180849
CREATED:20241218T151110Z
LAST-MODIFIED:20250108T101252Z
UID:66323-1738863000-1738868400@villamonin.fr
SUMMARY:Mixologie
DESCRIPTION:Techniques abordées \n\nRhum Vol.2\nPlongez dans l’univers fascinant de ce spiritueux emblématique grâce à ce troisième volume et apprenez à confectionner des cocktails surprenants et délicieux qui raviront vos papilles.
URL:https://villamonin.fr/cours/mixologie-06-02-25/
CATEGORIES:Mixologie - 1h30
ATTACH;FMTTYPE=image/jpeg:https://villamonin.fr/wp-content/uploads/2023/09/Pornstar.jpg
END:VEVENT
BEGIN:VEVENT
DTSTART;TZID=Europe/Paris:20250207T093000
DTEND;TZID=Europe/Paris:20250207T113000
DTSTAMP:20260421T180849
CREATED:20241120T104850Z
LAST-MODIFIED:20241121T075152Z
UID:63994-1738920600-1738927800@villamonin.fr
SUMMARY:Menu autour du Thon
DESCRIPTION:Tartare et carpaccio\, oignons rouges\, cébette et jus de citron de Sicile\nTataki sésame et soja\, chou chinois braisé au miel de l’Orée du bois\nDessert des Chefs à emporter\n\nTechniques abordées \n\nDifférentes découpes du Thon\nTechnique de cuisson du Tataki\nCuisson des garnitures
URL:https://villamonin.fr/cours/menu-autour-du-thon-07-02-25/
CATEGORIES:Atelier Cuisine,Menu thématique - 2h
ATTACH;FMTTYPE=image/jpeg:https://villamonin.fr/wp-content/uploads/2024/11/Tataki-de-saumon.jpg
END:VEVENT
BEGIN:VEVENT
DTSTART;TZID=Europe/Paris:20250207T173000
DTEND;TZID=Europe/Paris:20250207T190000
DTSTAMP:20260421T180849
CREATED:20241120T143725Z
LAST-MODIFIED:20241120T143839Z
UID:64016-1738949400-1738954800@villamonin.fr
SUMMARY:Pâtisserie - Spécial Macarons St Valentin
DESCRIPTION:  \nL’équipe des Chefs présente ses Macarons et ses astuces de réussite \nTechniques abordées \n\nComment faire la meringue au sirop\nLe dosage sucre/poudre d’amandes\nLe macaronage\nApprentissage du dosage en poche\nL’utilisation des colorants naturels\nLa cuisson\nLes garnitures faciles et gourmandes
URL:https://villamonin.fr/cours/patisserie-special-macarons-st-valentin-07-02-25/
CATEGORIES:Atelier Pâtisserie
END:VEVENT
BEGIN:VEVENT
DTSTART;TZID=Europe/Paris:20250208T093000
DTEND;TZID=Europe/Paris:20250208T110000
DTSTAMP:20260421T180849
CREATED:20241121T080752Z
LAST-MODIFIED:20241121T080752Z
UID:64062-1739007000-1739012400@villamonin.fr
SUMMARY:Pâtisserie - Spécial Macarons St Valentin
DESCRIPTION:L’équipe des Chefs présente ses Macarons et ses astuces de réussite \nTechniques abordées \n\nComment faire la meringue au sirop\nLe dosage sucre/poudre d’amandes\nLe macaronage\nApprentissage du dosage en poche\nL’utilisation des colorants naturels\nLa cuisson\nLes garnitures faciles et gourmandes
URL:https://villamonin.fr/cours/patisserie-special-macarons-st-valentin-3/
CATEGORIES:Atelier Pâtisserie
END:VEVENT
BEGIN:VEVENT
DTSTART;TZID=Europe/Paris:20250208T180000
DTEND;TZID=Europe/Paris:20250208T193000
DTSTAMP:20260421T180849
CREATED:20241108T100138Z
LAST-MODIFIED:20241108T100138Z
UID:63435-1739037600-1739043000@villamonin.fr
SUMMARY:Mixologie
DESCRIPTION:FRENCH SPIRITS \nFrench Spirits : Nous avons tous à la maison des bouteilles de spiritueux dans nos placards que l’on ne boit jamais parce que l’on ne sait pas comment les utiliser. Dans ce cours notre expert boissons vous enseignera à confectionner 3 cocktails classiques revisités avec des eaux de vie françaises comme le Cognac ou le Calvados\, car oui cela ne sert pas que de digestif et qu’on peut créer de délicieux breuvages avec !
URL:https://villamonin.fr/cours/mixologie-110/
CATEGORIES:Mixologie - 1h30
ATTACH;FMTTYPE=image/jpeg:https://villamonin.fr/wp-content/uploads/2022/05/Cinammon-Roll-Clarified-Milkpunch-splash-1.jpg
END:VEVENT
BEGIN:VEVENT
DTSTART;TZID=Europe/Paris:20250212T140000
DTEND;TZID=Europe/Paris:20250212T160000
DTSTAMP:20260421T180849
CREATED:20241121T084359Z
LAST-MODIFIED:20250206T090737Z
UID:64065-1739368800-1739376000@villamonin.fr
SUMMARY:Pâtisserie - Parent/Enfant - Sablés et Tuiles
DESCRIPTION:Une inscription à 69€ = un duo parent/enfant (à partir de 6 ans) – 5 places “duo” disponibles \n\nChamallows\nSablés en Cœur\nTuiles et mousseux\n\nTechnique abordée \n\nFaire ses chamallows\nTechnique des sablés\nComment faire ses tuiles
URL:https://villamonin.fr/cours/patisserie-parent-enfant-sables-et-tuiles-12-02-25/
CATEGORIES:Atelier parent/enfant
ATTACH;FMTTYPE=image/jpeg:https://villamonin.fr/wp-content/uploads/2022/07/Tartelette-poire.jpg
END:VEVENT
BEGIN:VEVENT
DTSTART;TZID=Europe/Paris:20250213T121500
DTEND;TZID=Europe/Paris:20250213T130000
DTSTAMP:20260421T180849
CREATED:20241121T085123Z
LAST-MODIFIED:20241121T085123Z
UID:64069-1739448900-1739451600@villamonin.fr
SUMMARY:Un Plat démo - Risoni de St Jacques
DESCRIPTION:Risoni aux noix de St Jacques au crottin de Chavignol et cubes de butternut poêlés\nDessert du Chef à emporter\n\nTechniques abordées \n\nTechnique de cuisson des risonis\nCuisson du butternut\nDressage à l’assiette
URL:https://villamonin.fr/cours/un-plat-demo-risoni-de-st-jacques-2/
CATEGORIES:Menu express 45min
ATTACH;FMTTYPE=image/jpeg:https://villamonin.fr/wp-content/uploads/2022/07/St-jacques.jpg
END:VEVENT
BEGIN:VEVENT
DTSTART;TZID=Europe/Paris:20250213T173000
DTEND;TZID=Europe/Paris:20250213T190000
DTSTAMP:20260421T180849
CREATED:20241218T151401Z
LAST-MODIFIED:20250108T101205Z
UID:66326-1739467800-1739473200@villamonin.fr
SUMMARY:Mixologie
DESCRIPTION:Techniques abordées \n\nRhum Vol.2\nPlongez dans l’univers fascinant de ce spiritueux emblématique grâce à ce troisième volume et apprenez à confectionner des cocktails surprenants et délicieux qui raviront vos papilles.
URL:https://villamonin.fr/cours/mixologie-13-02-25/
CATEGORIES:Mixologie - 1h30
ATTACH;FMTTYPE=image/jpeg:https://villamonin.fr/wp-content/uploads/2023/09/Pornstar.jpg
END:VEVENT
BEGIN:VEVENT
DTSTART;TZID=Europe/Paris:20250214T093000
DTEND;TZID=Europe/Paris:20250214T113000
DTSTAMP:20260421T180849
CREATED:20241121T085604Z
LAST-MODIFIED:20241121T085604Z
UID:64072-1739525400-1739532600@villamonin.fr
SUMMARY:Menu de la Mer
DESCRIPTION:Tartare de légumes\, coques au naturel et sablé aromatique\nRisoni aux noix de St Jacques au crottin de Chavignol et cubes de butternut poêlés\nDessert des Chefs à emporter\n\nTechniques abordées \n\nPréparation du sablé aux herbes\nTechnique de cuisson des risonis\nDécoupe des légumes\nCuisson du butternut\nDressage à l’assiette
URL:https://villamonin.fr/cours/menu-de-la-mer-9/
CATEGORIES:Atelier Cuisine,Menu thématique - 2h
ATTACH;FMTTYPE=image/jpeg:https://villamonin.fr/wp-content/uploads/2022/07/St-jacques.jpg
END:VEVENT
BEGIN:VEVENT
DTSTART;TZID=Europe/Paris:20250214T173000
DTEND;TZID=Europe/Paris:20250214T190000
DTSTAMP:20260421T180849
CREATED:20241121T144111Z
LAST-MODIFIED:20241121T144111Z
UID:64102-1739554200-1739559600@villamonin.fr
SUMMARY:Mixologie
DESCRIPTION:Trois cocktails emblématique de la culture Latino : la Margarita\, la Caïpirinha\, le Pisco Sour\n\nMargarita : cocktail national du Mexique\, historique du cocktail\, qu’est ce que la téquila\, règles des 3 S\, méthode d’élaboration au shaker\, verre à margarita givré au sel\, décor avec tranche de citron vert cannelée\, liqueur de Curaçao Triple Sec MONIN\, version frozen au blender aromatisée avec Le Fruit Fraise ou Passion.\nCaïpirinha : le cocktail national du Brésil\, qu’est ce que la cachaça\, méthode au pilon + glace pilée\, recette classique\, sirop Pour Sucre de Canne Blanc ou Roux ou aromatisée avec Le Fruit Ananas ou Mangue\nPisco Sour : le cocktail national du Chili/Pérou\, qu’est ce que le Pisco\, réalisation au shaker avec la méthode du dry shake/reverse dry shake pour obtenir une mousse parfaite\, double strain\, décor sur la mousse du cocktail\, version classique avec Pur Sucre de Canne ou version aromatisée avec sirop Spicy Mango\, Pumpkin Spice ou Mandarine.
URL:https://villamonin.fr/cours/mixologie-103/
CATEGORIES:Mixologie - 1h30
ATTACH;FMTTYPE=image/jpeg:https://villamonin.fr/wp-content/uploads/2022/05/Spicy-Margarita-brush-gesture.jpg
END:VEVENT
BEGIN:VEVENT
DTSTART;TZID=Europe/Paris:20250215T093000
DTEND;TZID=Europe/Paris:20250215T113000
DTSTAMP:20260421T180849
CREATED:20241121T131532Z
LAST-MODIFIED:20241121T131533Z
UID:64087-1739611800-1739619000@villamonin.fr
SUMMARY:Menu de la Mer
DESCRIPTION:Tartare de légumes\, coques au naturel et sablé aromatique\nRisoni aux noix de St Jacques au crottin de Chavignol et cubes de butternut poêlés\nDessert des Chefs à emporter\n\nTechniques abordées \n\nPréparation du sablé aux herbes\nTechnique de cuisson des risonis\nDécoupe des légumes\nCuisson du butternut\nDressage à l’assiette
URL:https://villamonin.fr/cours/menu-de-la-mer-10/
CATEGORIES:Atelier Cuisine,Menu thématique - 2h
ATTACH;FMTTYPE=image/jpeg:https://villamonin.fr/wp-content/uploads/2022/07/St-jacques.jpg
END:VEVENT
BEGIN:VEVENT
DTSTART;TZID=Europe/Paris:20250215T180000
DTEND;TZID=Europe/Paris:20250215T193000
DTSTAMP:20260421T180849
CREATED:20241127T150540Z
LAST-MODIFIED:20241127T150640Z
UID:64485-1739642400-1739647800@villamonin.fr
SUMMARY:Mixologie
DESCRIPTION:Après le succès du 1er cours autour de la culture latino\, vous apprendrez à réaliser 3 autres cocktails emblématiques classiques et revisités : la Tequila Sunrise\, le Paloma\, et la Batida.\n\n\nLa Tequila Sunrise : re découvrez notre version moderne de ce cocktail. Une explosion de couleurs et de saveurs.\nLe Paloma : un cocktail mexicain qui marie la fraîcheur de la tequila à l’acidité pétillante des agrumes. Une boisson légère et désaltérante.\nLa Batida : un cocktail crémeux à base de cachaça qui vous transportera sous les tropiques.\n\nDes techniques simples et des astuces vous seront partagées pour maîtriser ces classiques intemporels
URL:https://villamonin.fr/cours/mixologie-15-02-25/
CATEGORIES:Mixologie - 1h30
ATTACH;FMTTYPE=image/jpeg:https://villamonin.fr/wp-content/uploads/2022/05/Spicy-Margarita-brush-gesture.jpg
END:VEVENT
BEGIN:VEVENT
DTSTART;TZID=Europe/Paris:20250219T093000
DTEND;TZID=Europe/Paris:20250219T113000
DTSTAMP:20260421T180849
CREATED:20241121T140205Z
LAST-MODIFIED:20241206T133610Z
UID:64090-1739957400-1739964600@villamonin.fr
SUMMARY:Menu Végétal
DESCRIPTION:Terrine de lentilles du Berry et champignons\,  pickles\nChou et carottes rôtis et laqués au miso\, crème de haricots blancs\nDessert des Chefs à emporter\n\nTechniques abordées \n 
URL:https://villamonin.fr/cours/menu-vegetal-19-02-25/
CATEGORIES:Atelier Cuisine,Menu thématique - 2h
ATTACH;FMTTYPE=image/jpeg:https://villamonin.fr/wp-content/uploads/2024/08/Steph-e1725368042752.jpg
END:VEVENT
BEGIN:VEVENT
DTSTART;TZID=Europe/Paris:20250219T140000
DTEND;TZID=Europe/Paris:20250219T160000
DTSTAMP:20260421T180849
CREATED:20241121T140645Z
LAST-MODIFIED:20250206T090829Z
UID:64093-1739973600-1739980800@villamonin.fr
SUMMARY:Pâtisserie- Parent/Enfant - Macarons en Fête
DESCRIPTION:Une inscription à 69€ = un duo parent/enfant (à partir de 6 ans) – 5 places “duo” disponibles \nL’équipe des Chefs présente ses Macarons et ses astuces de réussite \nTechniques abordées \n\nComment faire la meringue au sirop\nLe dosage sucre/poudre d’amandes\nLe macaronage\nApprentissage du dosage en poche\nL’utilisation des colorants naturels\nLa cuisson\nLes garnitures faciles et gourmandes
URL:https://villamonin.fr/cours/patisserie-parent-enfant-macarons-en-fete-19-02-25/
CATEGORIES:Atelier parent/enfant
END:VEVENT
BEGIN:VEVENT
DTSTART;TZID=Europe/Paris:20250220T140000
DTEND;TZID=Europe/Paris:20250220T160000
DTSTAMP:20260421T180849
CREATED:20241206T134253Z
LAST-MODIFIED:20241206T134253Z
UID:65254-1740060000-1740067200@villamonin.fr
SUMMARY:Pâtisserie - Parent/Enfant
DESCRIPTION:Une inscription à 69€ = un duo parent/enfant (à partir de 6 ans) – 5 places “duo” disponibles \n\nChamallows\nSablés en Cœur\nTuiles et mousseux\n\nTechnique abordée \n\nFaire ses chamallows\nTechnique des sablés\nComment faire ses tuiles
URL:https://villamonin.fr/cours/patisserie-parent-enfant-4/
CATEGORIES:Atelier parent/enfant
ATTACH;FMTTYPE=image/jpeg:https://villamonin.fr/wp-content/uploads/2022/07/Tartelette-poire.jpg
END:VEVENT
BEGIN:VEVENT
DTSTART;TZID=Europe/Paris:20250221T093000
DTEND;TZID=Europe/Paris:20250221T113000
DTSTAMP:20260421T180849
CREATED:20241206T135243Z
LAST-MODIFIED:20241206T135244Z
UID:65258-1740130200-1740137400@villamonin.fr
SUMMARY:Menu Terroir et Mer
DESCRIPTION:Carpaccio de truite fumée\, vinaigrette de concombre et gel de citron\nGrenadin de veau aux crevettes roses\, pommes de terre Anna\nDessert du Chef à emporter\n\nTechniques abordées \n\nDécoupe de la truite en carpaccio\nPréparation de l’assaisonnement\nPréparation de la pomme de terre anna\nCuisson du veau\nDressage à l’assiette
URL:https://villamonin.fr/cours/menu-terroir-et-mer/
CATEGORIES:Atelier Cuisine,Menu thématique - 2h
ATTACH;FMTTYPE=image/jpeg:https://villamonin.fr/wp-content/uploads/2022/06/Pageot.jpg
END:VEVENT
BEGIN:VEVENT
DTSTART;TZID=Europe/Paris:20250221T173000
DTEND;TZID=Europe/Paris:20250221T190000
DTSTAMP:20260421T180849
CREATED:20241127T152115Z
LAST-MODIFIED:20241127T152115Z
UID:64491-1740159000-1740164400@villamonin.fr
SUMMARY:Mixologie
DESCRIPTION:Trois cocktails classiques ayant comme base la vodka : Le Cosmopolitan\, Le Porn Star Martini (ou le Sex on The\nBeach) et le Moscow Mule.\nCosmopolitan : historique du cocktail new yorkais star de la série Sex & The City\, liqueur de Curaçao Triple Sec +\nsuggestion d’aromatisation\, règles d’élaboration des 3 S (Sweet Sour Strong)\, méthode au shaker\, et décor avec un\nzeste d’orange taillé (taillage du zeste ou exprimer un zeste sur le cocktail).\nPorn Star Martini : cocktail n°1 au UK\, méthode au shaker\, mise en avant du sirop de Vanille de Madagascar et Le Fruit\nPassion\, garnish avec fruit de la passion.\nAlternative 🡺 Sex on the Beach : variante des différentes recettes existantes\, mise en avant du sirop de Pêche ou Le\nFruit Pêche\, réalisation du cocktail long drink au shaker\, petit concours de garnish pour décorer le cocktail entre les\nparticipants\nMoscow Mule : le cocktail tendance du moment\, historique du lancement du Moscow Mule dans les années 50 aux\nEtats Unis\, réalisation direct au verre (mule mug)\, soit avec Rantcho Citron Vert soit avec Le Fruit Citron Vert et version\naromatisée (Le Fruit Ananas\, Mangue ou Passion) déclinaison possible avec le rhum (Rum Mule).
URL:https://villamonin.fr/cours/mixologie-99/
CATEGORIES:Mixologie - 1h30
ATTACH;FMTTYPE=image/jpeg:https://villamonin.fr/wp-content/uploads/2023/09/Pornstar.jpg
END:VEVENT
BEGIN:VEVENT
DTSTART;TZID=Europe/Paris:20250222T093000
DTEND;TZID=Europe/Paris:20250222T113000
DTSTAMP:20260421T180849
CREATED:20241206T140223Z
LAST-MODIFIED:20241206T140224Z
UID:65261-1740216600-1740223800@villamonin.fr
SUMMARY:Menu Terroir et Mer
DESCRIPTION:Carpaccio de truite fumée\, vinaigrette de concombre et gel de citron\nGrenadin de veau aux crevettes roses\, pommes de terre Anna\nDessert du Chef à emporter\n\nTechniques abordées \n\nDécoupe de la truite en carpaccio\nPréparation de l’assaisonnement\nPréparation de la pomme de terre anna\nCuisson du veau\nDressage à l’assiette
URL:https://villamonin.fr/cours/menu-terroir-et-mer-2/
CATEGORIES:Atelier Cuisine,Menu thématique - 2h
ATTACH;FMTTYPE=image/jpeg:https://villamonin.fr/wp-content/uploads/2022/06/Pageot.jpg
END:VEVENT
BEGIN:VEVENT
DTSTART;TZID=Europe/Paris:20250222T180000
DTEND;TZID=Europe/Paris:20250222T193000
DTSTAMP:20260421T180849
CREATED:20241127T151517Z
LAST-MODIFIED:20241127T151605Z
UID:64488-1740247200-1740252600@villamonin.fr
SUMMARY:Mixologie
DESCRIPTION:Techniques abordées \n\nBack to Basic Vol.2 Pour ce deuxième volume\, notre expert boisson vous apprendra à réaliser trois cocktails emblématiques\, Le Blue Lagoon\, le Sex On The Beach\, et l’Expresso Martini. Vous découvrirez l’origine et l’histoire de leur création et les variantes de ces grands classiques.
URL:https://villamonin.fr/cours/mixologie-21-02-25/
CATEGORIES:Mixologie - 1h30
ATTACH;FMTTYPE=image/jpeg:https://villamonin.fr/wp-content/uploads/2023/12/Ruby-k-ube-Sour.jpg
END:VEVENT
BEGIN:VEVENT
DTSTART;TZID=Europe/Paris:20250226T093000
DTEND;TZID=Europe/Paris:20250226T113000
DTSTAMP:20260421T180849
CREATED:20241206T140743Z
LAST-MODIFIED:20241206T141214Z
UID:65264-1740562200-1740569400@villamonin.fr
SUMMARY:Pâtisserie Parent/Enfant - Spécial sablés
DESCRIPTION:Une inscription à 69€ = un duo parent/enfant (à partir de 6 ans) – 5 places “duo” disponibles \nLes sablés : \n\nMikado\nEscargot\nVitraux
URL:https://villamonin.fr/cours/patisserie-parent-enfant-special-sables-26-02-25/
CATEGORIES:Atelier parent/enfant
ATTACH;FMTTYPE=image/jpeg:https://villamonin.fr/wp-content/uploads/2022/07/Eclair-et-choux-à-la-crème.jpg
END:VEVENT
BEGIN:VEVENT
DTSTART;TZID=Europe/Paris:20250226T140000
DTEND;TZID=Europe/Paris:20250226T160000
DTSTAMP:20260421T180849
CREATED:20241206T141059Z
LAST-MODIFIED:20250206T090916Z
UID:65267-1740578400-1740585600@villamonin.fr
SUMMARY:Pâtisserie Parent/Enfant - Spécial sablés
DESCRIPTION:Une inscription à 69€ = un duo parent/enfant (à partir de 6 ans) – 5 places “duo” disponibles \nLes sablés : \n\nMikado\nEscargot\nVitraux
URL:https://villamonin.fr/cours/patisserie-parent-enfant-special-sables-26-02-25-2/
CATEGORIES:Atelier parent/enfant
ATTACH;FMTTYPE=image/jpeg:https://villamonin.fr/wp-content/uploads/2022/07/Eclair-et-choux-à-la-crème.jpg
END:VEVENT
BEGIN:VEVENT
DTSTART;TZID=Europe/Paris:20250227T121500
DTEND;TZID=Europe/Paris:20250227T130000
DTSTAMP:20260421T180849
CREATED:20241206T142139Z
LAST-MODIFIED:20241206T142140Z
UID:65270-1740658500-1740661200@villamonin.fr
SUMMARY:Un Plat démo- Bœuf à la Wellington
DESCRIPTION:Bœuf à la Wellington\nDessert du Chef à emporter\n\nTechniques abordées \n\nTechnique de cuisson du bœuf en croute feuilletée\nCuisson des garnitures
URL:https://villamonin.fr/cours/un-plat-demo-boeuf-a-la-wellington/
CATEGORIES:Menu express 45min
END:VEVENT
BEGIN:VEVENT
DTSTART;TZID=Europe/Paris:20250228T093000
DTEND;TZID=Europe/Paris:20250228T113000
DTSTAMP:20260421T180849
CREATED:20241206T142545Z
LAST-MODIFIED:20241206T142545Z
UID:65274-1740735000-1740742200@villamonin.fr
SUMMARY:Menu autour du Bœuf
DESCRIPTION:Tartare et carpaccio\nBœuf à la Wellington\, chou chinois au miel\nDessert du Chef à emporter\n\nTechniques abordées \n\nDécoupe et Assaisonnement du bœuf\nTechnique de cuisson du bœuf en croute feuilletée\nCuisson des garnitures
URL:https://villamonin.fr/cours/menu-autour-du-boeuf/
CATEGORIES:Atelier Cuisine,Menu thématique - 2h
END:VEVENT
END:VCALENDAR