BEGIN:VCALENDAR
VERSION:2.0
PRODID:-//Villa MONIN - ECPv6.15.17//NONSGML v1.0//EN
CALSCALE:GREGORIAN
METHOD:PUBLISH
X-WR-CALNAME:Villa MONIN
X-ORIGINAL-URL:https://villamonin.fr
X-WR-CALDESC:Évènements pour Villa MONIN
REFRESH-INTERVAL;VALUE=DURATION:PT1H
X-Robots-Tag:noindex
X-PUBLISHED-TTL:PT1H
BEGIN:VTIMEZONE
TZID:Europe/Paris
BEGIN:DAYLIGHT
TZOFFSETFROM:+0100
TZOFFSETTO:+0200
TZNAME:CEST
DTSTART:20230326T010000
END:DAYLIGHT
BEGIN:STANDARD
TZOFFSETFROM:+0200
TZOFFSETTO:+0100
TZNAME:CET
DTSTART:20231029T010000
END:STANDARD
BEGIN:DAYLIGHT
TZOFFSETFROM:+0100
TZOFFSETTO:+0200
TZNAME:CEST
DTSTART:20240331T010000
END:DAYLIGHT
BEGIN:STANDARD
TZOFFSETFROM:+0200
TZOFFSETTO:+0100
TZNAME:CET
DTSTART:20241027T010000
END:STANDARD
BEGIN:DAYLIGHT
TZOFFSETFROM:+0100
TZOFFSETTO:+0200
TZNAME:CEST
DTSTART:20250330T010000
END:DAYLIGHT
BEGIN:STANDARD
TZOFFSETFROM:+0200
TZOFFSETTO:+0100
TZNAME:CET
DTSTART:20251026T010000
END:STANDARD
BEGIN:DAYLIGHT
TZOFFSETFROM:+0100
TZOFFSETTO:+0200
TZNAME:CEST
DTSTART:20260329T010000
END:DAYLIGHT
BEGIN:STANDARD
TZOFFSETFROM:+0200
TZOFFSETTO:+0100
TZNAME:CET
DTSTART:20261025T010000
END:STANDARD
END:VTIMEZONE
BEGIN:VEVENT
DTSTART;TZID=Europe/Paris:20241221T093000
DTEND;TZID=Europe/Paris:20241221T113000
DTSTAMP:20260422T015838
CREATED:20241008T140435Z
LAST-MODIFIED:20241008T140435Z
UID:62146-1734773400-1734780600@villamonin.fr
SUMMARY:Spécial FOIE GRAS
DESCRIPTION:Terrine du Foie gras mi-cuit  en ballotine (300g ) à emporter\n\nTechniques abordées \n\nComment déveiner le foie\nPréparation de la Marinade\nLes astuces de cuisson
URL:https://villamonin.fr/cours/special-foie-gras-4/
CATEGORIES:Atelier Cuisine,Menu thématique - 2h
ATTACH;FMTTYPE=image/jpeg:https://villamonin.fr/wp-content/uploads/2022/10/TF-046.jpg
END:VEVENT
BEGIN:VEVENT
DTSTART;TZID=Europe/Paris:20241221T180000
DTEND;TZID=Europe/Paris:20241221T193000
DTSTAMP:20260422T015838
CREATED:20241009T082109Z
LAST-MODIFIED:20241112T095622Z
UID:62214-1734804000-1734809400@villamonin.fr
SUMMARY:Mixologie
DESCRIPTION:Spécial Cocktails Fêtes de fin d’année \nNos mixologues vous proposent de découvrir trois recettes signatures inédites aux saveurs hivernales que vous pourrez reproduire à la maison pour vos diners de fêtes : \n\nLe Jingle Mule : un cocktail sans alcool aux notes de cassis\, de raisin\, d’orange amère et de gingembre que vous préparerez au shaker et que vous agrémenterez d’une décoration en rapport avec Noël.\nLe Spritz’Mas : un cocktail aperitivo léger en alcool sur une base de vermouth blanc\, aux arômes de fruits rouges et d’épices douces.\nLe Santaïquiri : un twist hivernal du célèbre Daïquiri\, aromatisé avec notre Sirop de MONIN Saveur Epices d’Hiver et surmonté de son espuma au Sirop de MONIN Mandarine\, servi dans un contenant « so Xmassy »\n\nNotre mixologue vous accompagnera dans l’élaboration et la création de vos cocktails et vous donnera quelques astuces afin de préparer ces recettes pour vos réveillons de Noël ou du Jour de l’An.
URL:https://villamonin.fr/cours/mixologie-21-12-24/
CATEGORIES:Mixologie - 1h30
ATTACH;FMTTYPE=image/jpeg:https://villamonin.fr/wp-content/uploads/2023/12/Ruby-k-ube-Sour.jpg
END:VEVENT
BEGIN:VEVENT
DTSTART;TZID=Europe/Paris:20241226T093000
DTEND;TZID=Europe/Paris:20241226T113000
DTSTAMP:20260422T015838
CREATED:20241008T134349Z
LAST-MODIFIED:20241112T104956Z
UID:62122-1735205400-1735212600@villamonin.fr
SUMMARY:Menu Macarons Festifs
DESCRIPTION:Macarons au foie gras\nMacarons à la truite fumée\nMacarons Caramel – Fèves de Tonka\nMacarons Framboise/Litchi\n\nTechniques abordées \n\nComment faire la meringue au sirop\nLe dosage sucre/poudre d’amandes\nLe macaronage\nApprentissage du dosage en poche\nL’utilisation des colorants naturels\nLa cuisson\nLes garnitures faciles et gourmandes
URL:https://villamonin.fr/cours/menu-macarons-festifs-26-12-24/
CATEGORIES:Atelier Cuisine,Menu thématique - 2h
END:VEVENT
BEGIN:VEVENT
DTSTART;TZID=Europe/Paris:20241227T170000
DTEND;TZID=Europe/Paris:20241227T190000
DTSTAMP:20260422T015838
CREATED:20241008T134641Z
LAST-MODIFIED:20241112T105041Z
UID:62125-1735318800-1735326000@villamonin.fr
SUMMARY:Menu Macarons Festifs
DESCRIPTION:Macarons au foie gras\nMacarons à la truite fumée\nMacarons Caramel – Fèves de Tonka\nMacarons Framboise/Litchi\n\nTechniques abordées \n\nComment faire la meringue au sirop\nLe dosage sucre/poudre d’amandes\nLe macaronage\nApprentissage du dosage en poche\nL’utilisation des colorants naturels\nLa cuisson\nLes garnitures faciles et gourmandes
URL:https://villamonin.fr/cours/menu-macarons-festifs-27-12-24/
CATEGORIES:Atelier Cuisine,Menu thématique - 2h
END:VEVENT
BEGIN:VEVENT
DTSTART;TZID=Europe/Paris:20241228T093000
DTEND;TZID=Europe/Paris:20241228T113000
DTSTAMP:20260422T015838
CREATED:20241008T134929Z
LAST-MODIFIED:20241112T105130Z
UID:62130-1735378200-1735385400@villamonin.fr
SUMMARY:Menu Macarons Festifs
DESCRIPTION:Macarons au foie gras\nMacarons à la truite fumée\nMacarons Caramel – Fèves de Tonka\nMacarons Framboise/Litchi\n\nTechniques abordées \n\nComment faire la meringue au sirop\nLe dosage sucre/poudre d’amandes\nLe macaronage\nApprentissage du dosage en poche\nL’utilisation des colorants naturels\nLa cuisson\nLes garnitures faciles et gourmandes
URL:https://villamonin.fr/cours/menu-macarons-festifs-28-12-24/
CATEGORIES:Atelier Cuisine,Menu thématique - 2h
END:VEVENT
BEGIN:VEVENT
DTSTART;TZID=Europe/Paris:20250103T170000
DTEND;TZID=Europe/Paris:20250103T183000
DTSTAMP:20260422T015838
CREATED:20241011T090421Z
LAST-MODIFIED:20241105T080450Z
UID:62417-1735923600-1735929000@villamonin.fr
SUMMARY:Pâtisserie - Spécial Macarons
DESCRIPTION:L’équipe de Chefs présente ses Macarons et ses astuces de réussite \nTechniques abordées \n\nComment faire la meringue au sirop\nLe dosage sucre/poudre d’amandes\nLe macaronage\nApprentissage du dosage en poche\nL’utilisation des colorants naturels\nLa cuisson\nLes garnitures faciles et gourmandes
URL:https://villamonin.fr/cours/patisserie-special-macarons-03-01-25/
CATEGORIES:Atelier Pâtisserie
ATTACH;FMTTYPE=image/jpeg:https://villamonin.fr/wp-content/uploads/2022/12/MACARONS_DSC0194.jpg
END:VEVENT
BEGIN:VEVENT
DTSTART;TZID=Europe/Paris:20250104T093000
DTEND;TZID=Europe/Paris:20250104T110000
DTSTAMP:20260422T015838
CREATED:20241011T090650Z
LAST-MODIFIED:20241105T080606Z
UID:62420-1735983000-1735988400@villamonin.fr
SUMMARY:Pâtisserie - Spécial Macarons
DESCRIPTION:L’équipe de Chefs présente ses Macarons et ses astuces de réussite \nTechniques abordées \n\nComment faire la meringue au sirop\nLe dosage sucre/poudre d’amandes\nLe macaronage\nApprentissage du dosage en poche\nL’utilisation des colorants naturels\nLa cuisson\nLes garnitures faciles et gourmandes
URL:https://villamonin.fr/cours/patisserie-special-macarons-04-01-25/
CATEGORIES:Atelier Pâtisserie
ATTACH;FMTTYPE=image/jpeg:https://villamonin.fr/wp-content/uploads/2022/12/MACARONS_DSC0194.jpg
END:VEVENT
BEGIN:VEVENT
DTSTART;TZID=Europe/Paris:20250108T093000
DTEND;TZID=Europe/Paris:20250108T113000
DTSTAMP:20260422T015838
CREATED:20241108T134159Z
LAST-MODIFIED:20241108T134606Z
UID:63454-1736328600-1736335800@villamonin.fr
SUMMARY:Menu Spécial Réception
DESCRIPTION:Petits fours salés et sucrés\n\nTechniques abordées \n\nIdées de création pièces cocktail\nFinger food\n\n 
URL:https://villamonin.fr/cours/menu-special-reception-08-01-25/
CATEGORIES:Atelier Cuisine,Menu thématique - 2h
ATTACH;FMTTYPE=image/jpeg:https://villamonin.fr/wp-content/uploads/2022/07/Tapas.jpg
END:VEVENT
BEGIN:VEVENT
DTSTART;TZID=Europe/Paris:20250108T140000
DTEND;TZID=Europe/Paris:20250108T153000
DTSTAMP:20260422T015838
CREATED:20241011T090917Z
LAST-MODIFIED:20241011T090917Z
UID:62423-1736344800-1736350200@villamonin.fr
SUMMARY:Pâtisserie - Spécial Macarons
DESCRIPTION:L’équipe de Chefs présente ses Macarons et ses astuces de réussite \nTechniques abordées \n\nComment faire la meringue au sirop\nLe dosage sucre/poudre d’amandes\nLe macaronage\nApprentissage du dosage en poche\nL’utilisation des colorants naturels\nLa cuisson\nLes garnitures faciles et gourmandes
URL:https://villamonin.fr/cours/patisserie-special-macarons-35/
CATEGORIES:Atelier Pâtisserie
ATTACH;FMTTYPE=image/jpeg:https://villamonin.fr/wp-content/uploads/2022/12/MACARONS_DSC0194.jpg
END:VEVENT
BEGIN:VEVENT
DTSTART;TZID=Europe/Paris:20250109T173000
DTEND;TZID=Europe/Paris:20250109T190000
DTSTAMP:20260422T015838
CREATED:20241218T105521Z
LAST-MODIFIED:20241218T105521Z
UID:66268-1736443800-1736449200@villamonin.fr
SUMMARY:Mixologie
DESCRIPTION:Techniques abordées \n\nTrois cocktails autour du spiritueux préféré des français\, le rhum : Le Falernum Rhum Mule\, La Daïquiri et le Rhum Old Fashioned.\nExplications sur les différents rhums et leurs origines\, leurs utilisation en cocktails.\nL’origine des différents rhums et leur livret de famille\nLeurs utilisations\nL’histoire de ces cocktails emblématiques\nLa Technique\, les dosages et les équilibres\nLa verrerie
URL:https://villamonin.fr/cours/mixologie-105/
CATEGORIES:Mixologie - 1h30
ATTACH;FMTTYPE=image/jpeg:https://villamonin.fr/wp-content/uploads/2023/03/FRUIT-LIME-DAIQUIRI-framing-a107b.jpg
END:VEVENT
BEGIN:VEVENT
DTSTART;TZID=Europe/Paris:20250110T093000
DTEND;TZID=Europe/Paris:20250110T113000
DTSTAMP:20260422T015838
CREATED:20241108T134515Z
LAST-MODIFIED:20241108T134515Z
UID:63457-1736501400-1736508600@villamonin.fr
SUMMARY:Menu Spécial Réception
DESCRIPTION:Petits fours salés et sucrés\n\nTechniques abordées \n\nIdées de création de petites bouchées\nFinger food
URL:https://villamonin.fr/cours/menu-special-reception-2/
CATEGORIES:Atelier Cuisine,Menu thématique - 2h
ATTACH;FMTTYPE=image/jpeg:https://villamonin.fr/wp-content/uploads/2022/07/Tapas.jpg
END:VEVENT
BEGIN:VEVENT
DTSTART;TZID=Europe/Paris:20250110T173000
DTEND;TZID=Europe/Paris:20250110T190000
DTSTAMP:20260422T015838
CREATED:20241108T094134Z
LAST-MODIFIED:20250108T091940Z
UID:63417-1736530200-1736535600@villamonin.fr
SUMMARY:Mixologie
DESCRIPTION:Trois cocktails emblématique de la culture Latino : la Margarita\, la Caïpirinha\, le Pisco Sour\n\nMargarita : cocktail national du Mexique\, historique du cocktail\, qu’est ce que la téquila\, règles des 3 S\, méthode d’élaboration au shaker\, verre à margarita givré au sel\, décor avec tranche de citron vert cannelée\, liqueur de Curaçao Triple Sec MONIN\, version frozen au blender aromatisée avec Le Fruit Fraise ou Passion.\nCaïpirinha : le cocktail national du Brésil\, qu’est ce que la cachaça\, méthode au pilon + glace pilée\, recette classique\, sirop Pour Sucre de Canne Blanc ou Roux ou aromatisée avec Le Fruit Ananas ou Mangue\nPisco Sour : le cocktail national du Chili/Pérou\, qu’est ce que le Pisco\, réalisation au shaker avec la méthode du dry shake/reverse dry shake pour obtenir une mousse parfaite\, double strain\, décor sur la mousse du cocktail\, version classique avec Pur Sucre de Canne ou version aromatisée avec sirop Spicy Mango\, Pumpkin Spice ou Mandarine.
URL:https://villamonin.fr/cours/mixologie-10-01-25/
CATEGORIES:Mixologie - 1h30
ATTACH;FMTTYPE=image/jpeg:https://villamonin.fr/wp-content/uploads/2022/05/Spicy-Margarita-brush-gesture.jpg
END:VEVENT
BEGIN:VEVENT
DTSTART;TZID=Europe/Paris:20250111T093000
DTEND;TZID=Europe/Paris:20250111T110000
DTSTAMP:20260422T015838
CREATED:20241011T091140Z
LAST-MODIFIED:20241011T091141Z
UID:62426-1736587800-1736593200@villamonin.fr
SUMMARY:Pâtisserie - Spécial Macarons
DESCRIPTION:L’équipe de Chefs présente ses Macarons et ses astuces de réussite \nTechniques abordées \n\nComment faire la meringue au sirop\nLe dosage sucre/poudre d’amandes\nLe macaronage\nApprentissage du dosage en poche\nL’utilisation des colorants naturels\nLa cuisson\nLes garnitures faciles et gourmandes
URL:https://villamonin.fr/cours/patisserie-special-macarons-36/
CATEGORIES:Atelier Pâtisserie
ATTACH;FMTTYPE=image/jpeg:https://villamonin.fr/wp-content/uploads/2022/12/MACARONS_DSC0194.jpg
END:VEVENT
BEGIN:VEVENT
DTSTART;TZID=Europe/Paris:20250111T180000
DTEND;TZID=Europe/Paris:20250111T193000
DTSTAMP:20260422T015838
CREATED:20241108T094624Z
LAST-MODIFIED:20241127T150154Z
UID:63420-1736618400-1736623800@villamonin.fr
SUMMARY:Mixologie
DESCRIPTION:Après le succès du 1er cours autour de la culture latino\, vous apprendrez à réaliser 3 autres cocktails emblématiques classiques et revisités : la Tequila Sunrise\, le Paloma\, et la Batida.\n\n\nLa Tequila Sunrise : re découvrez notre version moderne de ce cocktail. Une explosion de couleurs et de saveurs.\nLe Paloma : un cocktail mexicain qui marie la fraîcheur de la tequila à l’acidité pétillante des agrumes. Une boisson légère et désaltérante.\nLa Batida : un cocktail crémeux à base de cachaça qui vous transportera sous les tropiques.\n\nDes techniques simples et des astuces vous seront partagées pour maîtriser ces classiques intemporels
URL:https://villamonin.fr/cours/mixologie-11-01-25/
CATEGORIES:Mixologie - 1h30
ATTACH;FMTTYPE=image/jpeg:https://villamonin.fr/wp-content/uploads/2022/05/Spicy-Margarita-brush-gesture.jpg
END:VEVENT
BEGIN:VEVENT
DTSTART;TZID=Europe/Paris:20250115T093000
DTEND;TZID=Europe/Paris:20250115T113000
DTSTAMP:20260422T015838
CREATED:20241108T140028Z
LAST-MODIFIED:20241108T140634Z
UID:63461-1736933400-1736940600@villamonin.fr
SUMMARY:Menu d'Italie
DESCRIPTION:Foccacia butternut\, noix et gorgonzola\nLes véritables lasagnes\nDessert des Chefs à emporter\n\nTechniques abordées \n\nTechnique de la pâte à Foccacia\nPréparation de la garniture des lasagnes\nMontage et Cuisson
URL:https://villamonin.fr/cours/menu-ditalie-15-01-25/
CATEGORIES:Atelier Cuisine,Menu thématique - 2h
END:VEVENT
BEGIN:VEVENT
DTSTART;TZID=Europe/Paris:20250115T140000
DTEND;TZID=Europe/Paris:20250115T153000
DTSTAMP:20260422T015838
CREATED:20241108T140529Z
LAST-MODIFIED:20241108T140530Z
UID:63464-1736949600-1736955000@villamonin.fr
SUMMARY:Pâtisserie
DESCRIPTION:SPECIAL  Pâtisseries Italiennes \n\nTiramisu\nCanolli\n\nTechniques abordées \n\nPréparation des biscuits et de l’imbibe\nPréparation des garnitures à base de ricotta et mascarpone\nCuisson et Montage
URL:https://villamonin.fr/cours/patisserie-3/
CATEGORIES:Atelier Pâtisserie
ATTACH;FMTTYPE=image/jpeg:https://villamonin.fr/wp-content/uploads/2022/06/Cromesquis.jpg
END:VEVENT
BEGIN:VEVENT
DTSTART;TZID=Europe/Paris:20250116T121500
DTEND;TZID=Europe/Paris:20250116T130000
DTSTAMP:20260422T015838
CREATED:20241108T141344Z
LAST-MODIFIED:20241108T141345Z
UID:63470-1737029700-1737032400@villamonin.fr
SUMMARY:Un Plat démo - les Véritables Lasagnes
DESCRIPTION:Les véritables lasagnes\nDessert à emporter\n\nTechniques abordées \n\nTechnique de la pâte et de la garniture des lasagnes\nMontage et Cuisson
URL:https://villamonin.fr/cours/un-plat-demo-les-veritables-lasagnes/
CATEGORIES:Menu express 45min
END:VEVENT
BEGIN:VEVENT
DTSTART;TZID=Europe/Paris:20250117T093000
DTEND;TZID=Europe/Paris:20250117T113000
DTSTAMP:20260422T015838
CREATED:20241108T140950Z
LAST-MODIFIED:20241108T140951Z
UID:63467-1737106200-1737113400@villamonin.fr
SUMMARY:Menu d'Italie
DESCRIPTION:Foccacia butternut\, noix et gorgonzola\nLes véritables lasagnes\nDessert des Chefs à emporter\n\nTechniques abordées \n\nTechnique de la pâte à Foccacia\nPréparation de la garniture des lasagnes\nMontage et Cuisson
URL:https://villamonin.fr/cours/menu-ditalie/
CATEGORIES:Atelier Cuisine,Menu thématique - 2h
END:VEVENT
BEGIN:VEVENT
DTSTART;TZID=Europe/Paris:20250118T093000
DTEND;TZID=Europe/Paris:20250118T110000
DTSTAMP:20260422T015838
CREATED:20241011T091358Z
LAST-MODIFIED:20241011T091359Z
UID:62429-1737192600-1737198000@villamonin.fr
SUMMARY:Pâtisserie - Spécial Macarons
DESCRIPTION:L’équipe de Chefs présente ses Macarons et ses astuces de réussite \nTechniques abordées \n\nComment faire la meringue au sirop\nLe dosage sucre/poudre d’amandes\nLe macaronage\nApprentissage du dosage en poche\nL’utilisation des colorants naturels\nLa cuisson\nLes garnitures faciles et gourmandes
URL:https://villamonin.fr/cours/patisserie-special-macarons-37/
CATEGORIES:Atelier Pâtisserie
ATTACH;FMTTYPE=image/jpeg:https://villamonin.fr/wp-content/uploads/2022/12/MACARONS_DSC0194.jpg
END:VEVENT
BEGIN:VEVENT
DTSTART;TZID=Europe/Paris:20250122T140000
DTEND;TZID=Europe/Paris:20250122T160000
DTSTAMP:20260422T015838
CREATED:20241108T142233Z
LAST-MODIFIED:20241206T111013Z
UID:63479-1737554400-1737561600@villamonin.fr
SUMMARY:Pâtisserie Parent/Enfant - Spécial Sablés
DESCRIPTION:Une inscription à 69€ = un duo parent/enfant (à partir de 6 ans) – 5 places “duo” disponibles \nLes sablés : \n\nMikado\nEscargot\nVitraux
URL:https://villamonin.fr/cours/patisserie-parent-enfant-special-sables-22-01-25-2/
CATEGORIES:Atelier parent/enfant
ATTACH;FMTTYPE=image/jpeg:https://villamonin.fr/wp-content/uploads/2022/07/Eclair-et-choux-à-la-crème.jpg
END:VEVENT
BEGIN:VEVENT
DTSTART;TZID=Europe/Paris:20250123T173000
DTEND;TZID=Europe/Paris:20250123T190000
DTSTAMP:20260422T015838
CREATED:20241218T105903Z
LAST-MODIFIED:20241218T105903Z
UID:66271-1737653400-1737658800@villamonin.fr
SUMMARY:Mixologie
DESCRIPTION:La Tendance Gin \n\nLe Gin est devenu ces dernières années l’un des spiritueux les plus populaires auprès des consommateurs. Accompagné de notre mixologue vous apprendrez à réaliser Le London Mule\, un Gin Tonic aromatisé et le Gin Sour.
URL:https://villamonin.fr/cours/mixologie-106/
CATEGORIES:Mixologie - 1h30
ATTACH;FMTTYPE=image/jpeg:https://villamonin.fr/wp-content/uploads/2022/07/Gin.jpg
END:VEVENT
BEGIN:VEVENT
DTSTART;TZID=Europe/Paris:20250124T093000
DTEND;TZID=Europe/Paris:20250124T113000
DTSTAMP:20260422T015838
CREATED:20241108T142834Z
LAST-MODIFIED:20241108T142834Z
UID:63482-1737711000-1737718200@villamonin.fr
SUMMARY:Menu Autour du Coquillage
DESCRIPTION:Moules et couteaux gratinés\nBlanquette de coquillages au gingembre et légumes de saison\nDessert des Chefs à emporter\n\nTechniques abordées \n\nTechnique de cuisson des coquillages\nPréparation de l’appareil à gratiner\nRéalisation de la sauce blanquette
URL:https://villamonin.fr/cours/menu-autour-du-coquillage/
CATEGORIES:Atelier Cuisine,Menu thématique - 2h
ATTACH;FMTTYPE=image/jpeg:https://villamonin.fr/wp-content/uploads/2022/07/cathCdrale_robot.jpg
END:VEVENT
BEGIN:VEVENT
DTSTART;TZID=Europe/Paris:20250124T173000
DTEND;TZID=Europe/Paris:20250124T190000
DTSTAMP:20260422T015838
CREATED:20241108T094952Z
LAST-MODIFIED:20241108T094952Z
UID:63423-1737739800-1737745200@villamonin.fr
SUMMARY:Mixologie
DESCRIPTION:Techniques abordées \n\nTrois cocktails autour du spiritueux préféré des français\, le rhum : Le Falernum Rhum Mule\, La Daïquiri et le Rhum Old Fashioned.\nExplications sur les différents rhums et leurs origines\, leurs utilisation en cocktails.\nL’origine des différents rhums et leur livret de famille\nLeurs utilisations\nL’histoire de ces cocktails emblématiques\nLa Technique\, les dosages et les équilibres\nLa verrerie
URL:https://villamonin.fr/cours/mixologie-101/
CATEGORIES:Mixologie - 1h30
ATTACH;FMTTYPE=image/jpeg:https://villamonin.fr/wp-content/uploads/2023/03/FRUIT-LIME-DAIQUIRI-framing-a107b.jpg
END:VEVENT
BEGIN:VEVENT
DTSTART;TZID=Europe/Paris:20250125T093000
DTEND;TZID=Europe/Paris:20250125T113000
DTSTAMP:20260422T015838
CREATED:20241108T143124Z
LAST-MODIFIED:20241126T153904Z
UID:63485-1737797400-1737804600@villamonin.fr
SUMMARY:Menu Autour du Coquillage
DESCRIPTION:Moules et couteaux gratinés\nBlanquette de coquillages au gingembre et légumes de saison\nDessert des Chefs à emporter\n\nTechniques abordées \n\nTechnique de cuisson des coquillages\nPréparation de l’appareil à gratiner\nRéalisation de la sauce blanquette
URL:https://villamonin.fr/cours/menu-autour-du-coquillage-25-01-25/
CATEGORIES:Atelier Cuisine,Menu thématique - 2h
ATTACH;FMTTYPE=image/jpeg:https://villamonin.fr/wp-content/uploads/2022/07/cathCdrale_robot.jpg
END:VEVENT
BEGIN:VEVENT
DTSTART;TZID=Europe/Paris:20250125T180000
DTEND;TZID=Europe/Paris:20250125T193000
DTSTAMP:20260422T015838
CREATED:20241108T095252Z
LAST-MODIFIED:20241127T145719Z
UID:63426-1737828000-1737833400@villamonin.fr
SUMMARY:Mixologie
DESCRIPTION:Techniques abordées \n\nRhum Vol.3\nPlongez encore plus loin dans l’univers du Rhum avec ce troisième volume\, avec 3 cocktails créatifs et emblématiques : le Timur n°5\, le El Presidente\, et le Tanayuki. Une nouvelle exploration du rhum à ne pas manquer.
URL:https://villamonin.fr/cours/mixologie-25-01-25/
CATEGORIES:Mixologie - 1h30
ATTACH;FMTTYPE=image/jpeg:https://villamonin.fr/wp-content/uploads/2023/09/Pornstar.jpg
END:VEVENT
BEGIN:VEVENT
DTSTART;TZID=Europe/Paris:20250129T140000
DTEND;TZID=Europe/Paris:20250129T160000
DTSTAMP:20260422T015838
CREATED:20241108T143626Z
LAST-MODIFIED:20241108T143626Z
UID:63488-1738159200-1738166400@villamonin.fr
SUMMARY:Pâtisserie Parent/Enfant - Spécial Goûters
DESCRIPTION:Une inscription à 69€ = un duo parent/enfant (à partir de 6 ans) – 5 places “duo” disponibles \n\nGouter « energie balls »\nDattes façon snickers\nMini tablettes de chocolat fourrées
URL:https://villamonin.fr/cours/patisserie-parent-enfant-special-gouters/
CATEGORIES:Atelier parent/enfant
ATTACH;FMTTYPE=image/jpeg:https://villamonin.fr/wp-content/uploads/2022/07/Truffes-au-chocolat.jpg
END:VEVENT
BEGIN:VEVENT
DTSTART;TZID=Europe/Paris:20250130T121500
DTEND;TZID=Europe/Paris:20250130T130000
DTSTAMP:20260422T015838
CREATED:20241108T143954Z
LAST-MODIFIED:20241108T144330Z
UID:63491-1738239300-1738242000@villamonin.fr
SUMMARY:Un Plat démo - La soupe Tom kha gai
DESCRIPTION:La soupe Tom kha gai\, bouillon de poulet épicé\, au lait de coco\, au citron vert\, à la citronnelle\, et blancs de poulet pochés\nDessert à emporter\n\nTechniques abordées \n\nTechnique de la soupe Thaï\nPochage du poulet
URL:https://villamonin.fr/cours/un-plat-demo-la-soupe-tom-kha-gai-30-01-25/
CATEGORIES:Menu express 45min
ATTACH;FMTTYPE=image/jpeg:https://villamonin.fr/wp-content/uploads/2022/07/Soupe-miso-aux-champignons.jpg
END:VEVENT
BEGIN:VEVENT
DTSTART;TZID=Europe/Paris:20250130T173000
DTEND;TZID=Europe/Paris:20250130T190000
DTSTAMP:20260422T015838
CREATED:20241218T110400Z
LAST-MODIFIED:20241218T110400Z
UID:66274-1738258200-1738263600@villamonin.fr
SUMMARY:Mixologie
DESCRIPTION:Trois cocktails emblématique de la culture Latino : la Margarita\, la Caïpirinha\, le Pisco Sour\n\nMargarita : cocktail national du Mexique\, historique du cocktail\, qu’est ce que la téquila\, règles des 3 S\, méthode d’élaboration au shaker\, verre à margarita givré au sel\, décor avec tranche de citron vert cannelée\, liqueur de Curaçao Triple Sec MONIN\, version frozen au blender aromatisée avec Le Fruit Fraise ou Passion.\nCaïpirinha : le cocktail national du Brésil\, qu’est ce que la cachaça\, méthode au pilon + glace pilée\, recette classique\, sirop Pour Sucre de Canne Blanc ou Roux ou aromatisée avec Le Fruit Ananas ou Mangue\nPisco Sour : le cocktail national du Chili/Pérou\, qu’est ce que le Pisco\, réalisation au shaker avec la méthode du dry shake/reverse dry shake pour obtenir une mousse parfaite\, double strain\, décor sur la mousse du cocktail\, version classique avec Pur Sucre de Canne ou version aromatisée avec sirop Spicy Mango\, Pumpkin Spice ou Mandarine.
URL:https://villamonin.fr/cours/mixologie-111/
CATEGORIES:Mixologie - 1h30
ATTACH;FMTTYPE=image/jpeg:https://villamonin.fr/wp-content/uploads/2022/05/Spicy-Margarita-brush-gesture.jpg
END:VEVENT
BEGIN:VEVENT
DTSTART;TZID=Europe/Paris:20250131T121500
DTEND;TZID=Europe/Paris:20250131T130000
DTSTAMP:20260422T015838
CREATED:20241108T144317Z
LAST-MODIFIED:20241108T144317Z
UID:63494-1738325700-1738328400@villamonin.fr
SUMMARY:Un Plat démo - La soupe Tom kha gai
DESCRIPTION:La soupe Tom kha gai\, bouillon de poulet épicé\, au lait de coco\, au citron vert\, à la citronnelle\, et blancs de poulet pochés\nDessert à emporter\n\nTechniques abordées \n\nTechnique de la soupe Thaï\nPochage du poulet
URL:https://villamonin.fr/cours/un-plat-demo-la-soupe-tom-kha-gai-2/
CATEGORIES:Menu express 45min
ATTACH;FMTTYPE=image/jpeg:https://villamonin.fr/wp-content/uploads/2022/07/Soupe-miso-aux-champignons.jpg
END:VEVENT
BEGIN:VEVENT
DTSTART;TZID=Europe/Paris:20250131T173000
DTEND;TZID=Europe/Paris:20250131T190000
DTSTAMP:20260422T015838
CREATED:20241108T095549Z
LAST-MODIFIED:20241108T095549Z
UID:63429-1738344600-1738350000@villamonin.fr
SUMMARY:Mixologie
DESCRIPTION:Le Gin est devenu ces dernières années l’un des spiritueux les plus populaires auprès des consommateurs. Accompagné de notre mixologue vous apprendrez à réaliser Le London Mule\, un Gin Tonic aromatisé et le Gin Sour.
URL:https://villamonin.fr/cours/mixologie-108/
CATEGORIES:Mixologie - 1h30
ATTACH;FMTTYPE=image/jpeg:https://villamonin.fr/wp-content/uploads/2022/07/Gin.jpg
END:VEVENT
END:VCALENDAR