BEGIN:VCALENDAR
VERSION:2.0
PRODID:-//Villa MONIN - ECPv6.15.17//NONSGML v1.0//EN
CALSCALE:GREGORIAN
METHOD:PUBLISH
X-ORIGINAL-URL:https://villamonin.fr
X-WR-CALDESC:Évènements pour Villa MONIN
REFRESH-INTERVAL;VALUE=DURATION:PT1H
X-Robots-Tag:noindex
X-PUBLISHED-TTL:PT1H
BEGIN:VTIMEZONE
TZID:Europe/Paris
BEGIN:DAYLIGHT
TZOFFSETFROM:+0100
TZOFFSETTO:+0200
TZNAME:CEST
DTSTART:20230326T010000
END:DAYLIGHT
BEGIN:STANDARD
TZOFFSETFROM:+0200
TZOFFSETTO:+0100
TZNAME:CET
DTSTART:20231029T010000
END:STANDARD
BEGIN:DAYLIGHT
TZOFFSETFROM:+0100
TZOFFSETTO:+0200
TZNAME:CEST
DTSTART:20240331T010000
END:DAYLIGHT
BEGIN:STANDARD
TZOFFSETFROM:+0200
TZOFFSETTO:+0100
TZNAME:CET
DTSTART:20241027T010000
END:STANDARD
BEGIN:DAYLIGHT
TZOFFSETFROM:+0100
TZOFFSETTO:+0200
TZNAME:CEST
DTSTART:20250330T010000
END:DAYLIGHT
BEGIN:STANDARD
TZOFFSETFROM:+0200
TZOFFSETTO:+0100
TZNAME:CET
DTSTART:20251026T010000
END:STANDARD
END:VTIMEZONE
BEGIN:VEVENT
DTSTART;TZID=Europe/Paris:20241107T121500
DTEND;TZID=Europe/Paris:20241107T130000
DTSTAMP:20260422T034401
CREATED:20240918T074637Z
LAST-MODIFIED:20240918T075125Z
UID:61155-1730981700-1730984400@villamonin.fr
SUMMARY:Un Plat démo - Velouté de citrouille œuf mollet
DESCRIPTION:Velouté de citrouille spicy\, œuf mollet et tapas au vieux jambon\nDessert à emporter\n\nTechniques abordées \n\nCuisson de l’œuf mollet croustillant\nPréparation du velouté\nDressage à l’assiette
URL:https://villamonin.fr/cours/un-plat-demo-veloute-de-citrouille-oeuf-mollet-07-11-24/
CATEGORIES:Menu express 45min
ATTACH;FMTTYPE=image/jpeg:https://villamonin.fr/wp-content/uploads/2022/07/Velouté-de-légumes.jpg
END:VEVENT
BEGIN:VEVENT
DTSTART;TZID=Europe/Paris:20241107T173000
DTEND;TZID=Europe/Paris:20241107T190000
DTSTAMP:20260422T034401
CREATED:20240919T082025Z
LAST-MODIFIED:20241015T091907Z
UID:61259-1731000600-1731006000@villamonin.fr
SUMMARY:Mixologie
DESCRIPTION:Techniques abordées \n\nTrois cocktails autour du spiritueux préféré des français\, le rhum : Le Falernum Rhum Mule\, La Daïquiri et le Rhum Old Fashioned.\nExplications sur les différents rhums et leurs origines\, leurs utilisation en cocktails.\nL’origine des différents rhums et leur livret de famille\nLeurs utilisations\nL’histoire de ces cocktails emblématiques\nLa Technique\, les dosages et les équilibres\nLa verrerie
URL:https://villamonin.fr/cours/mixologie-07-11-24/
CATEGORIES:Mixologie - 1h30
ATTACH;FMTTYPE=image/jpeg:https://villamonin.fr/wp-content/uploads/2023/03/FRUIT-LIME-DAIQUIRI-framing-a107b.jpg
END:VEVENT
BEGIN:VEVENT
DTSTART;TZID=Europe/Paris:20241108T121500
DTEND;TZID=Europe/Paris:20241108T130000
DTSTAMP:20260422T034401
CREATED:20240918T075005Z
LAST-MODIFIED:20240918T075005Z
UID:61159-1731068100-1731070800@villamonin.fr
SUMMARY:Un Plat démo - Velouté de citrouille œuf mollet
DESCRIPTION:Velouté de citrouille spicy\, œuf mollet et tapas au vieux jambon\nDessert à emporter\n\nTechniques abordées \n\nCuisson de l’œuf mollet croustillant\nPréparation du velouté\nDressage à l’assiette
URL:https://villamonin.fr/cours/un-plat-demo-veloute-de-citrouille-oeuf-mollet/
CATEGORIES:Menu express 45min
ATTACH;FMTTYPE=image/jpeg:https://villamonin.fr/wp-content/uploads/2022/07/Velouté-de-légumes.jpg
END:VEVENT
BEGIN:VEVENT
DTSTART;TZID=Europe/Paris:20241108T170000
DTEND;TZID=Europe/Paris:20241108T183000
DTSTAMP:20260422T034401
CREATED:20240906T085237Z
LAST-MODIFIED:20240906T085237Z
UID:60749-1731085200-1731090600@villamonin.fr
SUMMARY:Pâtisserie- Spécial Macarons
DESCRIPTION:L’équipe des Chefs présente ses Macarons et ses astuces de réussite \nTechniques abordées \n\nComment faire la meringue au sirop\nLe dosage sucre/poudre d’amandes\nLe macaronage\nApprentissage du dosage en poche\nL’utilisation des colorants naturels\nLa cuisson\nLes garnitures faciles et gourmandes
URL:https://villamonin.fr/cours/patisserie-special-macarons-28/
CATEGORIES:Atelier Pâtisserie
ATTACH;FMTTYPE=image/jpeg:https://villamonin.fr/wp-content/uploads/2022/12/MACARONS_DSC0194.jpg
END:VEVENT
BEGIN:VEVENT
DTSTART;TZID=Europe/Paris:20241109T093000
DTEND;TZID=Europe/Paris:20241109T113000
DTSTAMP:20260422T034401
CREATED:20240918T075542Z
LAST-MODIFIED:20240918T075542Z
UID:61162-1731144600-1731151800@villamonin.fr
SUMMARY:Menu Spécial Oeufs
DESCRIPTION:Velouté de citrouille spicy\, œuf mollet croustillant\nŒuf parfait sur tapas au vieux jambon Serrano\, salade de pousses\nDessert des Chefs à emporter\n\nTechniques abordées \n\nCuisson de l’œuf mollet croustillant\nPréparation du velouté\nAstuce de l’œuf parfait\nDressage à l’assiette
URL:https://villamonin.fr/cours/menu-special-oeufs/
CATEGORIES:Atelier Cuisine,Menu thématique - 2h
ATTACH;FMTTYPE=image/jpeg:https://villamonin.fr/wp-content/uploads/2022/07/Tapas.jpg
END:VEVENT
BEGIN:VEVENT
DTSTART;TZID=Europe/Paris:20241109T180000
DTEND;TZID=Europe/Paris:20241109T193000
DTSTAMP:20260422T034401
CREATED:20240919T090937Z
LAST-MODIFIED:20240919T090938Z
UID:61282-1731175200-1731180600@villamonin.fr
SUMMARY:Mixologie
DESCRIPTION:La Tendance Gin \n\nLe Gin est devenu ces dernières années l’un des spiritueux les plus populaires auprès des consommateurs. Accompagné de notre mixologue vous apprendrez à réaliser Le London Mule\, un Gin Tonic aromatisé et le Gin Sour.
URL:https://villamonin.fr/cours/mixologie-98/
CATEGORIES:Mixologie - 1h30
ATTACH;FMTTYPE=image/jpeg:https://villamonin.fr/wp-content/uploads/2022/07/Gin.jpg
END:VEVENT
BEGIN:VEVENT
DTSTART;TZID=Europe/Paris:20241113T093000
DTEND;TZID=Europe/Paris:20241113T110000
DTSTAMP:20260422T034401
CREATED:20240918T080807Z
LAST-MODIFIED:20240918T080807Z
UID:61165-1731490200-1731495600@villamonin.fr
SUMMARY:Pâtisserie - Spécial Macarons
DESCRIPTION:L’équipe de Chefs présente ses Macarons et ses astuces de réussite \nTechniques abordées \n\nComment faire la meringue au sirop\nLe dosage sucre/poudre d’amandes\nLe macaronage\nApprentissage du dosage en poche\nL’utilisation des colorants naturels\nLa cuisson\nLes garnitures faciles et gourmandes
URL:https://villamonin.fr/cours/patisserie-special-macarons-29/
CATEGORIES:Atelier Pâtisserie
ATTACH;FMTTYPE=image/jpeg:https://villamonin.fr/wp-content/uploads/2022/11/IMG_0602.jpg
END:VEVENT
BEGIN:VEVENT
DTSTART;TZID=Europe/Paris:20241113T140000
DTEND;TZID=Europe/Paris:20241113T160000
DTSTAMP:20260422T034401
CREATED:20240918T081413Z
LAST-MODIFIED:20241105T151017Z
UID:61168-1731506400-1731513600@villamonin.fr
SUMMARY:Pâtisserie Parents/Enfants - Spécial Chocolat
DESCRIPTION:Une inscription à 69€ = un duo parent/enfant (à partir de 6 ans) – 5 places “duo” disponibles \n\nFondant\nMoelleux\nMousses\nTablettes et mendiants\n\nTechniques abordées \n\nObtenir 3 différents desserts grâce à une même base\nMontage de la charlotte\nréalisation des tablettes
URL:https://villamonin.fr/cours/patisserie-parents-enfants-special-chocolat-13-11-24/
CATEGORIES:Atelier parent/enfant
ATTACH;FMTTYPE=image/webp:https://villamonin.fr/wp-content/uploads/2022/12/chocolat-300x300-1.webp
END:VEVENT
BEGIN:VEVENT
DTSTART;TZID=Europe/Paris:20241114T093000
DTEND;TZID=Europe/Paris:20241114T110000
DTSTAMP:20260422T034401
CREATED:20240918T081815Z
LAST-MODIFIED:20241008T094141Z
UID:61171-1731576600-1731582000@villamonin.fr
SUMMARY:Pâtisserie - Spécial Macarons
DESCRIPTION:L’équipe de Chefs présente ses Macarons et ses astuces de réussite\nTechniques abordées \n\nComment faire la meringue au sirop\nLe dosage sucre/poudre d’amandes\nLe macaronage\nApprentissage du dosage en poche\nL’utilisation des colorants naturels\nLa cuisson\nLes garnitures faciles et gourmandes
URL:https://villamonin.fr/cours/patisserie-special-macarons-14-11-24/
CATEGORIES:Atelier Pâtisserie
END:VEVENT
BEGIN:VEVENT
DTSTART;TZID=Europe/Paris:20241114T173000
DTEND;TZID=Europe/Paris:20241114T190000
DTSTAMP:20260422T034401
CREATED:20240919T085606Z
LAST-MODIFIED:20240919T085607Z
UID:61262-1731605400-1731610800@villamonin.fr
SUMMARY:Mixologie
DESCRIPTION:Les Créations du Bar 1912 de la VILLA MONIN \n\n 3 cocktails signature créés par nos Chefs Barmen\n\nle Verger d’automne à base de cidre\nle Green Park Fizz à base de Vermouth blanc\nla Mule gourmande à base de vodka
URL:https://villamonin.fr/cours/mixologie-95/
CATEGORIES:Mixologie - 1h30
ATTACH;FMTTYPE=image/jpeg:https://villamonin.fr/wp-content/uploads/2023/07/moscowmule_paysagecRinaNURRA-bd.jpg
END:VEVENT
BEGIN:VEVENT
DTSTART;TZID=Europe/Paris:20241115T121500
DTEND;TZID=Europe/Paris:20241115T130000
DTSTAMP:20260422T034401
CREATED:20240918T082114Z
LAST-MODIFIED:20240918T082114Z
UID:61174-1731672900-1731675600@villamonin.fr
SUMMARY:Un Plat démo- Parmentier de butternut au haddock
DESCRIPTION:Parmentier de butternut au haddock sur crème d’endives\nDessert de Stéphanie à emporter\n\nTechniques abordées \n\nPréparation parmentier\nTechnique de cuisson du haddock\nDressage à l’assiette
URL:https://villamonin.fr/cours/un-plat-demo-parmentier-de-butternut-au-haddock-2/
CATEGORIES:Menu express 45min
ATTACH;FMTTYPE=image/jpeg:https://villamonin.fr/wp-content/uploads/2024/08/Steph-e1725368042752.jpg
END:VEVENT
BEGIN:VEVENT
DTSTART;TZID=Europe/Paris:20241115T173000
DTEND;TZID=Europe/Paris:20241115T190000
DTSTAMP:20260422T034401
CREATED:20240919T090017Z
LAST-MODIFIED:20240919T090017Z
UID:61271-1731691800-1731697200@villamonin.fr
SUMMARY:Mixologie
DESCRIPTION:Techniques abordées \n\nRhum Vol.3\nPlongez dans l’univers fascinant de ce spiritueux emblématique grâce à ce troisième volume et apprenez à confectionner des cocktails surprenants et délicieux qui raviront vos papilles.
URL:https://villamonin.fr/cours/mixologie-96/
CATEGORIES:Mixologie - 1h30
ATTACH;FMTTYPE=image/jpeg:https://villamonin.fr/wp-content/uploads/2023/09/Pornstar.jpg
END:VEVENT
BEGIN:VEVENT
DTSTART;TZID=Europe/Paris:20241116T093000
DTEND;TZID=Europe/Paris:20241116T113000
DTSTAMP:20260422T034401
CREATED:20240918T082512Z
LAST-MODIFIED:20240918T082512Z
UID:61177-1731749400-1731756600@villamonin.fr
SUMMARY:Menu de la Mer
DESCRIPTION:Sashimi de poisson en rosace de radis noir et son jus cuisiné\nParmentier de butternut au haddock sur crème d’endives\nDessert de Stéphanie à emporter\n\nTechniques abordées \n\nAstuce de la rosace de radis noir\nDécoupe du poisson en sashimi\nPréparation parmentier\nTechnique de cuisson du haddock\nDressage à l’assiette
URL:https://villamonin.fr/cours/menu-de-la-mer-8/
CATEGORIES:Atelier Cuisine,Menu thématique - 2h
ATTACH;FMTTYPE=image/jpeg:https://villamonin.fr/wp-content/uploads/2024/01/saumon.jpg
END:VEVENT
BEGIN:VEVENT
DTSTART;TZID=Europe/Paris:20241116T180000
DTEND;TZID=Europe/Paris:20241116T193000
DTSTAMP:20260422T034401
CREATED:20240919T090416Z
LAST-MODIFIED:20240919T090417Z
UID:61279-1731780000-1731785400@villamonin.fr
SUMMARY:Mixologie
DESCRIPTION:Techniques abordées \n\nBack to Basic Vol.2 Pour ce deuxième volume\, notre expert boisson vous apprendra à réaliser trois cocktails emblématiques\, Le Blue Lagoon\, le Sex On The Beach\, et l’Expresso Martini. Vous découvrirez l’origine et l’histoire de leur création et les variantes de ces grands classiques.
URL:https://villamonin.fr/cours/mixologie-97/
CATEGORIES:Mixologie - 1h30
ATTACH;FMTTYPE=image/jpeg:https://villamonin.fr/wp-content/uploads/2023/12/Ruby-k-ube-Sour.jpg
END:VEVENT
BEGIN:VEVENT
DTSTART;TZID=Europe/Paris:20241120T140000
DTEND;TZID=Europe/Paris:20241120T160000
DTSTAMP:20260422T034401
CREATED:20240918T084444Z
LAST-MODIFIED:20240918T084445Z
UID:61180-1732111200-1732118400@villamonin.fr
SUMMARY:Parents/Enfant Spécial Pâtes fraiches italiennes
DESCRIPTION:Une inscription à 69€ = un duo parent/enfant (à partir de 6 ans) – 5 places “duo” disponibles \n\nRavioles tomates confites et ricotta aux herbes\nPâtes fraiches colorées aux légumes et toutes leurs formes\n\nTechniques abordées \n\nRéalisation de sa pâte fraiche et manipulation technique\nTechnique de coloration naturelle\nLes différentes farces et sauces
URL:https://villamonin.fr/cours/parents-enfant-special-pates-fraiches-italiennes/
CATEGORIES:Atelier parent/enfant
END:VEVENT
BEGIN:VEVENT
DTSTART;TZID=Europe/Paris:20241121T093000
DTEND;TZID=Europe/Paris:20241121T110000
DTSTAMP:20260422T034401
CREATED:20240918T091936Z
LAST-MODIFIED:20241008T095424Z
UID:61184-1732181400-1732186800@villamonin.fr
SUMMARY:Pâtisserie - Spécial Macarons
DESCRIPTION:L’équipe de Chefs présente ses Macarons et ses astuces de réussite\nTechniques abordées \n\nComment faire la meringue au sirop\nLe dosage sucre/poudre d’amandes\nLe macaronage\nApprentissage du dosage en poche\nL’utilisation des colorants naturels\nLa cuisson\nLes garnitures faciles et gourmandes
URL:https://villamonin.fr/cours/patisserie-special-macarons-21-11-24/
CATEGORIES:Atelier Pâtisserie
END:VEVENT
BEGIN:VEVENT
DTSTART;TZID=Europe/Paris:20241122T121500
DTEND;TZID=Europe/Paris:20241122T130000
DTSTAMP:20260422T034401
CREATED:20240918T092814Z
LAST-MODIFIED:20240918T092814Z
UID:61188-1732277700-1732280400@villamonin.fr
SUMMARY:Un Plat démo- Cabillaud au Yuzu
DESCRIPTION:Cabillaud au yuzu croute d’herbes et poireaux croustillants\nDessert du Chef à emporter\n\nTechniques abordées \n\nPréparation et cuisson du cabillaud\nTechnique de la croute d’herbes\nDressage à l’assiette
URL:https://villamonin.fr/cours/un-plat-demo-cabillaud-au-yuzu-2/
CATEGORIES:Menu express 45min
ATTACH;FMTTYPE=image/jpeg:https://villamonin.fr/wp-content/uploads/2022/06/Poisson-vapeur.jpg
END:VEVENT
BEGIN:VEVENT
DTSTART;TZID=Europe/Paris:20241122T173000
DTEND;TZID=Europe/Paris:20241122T190000
DTSTAMP:20260422T034401
CREATED:20240919T091943Z
LAST-MODIFIED:20240919T091944Z
UID:61292-1732296600-1732302000@villamonin.fr
SUMMARY:Mixologie
DESCRIPTION:FRENCH SPIRITS \nFrench Spirits : Nous avons tous à la maison des bouteilles de spiritueux dans nos placards que l’on ne boit jamais parce que l’on ne sait pas comment les utiliser. Dans ce cours notre expert boissons vous enseignera à confectionner 3 cocktails classiques revisités avec des eaux de vie françaises comme le Cognac ou le Calvados\, car oui cela ne sert pas que de digestif et qu’on peut créer de délicieux breuvages avec !
URL:https://villamonin.fr/cours/mixologie-100/
CATEGORIES:Mixologie - 1h30
ATTACH;FMTTYPE=image/jpeg:https://villamonin.fr/wp-content/uploads/2022/05/Cinammon-Roll-Clarified-Milkpunch-splash-1.jpg
END:VEVENT
BEGIN:VEVENT
DTSTART;TZID=Europe/Paris:20241123T093000
DTEND;TZID=Europe/Paris:20241123T113000
DTSTAMP:20260422T034401
CREATED:20240918T093158Z
LAST-MODIFIED:20240926T100050Z
UID:61191-1732354200-1732361400@villamonin.fr
SUMMARY:Menu Festif
DESCRIPTION:Velouté de topinambour aux éclats de foie gras\nCabillaud au yuzu croute d’herbes et poireaux croustillants\nDessert du Chef à emporter\n\nTechniques abordées \n\nPréparation du  velouté\nPréparation et cuisson du cabillaud\nTechnique de la croute d’herbes\nDressage à l’assiette
URL:https://villamonin.fr/cours/menu-festif-23-11-24/
CATEGORIES:Atelier Cuisine,Menu thématique - 2h
ATTACH;FMTTYPE=image/jpeg:https://villamonin.fr/wp-content/uploads/2022/11/Photo-524.jpg
END:VEVENT
BEGIN:VEVENT
DTSTART;TZID=Europe/Paris:20241123T180000
DTEND;TZID=Europe/Paris:20241123T193000
DTSTAMP:20260422T034401
CREATED:20240919T092217Z
LAST-MODIFIED:20241022T101235Z
UID:61295-1732384800-1732390200@villamonin.fr
SUMMARY:Mixologie
DESCRIPTION:Gin Vol.2\nPour ce second opus à travers l’univers du gin\, vous découvrirez comment réinterpréter 3 cocktails classiques\, le Tom Collins\, le Clover Club\, et le Red Lion en leur apportant un twist original avec un parfum MONIN.
URL:https://villamonin.fr/cours/mixologie-23-11-24/
CATEGORIES:Mixologie - 1h30
ATTACH;FMTTYPE=image/jpeg:https://villamonin.fr/wp-content/uploads/2022/07/Gin.jpg
END:VEVENT
BEGIN:VEVENT
DTSTART;TZID=Europe/Paris:20241127T140000
DTEND;TZID=Europe/Paris:20241127T160000
DTSTAMP:20260422T034401
CREATED:20240918T093536Z
LAST-MODIFIED:20240918T093537Z
UID:61194-1732716000-1732723200@villamonin.fr
SUMMARY:Pâtisserie Parent/Enfant - Spécial Goûters
DESCRIPTION:Une inscription à 69€ = un duo parent/enfant (à partir de 6 ans) – 5 places “duo” disponibles \n\nGâteau façon « Pim’s »\nSucettes Pomme/chocolat\n\nTechnique abordée \n\nFaire sa génoise et le fourrage et le glaçage\nConfectionner ses sucettes et les customiser
URL:https://villamonin.fr/cours/patisserie-parent-enfant-special-gouters-2/
CATEGORIES:Atelier parent/enfant
END:VEVENT
BEGIN:VEVENT
DTSTART;TZID=Europe/Paris:20241128T121500
DTEND;TZID=Europe/Paris:20241128T130000
DTSTAMP:20260422T034401
CREATED:20240918T094055Z
LAST-MODIFIED:20240918T094055Z
UID:61197-1732796100-1732798800@villamonin.fr
SUMMARY:Un Plat démo - Risotto girolles et cèpes
DESCRIPTION:Risotto girolles et cèpes\, parmesan et crevettes\nDessert du Chef à emporter\n\nTechniques abordées \n\nPréparation et cuisson du risotto\nCuisson des champignons\nDressage à l’assiette
URL:https://villamonin.fr/cours/un-plat-demo-risotto-girolles-et-cepes/
CATEGORIES:Menu express 45min
ATTACH;FMTTYPE=image/jpeg:https://villamonin.fr/wp-content/uploads/2022/07/Risotto-aux-légumes.jpg
END:VEVENT
BEGIN:VEVENT
DTSTART;TZID=Europe/Paris:20241129T093000
DTEND;TZID=Europe/Paris:20241129T110000
DTSTAMP:20260422T034401
CREATED:20240918T094433Z
LAST-MODIFIED:20241008T100348Z
UID:61204-1732872600-1732878000@villamonin.fr
SUMMARY:Pâtisserie - Spécial Macarons
DESCRIPTION:L’équipe de Chefs présente ses Macarons et ses astuces de réussite\nTechniques abordées \n\nComment faire la meringue au sirop\nLe dosage sucre/poudre d’amandes\nLe macaronage\nApprentissage du dosage en poche\nL’utilisation des colorants naturels\nLa cuisson\nLes garnitures faciles et gourmandes
URL:https://villamonin.fr/cours/patisserie-special-macarons-29-11-24/
CATEGORIES:Atelier Pâtisserie
END:VEVENT
BEGIN:VEVENT
DTSTART;TZID=Europe/Paris:20241129T170000
DTEND;TZID=Europe/Paris:20241129T183000
DTSTAMP:20260422T034401
CREATED:20240918T094847Z
LAST-MODIFIED:20240918T094847Z
UID:61208-1732899600-1732905000@villamonin.fr
SUMMARY:Pâtisserie - Spécial Macarons
DESCRIPTION:L’équipe de Chefs présente ses Macarons et ses astuces de réussite \nTechniques abordées \n\nComment faire la meringue au sirop\nLe dosage sucre/poudre d’amandes\nLe macaronage\nApprentissage du dosage en poche\nL’utilisation des colorants naturels\nLa cuisson\nLes garnitures faciles et gourmandes
URL:https://villamonin.fr/cours/patisserie-special-macarons-30/
CATEGORIES:Atelier Pâtisserie
END:VEVENT
BEGIN:VEVENT
DTSTART;TZID=Europe/Paris:20241130T093000
DTEND;TZID=Europe/Paris:20241130T110000
DTSTAMP:20260422T034401
CREATED:20240918T095137Z
LAST-MODIFIED:20241009T144254Z
UID:61216-1732959000-1732964400@villamonin.fr
SUMMARY:Pâtisserie - Spécial Macarons
DESCRIPTION:L’équipe de Chefs présente ses Macarons et ses astuces de réussite \nTechniques abordées \n\nComment faire la meringue au sirop\nLe dosage sucre/poudre d’amandes\nLe macaronage\nApprentissage du dosage en poche\nL’utilisation des colorants naturels\nLa cuisson\nLes garnitures faciles et gourmandes
URL:https://villamonin.fr/cours/patisserie-special-macarons-30-11-24/
CATEGORIES:Atelier Pâtisserie
END:VEVENT
BEGIN:VEVENT
DTSTART;TZID=Europe/Paris:20241206T093000
DTEND;TZID=Europe/Paris:20241206T110000
DTSTAMP:20260422T034401
CREATED:20241008T132819Z
LAST-MODIFIED:20241008T132819Z
UID:62109-1733477400-1733482800@villamonin.fr
SUMMARY:Pâtisserie - Spécial Macarons
DESCRIPTION:L’équipe de Chefs présente ses Macarons et ses astuces de réussite \nTechniques abordées \n\nComment faire la meringue au sirop\nLe dosage sucre/poudre d’amandes\nLe macaronage\nApprentissage du dosage en poche\nL’utilisation des colorants naturels\nLa cuisson\nLes garnitures faciles et gourmandes
URL:https://villamonin.fr/cours/patisserie-special-macarons-32/
CATEGORIES:Atelier Pâtisserie
ATTACH;FMTTYPE=image/jpeg:https://villamonin.fr/wp-content/uploads/2022/12/MACARONS_DSC0194.jpg
END:VEVENT
BEGIN:VEVENT
DTSTART;TZID=Europe/Paris:20241206T170000
DTEND;TZID=Europe/Paris:20241206T190000
DTSTAMP:20260422T034401
CREATED:20241112T101704Z
LAST-MODIFIED:20241112T104741Z
UID:63611-1733504400-1733511600@villamonin.fr
SUMMARY:Menu Macarons festifs
DESCRIPTION:Macarons au foie gras\nMacarons à la truite fumée\nMacarons Caramel – Fèves de Tonka\nMacarons Framboise/Litchi\n\nTechniques abordées \n\nComment faire la meringue au sirop\nLe dosage sucre/poudre d’amandes\nLe macaronage\nApprentissage du dosage en poche\nL’utilisation des colorants naturels\nLa cuisson\nLes garnitures faciles et gourmandes
URL:https://villamonin.fr/cours/menu-macarons-festifs-06-12-24/
CATEGORIES:Atelier Cuisine,Menu thématique - 2h
END:VEVENT
BEGIN:VEVENT
DTSTART;TZID=Europe/Paris:20241207T093000
DTEND;TZID=Europe/Paris:20241207T113000
DTSTAMP:20260422T034401
CREATED:20241008T134028Z
LAST-MODIFIED:20241112T104850Z
UID:62116-1733563800-1733571000@villamonin.fr
SUMMARY:Menu Macarons Festifs
DESCRIPTION:Macarons au foie gras\nMacarons à la truite fumée\nMacarons Caramel – Fèves de Tonka\nMacarons Framboise/Litchi\n\nTechniques abordées \n\nComment faire la meringue au sirop\nLe dosage sucre/poudre d’amandes\nLe macaronage\nApprentissage du dosage en poche\nL’utilisation des colorants naturels\nLa cuisson\nLes garnitures faciles et gourmandes
URL:https://villamonin.fr/cours/menu-macarons-festifs-07-12-24/
CATEGORIES:Atelier Cuisine,Menu thématique - 2h
END:VEVENT
BEGIN:VEVENT
DTSTART;TZID=Europe/Paris:20241211T093000
DTEND;TZID=Europe/Paris:20241211T110000
DTSTAMP:20260422T034401
CREATED:20241008T133123Z
LAST-MODIFIED:20241008T133123Z
UID:62112-1733909400-1733914800@villamonin.fr
SUMMARY:Pâtisserie - Spécial Macarons
DESCRIPTION:L’équipe de Chefs présente ses Macarons et ses astuces de réussite \nTechniques abordées \n\nComment faire la meringue au sirop\nLe dosage sucre/poudre d’amandes\nLe macaronage\nApprentissage du dosage en poche\nL’utilisation des colorants naturels\nLa cuisson\nLes garnitures faciles et gourmandes
URL:https://villamonin.fr/cours/patisserie-special-macarons-33/
CATEGORIES:Atelier Pâtisserie
ATTACH;FMTTYPE=image/jpeg:https://villamonin.fr/wp-content/uploads/2022/12/MACARONS_DSC0194.jpg
END:VEVENT
BEGIN:VEVENT
DTSTART;TZID=Europe/Paris:20241211T140000
DTEND;TZID=Europe/Paris:20241211T160000
DTSTAMP:20260422T034401
CREATED:20241008T141248Z
LAST-MODIFIED:20241008T141248Z
UID:62149-1733925600-1733932800@villamonin.fr
SUMMARY:Pâtisserie Parent/Enfant – Desserts de Noël
DESCRIPTION:Une inscription à 69€ = un duo parent/enfant (à partir de 6 ans) – 5 places “duo” disponibles \n\nChamallows\nEntremets dans sa bulle\nTablettes de chocolat personnalisées\n\nTechnique abordée \n\nAstuces des chamallows\nTechnique de la génoise et du mousseux\nComment faire ses propres tablettes de chocolat
URL:https://villamonin.fr/cours/patisserie-parent-enfant-desserts-de-noel-2/
CATEGORIES:Atelier parent/enfant
ATTACH;FMTTYPE=image/jpeg:https://villamonin.fr/wp-content/uploads/2022/06/Crème-brûlée.jpg
END:VEVENT
END:VCALENDAR