BEGIN:VCALENDAR
VERSION:2.0
PRODID:-//Villa MONIN - ECPv6.15.17//NONSGML v1.0//EN
CALSCALE:GREGORIAN
METHOD:PUBLISH
X-WR-CALNAME:Villa MONIN
X-ORIGINAL-URL:https://villamonin.fr
X-WR-CALDESC:Évènements pour Villa MONIN
REFRESH-INTERVAL;VALUE=DURATION:PT1H
X-Robots-Tag:noindex
X-PUBLISHED-TTL:PT1H
BEGIN:VTIMEZONE
TZID:Europe/Paris
BEGIN:DAYLIGHT
TZOFFSETFROM:+0100
TZOFFSETTO:+0200
TZNAME:CEST
DTSTART:20220327T010000
END:DAYLIGHT
BEGIN:STANDARD
TZOFFSETFROM:+0200
TZOFFSETTO:+0100
TZNAME:CET
DTSTART:20221030T010000
END:STANDARD
BEGIN:DAYLIGHT
TZOFFSETFROM:+0100
TZOFFSETTO:+0200
TZNAME:CEST
DTSTART:20230326T010000
END:DAYLIGHT
BEGIN:STANDARD
TZOFFSETFROM:+0200
TZOFFSETTO:+0100
TZNAME:CET
DTSTART:20231029T010000
END:STANDARD
BEGIN:DAYLIGHT
TZOFFSETFROM:+0100
TZOFFSETTO:+0200
TZNAME:CEST
DTSTART:20240331T010000
END:DAYLIGHT
BEGIN:STANDARD
TZOFFSETFROM:+0200
TZOFFSETTO:+0100
TZNAME:CET
DTSTART:20241027T010000
END:STANDARD
END:VTIMEZONE
BEGIN:VEVENT
DTSTART;TZID=Europe/Paris:20231129T121500
DTEND;TZID=Europe/Paris:20231129T130000
DTSTAMP:20260419T140203
CREATED:20230914T095454Z
LAST-MODIFIED:20230914T095454Z
UID:45444-1701260100-1701262800@villamonin.fr
SUMMARY:Un Plat démo- Noix de St Jacques
DESCRIPTION:Noix de St Jacques juste saisies\, caviar de poivrons rouges et écrasé de pommes de terre au carvi\nDessert du Chef à emporter\n\nTechniques abordées \n\nPréparation et cuisson des St Jacques\nAstuce de l’écrasé de pommes de terre\nDressage à l’assiette
URL:https://villamonin.fr/cours/un-plat-demo-noix-de-st-jacques/
CATEGORIES:Menu express 45min
ATTACH;FMTTYPE=image/jpeg:https://villamonin.fr/wp-content/uploads/2022/07/St-jacques.jpg
END:VEVENT
BEGIN:VEVENT
DTSTART;TZID=Europe/Paris:20231129T170000
DTEND;TZID=Europe/Paris:20231129T190000
DTSTAMP:20260419T140203
CREATED:20230914T095842Z
LAST-MODIFIED:20230914T095842Z
UID:45447-1701277200-1701284400@villamonin.fr
SUMMARY:Menu de la Mer
DESCRIPTION:Tartare aux deux saumons\, herbes et agrumes\nNoix de St Jacques juste saisies\, caviar de poivrons rouges et écrasé de pommes de terre au carvi\nDessert de saison à emporter\n\nTechniques abordées \n\nTechnique de préparation du tartare et marinade\nPréparation et cuisson des St Jacques\nAstuce de l’écrasé de pommes de terre\nDressage à l’assiette
URL:https://villamonin.fr/cours/menu-de-la-mer-4/
CATEGORIES:Atelier Cuisine,Menu thématique - 2h
ATTACH;FMTTYPE=image/jpeg:https://villamonin.fr/wp-content/uploads/2022/07/St-jacques.jpg
END:VEVENT
BEGIN:VEVENT
DTSTART;TZID=Europe/Paris:20231130T121500
DTEND;TZID=Europe/Paris:20231130T130000
DTSTAMP:20260419T140203
CREATED:20230914T100232Z
LAST-MODIFIED:20230914T100232Z
UID:45450-1701346500-1701349200@villamonin.fr
SUMMARY:Un Plat démo- Noix de St Jacques
DESCRIPTION:Noix de St Jacques juste saisies\, caviar de poivrons rouges et écrasé de pommes de terre au carvi\nDessert du Chef à emporter\n\nTechniques abordées \n\nPréparation et cuisson des St Jacques\nAstuce de l’écrasé de pommes de terre\nDressage à l’assiette
URL:https://villamonin.fr/cours/un-plat-demo-noix-de-st-jacques-2/
CATEGORIES:Menu express 45min
ATTACH;FMTTYPE=image/jpeg:https://villamonin.fr/wp-content/uploads/2022/07/St-jacques.jpg
END:VEVENT
BEGIN:VEVENT
DTSTART;TZID=Europe/Paris:20231130T173000
DTEND;TZID=Europe/Paris:20231130T190000
DTSTAMP:20260419T140203
CREATED:20230927T134129Z
LAST-MODIFIED:20231109T142732Z
UID:45888-1701365400-1701370800@villamonin.fr
SUMMARY:Mixologie
DESCRIPTION:Spécial Cocktails Fêtes de fin d’année \nNos mixologues vous proposent de découvrir trois recettes signatures aux saveurs hivernales que vous pourrez reproduire à la maison pour vos diners de fêtes : \n\nLe Jingle Mule : un cocktail sans alcool aux notes de cassis\, de raisin\, d’orange amère et de gingembre que vous préparerez au shaker et que vous agrémenterez d’une décoration en rapport avec Noël.\nLe Spritz’Mas : un cocktail aperitivo léger en alcool sur une base de vermouth blanc\, aux arômes de fruits rouges et d’épices douces.\nLe Santaïquiri : un twist hivernal du célèbre Daïquiri\, aromatisé avec notre Sirop de MONIN Saveur Epices d’Hiver et surmonté de son espuma au Sirop de MONIN Mandarine\, servi dans un contenant « so Xmassy »\n\nNotre mixologue vous accompagnera dans l’élaboration et la création de vos cocktails et vous donnera quelques astuces afin de préparer ces recettes pour vos réveillons de Noël ou du Jour de l’An.
URL:https://villamonin.fr/cours/mixologie-30-11-23/
CATEGORIES:Mixologie - 1h30
ATTACH;FMTTYPE=image/jpeg:https://villamonin.fr/wp-content/uploads/2023/09/Christmas-Spritz-2.jpg
END:VEVENT
BEGIN:VEVENT
DTSTART;TZID=Europe/Paris:20231201T121500
DTEND;TZID=Europe/Paris:20231201T130000
DTSTAMP:20260419T140203
CREATED:20231005T143133Z
LAST-MODIFIED:20231005T143134Z
UID:46276-1701432900-1701435600@villamonin.fr
SUMMARY:Un Plat démo- Noix de St Jacques
DESCRIPTION:Noix de St Jacques juste saisies\, caviar de poivrons rouges et écrasé de pommes de terre au carvi\nDessert du Chef à emporter\n\nTechniques abordées \n\nPréparation et cuisson des St Jacques\nAstuce de l’écrasé de pommes de terre\nDressage à l’assiette
URL:https://villamonin.fr/cours/un-plat-demo-noix-de-st-jacques-3/
CATEGORIES:Menu express 45min
ATTACH;FMTTYPE=image/jpeg:https://villamonin.fr/wp-content/uploads/2022/07/St-jacques.jpg
END:VEVENT
BEGIN:VEVENT
DTSTART;TZID=Europe/Paris:20231201T170000
DTEND;TZID=Europe/Paris:20231201T190000
DTSTAMP:20260419T140203
CREATED:20231005T142603Z
LAST-MODIFIED:20231005T142605Z
UID:46272-1701450000-1701457200@villamonin.fr
SUMMARY:Menu Macarons des Fêtes
DESCRIPTION:Macarons au foie gras\nMacarons au saumon fumé d’Ecosse\nMacarons Yuzu Mandarine\nMacarons pomme verte et Pistache\n\nTechniques abordées \n\nComment faire la meringue au sirop\nLe dosage sucre/poudre d’amandes\nLe macaronage\nApprentissage du dosage en poche\nL’utilisation des colorants naturels\nLa cuisson\nLes garnitures faciles et gourmandes
URL:https://villamonin.fr/cours/menu-macarons-des-fetes/
CATEGORIES:Atelier Cuisine,Menu thématique - 2h
END:VEVENT
BEGIN:VEVENT
DTSTART;TZID=Europe/Paris:20231202T093000
DTEND;TZID=Europe/Paris:20231202T113000
DTSTAMP:20260419T140203
CREATED:20231005T143613Z
LAST-MODIFIED:20231005T143616Z
UID:46279-1701509400-1701516600@villamonin.fr
SUMMARY:Menu Macarons des Fêtes
DESCRIPTION:Macarons au foie gras\nMacarons au saumon fumé d’Ecosse\nMacarons Yuzu Mandarine\nMacarons pomme verte et Pistache\n\nTechniques abordées \n\nComment faire la meringue au sirop\nLe dosage sucre/poudre d’amandes\nLe macaronage\nApprentissage du dosage en poche\nL’utilisation des colorants naturels\nLa cuisson\nLes garnitures faciles et gourmandes
URL:https://villamonin.fr/cours/menu-macarons-des-fetes-2/
CATEGORIES:Atelier Cuisine,Menu thématique - 2h
END:VEVENT
BEGIN:VEVENT
DTSTART;TZID=Europe/Paris:20231202T180000
DTEND;TZID=Europe/Paris:20231202T193000
DTSTAMP:20260419T140203
CREATED:20231005T122804Z
LAST-MODIFIED:20231109T142850Z
UID:46218-1701540000-1701545400@villamonin.fr
SUMMARY:Mixologie
DESCRIPTION:Spécial Cocktails Fêtes de fin d’année \nNos mixologues vous proposent de découvrir trois recettes signatures aux saveurs hivernales que vous pourrez reproduire à la maison pour vos diners de fêtes : \n\nLe Jingle Mule : un cocktail sans alcool aux notes de cassis\, de raisin\, d’orange amère et de gingembre que vous préparerez au shaker et que vous agrémenterez d’une décoration en rapport avec Noël.\nLe Spritz’Mas : un cocktail aperitivo léger en alcool sur une base de vermouth blanc\, aux arômes de fruits rouges et d’épices douces.\nLe Santaïquiri : un twist hivernal du célèbre Daïquiri\, aromatisé avec notre Sirop de MONIN Saveur Epices d’Hiver et surmonté de son espuma au Sirop de MONIN Mandarine\, servi dans un contenant « so Xmassy »\n\nNotre mixologue vous accompagnera dans l’élaboration et la création de vos cocktails et vous donnera quelques astuces afin de préparer ces recettes pour vos réveillons de Noël ou du Jour de l’An.
URL:https://villamonin.fr/cours/mixologie-02-12-23/
CATEGORIES:Mixologie - 1h30
ATTACH;FMTTYPE=image/jpeg:https://villamonin.fr/wp-content/uploads/2023/09/Christmas-Spritz-2.jpg
END:VEVENT
BEGIN:VEVENT
DTSTART;TZID=Europe/Paris:20231206T140000
DTEND;TZID=Europe/Paris:20231206T160000
DTSTAMP:20260419T140203
CREATED:20231010T162556Z
LAST-MODIFIED:20231011T142123Z
UID:46502-1701871200-1701878400@villamonin.fr
SUMMARY:Pâtisserie Parent/Enfant Desserts de Noël
DESCRIPTION:Macarons de Noël\nEntremets dans sa bulle\n\nTechnique abordée \n\nAstuces des macarons\nTechnique des meringues\nComment faire ses entremets
URL:https://villamonin.fr/cours/patisserie-parent-enfant-desserts-de-noel-06-12-23/
CATEGORIES:Atelier parent/enfant
ATTACH;FMTTYPE=image/jpeg:https://villamonin.fr/wp-content/uploads/2023/10/HILG7664.jpg
END:VEVENT
BEGIN:VEVENT
DTSTART;TZID=Europe/Paris:20231207T121500
DTEND;TZID=Europe/Paris:20231207T130000
DTSTAMP:20260419T140203
CREATED:20231010T163233Z
LAST-MODIFIED:20231010T163233Z
UID:46505-1701951300-1701954000@villamonin.fr
SUMMARY:Un Plat démonstration - Magret de canard
DESCRIPTION:Magret de canard basse température au miel d’épices  « l’orée du bois »\, légumes oubliés\nDessert du Chef à emporter\n\nTechniques abordées \n\nPréparation et cuisson du magret\nTechnique du laquage au miel\nDressage à l’assiette
URL:https://villamonin.fr/cours/un-plat-demonstration-magret-de-canard/
CATEGORIES:Menu express 45min
ATTACH;FMTTYPE=image/jpeg:https://villamonin.fr/wp-content/uploads/2023/02/Magret.jpg
END:VEVENT
BEGIN:VEVENT
DTSTART;TZID=Europe/Paris:20231207T173000
DTEND;TZID=Europe/Paris:20231207T190000
DTSTAMP:20260419T140203
CREATED:20231005T125018Z
LAST-MODIFIED:20231110T093326Z
UID:46250-1701970200-1701975600@villamonin.fr
SUMMARY:Mixologie
DESCRIPTION:Techniques abordées \n\nVous apprendrez à réaliser trois cocktails iconiques à base de rhum\, le spiritueux préféré des Français :\n\nLe Mojito : cet intemporel est le cocktail national de l’île de Cuba\, vous apprendrez tout sur la façon de le préparer et de le twister.\nLa Piña Colada : Le cocktail national de l’Île de Porto Rico\, fameux mélange de rhum d’ananas et du Fruit de MONIN Coco\, vous le préparez au shaker en suivant les conseils de notre mixologue.\nLe Maï Taï : un cocktail emblématique de la culture « tiki » aux saveurs d’orange amère\, de citron vert et d’amande de rhum blanc et brun\, que vous réaliserez au shaker encore une fois.\n\nLes cocktails de ce cours peuvent se décliner en version sans alcool avec Le Sirop de MONIN Saveur Rhum\, n’hésitez pas à le demander à notre mixologue.
URL:https://villamonin.fr/cours/mixologie-07-12-23/
CATEGORIES:Mixologie - 1h30
ATTACH;FMTTYPE=image/png:https://villamonin.fr/wp-content/uploads/2023/01/774-Jug-Mojito-LD.png
END:VEVENT
BEGIN:VEVENT
DTSTART;TZID=Europe/Paris:20231208T121500
DTEND;TZID=Europe/Paris:20231208T130000
DTSTAMP:20260419T140203
CREATED:20231011T120603Z
LAST-MODIFIED:20231011T120604Z
UID:46546-1702037700-1702040400@villamonin.fr
SUMMARY:Un Plat démonstration - Magret de canard
DESCRIPTION:Magret de canard basse température au miel d’épices  « l’orée du bois »\, légumes oubliés\nDessert du Chef à emporter\n\nTechniques abordées \n\nPréparation et cuisson du magret\nTechnique du laquage au miel\nDressage à l’assiette
URL:https://villamonin.fr/cours/un-plat-demonstration-magret-de-canard-2/
CATEGORIES:Menu express 45min
ATTACH;FMTTYPE=image/jpeg:https://villamonin.fr/wp-content/uploads/2023/02/Magret.jpg
END:VEVENT
BEGIN:VEVENT
DTSTART;TZID=Europe/Paris:20231208T173000
DTEND;TZID=Europe/Paris:20231208T190000
DTSTAMP:20260419T140203
CREATED:20231005T123051Z
LAST-MODIFIED:20231110T093501Z
UID:46221-1702056600-1702062000@villamonin.fr
SUMMARY:Mixologie
DESCRIPTION:Spécial Cocktails Fêtes de fin d’année \nNos mixologues vous proposent de découvrir trois recettes signatures aux saveurs hivernales que vous pourrez reproduire à la maison pour vos diners de fêtes : \n\nLe Jingle Mule : un cocktail sans alcool aux notes de cassis\, de raisin\, d’orange amère et de gingembre que vous préparerez au shaker et que vous agrémenterez d’une décoration en rapport avec Noël.\nLe Spritz’Mas : un cocktail aperitivo léger en alcool sur une base de vermouth blanc\, aux arômes de fruits rouges et d’épices douces.\nLe Santaïquiri : un twist hivernal du célèbre Daïquiri\, aromatisé avec notre Sirop de MONIN Saveur Epices d’Hiver et surmonté de son espuma au Sirop de MONIN Mandarine\, servi dans un contenant « so Xmassy »\n\nNotre mixologue vous accompagnera dans l’élaboration et la création de vos cocktails et vous donnera quelques astuces afin de préparer ces recettes pour vos réveillons de Noël ou du Jour de l’An.
URL:https://villamonin.fr/cours/mixologie-08-12-23/
CATEGORIES:Mixologie - 1h30
ATTACH;FMTTYPE=image/jpeg:https://villamonin.fr/wp-content/uploads/2023/09/Pornstar.jpg
END:VEVENT
BEGIN:VEVENT
DTSTART;TZID=Europe/Paris:20231209T093000
DTEND;TZID=Europe/Paris:20231209T113000
DTSTAMP:20260419T140203
CREATED:20231011T121153Z
LAST-MODIFIED:20231011T121154Z
UID:46549-1702114200-1702121400@villamonin.fr
SUMMARY:Menu Festif
DESCRIPTION:Pot au feu de foie gras aux vieux légumes\nMagret de canard basse température au miel d’épices  « l’orée du bois »\, légumes oubliés\nDessert du Chef à emporter\n\nTechniques abordées \n\nPochage du foie gras\nDécoupe et cuisson des légumes\nPréparation et cuisson du magret\nTechnique du laquage au miel
URL:https://villamonin.fr/cours/menu-festif-2/
CATEGORIES:Atelier Cuisine,Menu thématique - 2h
ATTACH;FMTTYPE=image/jpeg:https://villamonin.fr/wp-content/uploads/2023/02/Magret.jpg
END:VEVENT
BEGIN:VEVENT
DTSTART;TZID=Europe/Paris:20231209T180000
DTEND;TZID=Europe/Paris:20231209T193000
DTSTAMP:20260419T140203
CREATED:20231005T123256Z
LAST-MODIFIED:20231110T093557Z
UID:46224-1702144800-1702150200@villamonin.fr
SUMMARY:Mixologie
DESCRIPTION:Spécial Cocktails Fêtes de fin d’année \nNos mixologues vous proposent de découvrir trois recettes signatures aux saveurs hivernales que vous pourrez reproduire à la maison pour vos diners de fêtes : \n\nLe Jingle Mule : un cocktail sans alcool aux notes de cassis\, de raisin\, d’orange amère et de gingembre que vous préparerez au shaker et que vous agrémenterez d’une décoration en rapport avec Noël.\nLe Spritz’Mas : un cocktail aperitivo léger en alcool sur une base de vermouth blanc\, aux arômes de fruits rouges et d’épices douces.\nLe Santaïquiri : un twist hivernal du célèbre Daïquiri\, aromatisé avec notre Sirop de MONIN Saveur Epices d’Hiver et surmonté de son espuma au Sirop de MONIN Mandarine\, servi dans un contenant « so Xmassy »\n\nNotre mixologue vous accompagnera dans l’élaboration et la création de vos cocktails et vous donnera quelques astuces afin de préparer ces recettes pour vos réveillons de Noël ou du Jour de l’An.
URL:https://villamonin.fr/cours/mixologie-09-12-23/
CATEGORIES:Mixologie - 1h30
ATTACH;FMTTYPE=image/jpeg:https://villamonin.fr/wp-content/uploads/2023/09/Pornstar.jpg
END:VEVENT
BEGIN:VEVENT
DTSTART;TZID=Europe/Paris:20231213T121500
DTEND;TZID=Europe/Paris:20231213T130000
DTSTAMP:20260419T140203
CREATED:20231011T124730Z
LAST-MODIFIED:20231011T124731Z
UID:46554-1702469700-1702472400@villamonin.fr
SUMMARY:Un Plat démonstration - Noix de St Jacques
DESCRIPTION:Noix de St Jacques poêlées\, pommes acides et salade de jeunes pousses à l’huile de truffe blanche d’Alba\nDessert du Chef à emporter\n\nTechniques abordées \n\nPréparation des St Jacques et cuisson à l’huile de truffe\nDressage à l’assiette
URL:https://villamonin.fr/cours/un-plat-demonstration-noix-de-st-jacques-2/
CATEGORIES:Menu express 45min
ATTACH;FMTTYPE=image/jpeg:https://villamonin.fr/wp-content/uploads/2022/07/St-jacques.jpg
END:VEVENT
BEGIN:VEVENT
DTSTART;TZID=Europe/Paris:20231213T170000
DTEND;TZID=Europe/Paris:20231213T190000
DTSTAMP:20260419T140203
CREATED:20231011T125631Z
LAST-MODIFIED:20231011T125632Z
UID:46557-1702486800-1702494000@villamonin.fr
SUMMARY:Menu Festif
DESCRIPTION:Tartare de noix de St Jacques au Yuzu\, salade de jeunes pousses\nMagret de canard Luculus (farci au foie gras)\nDessert du Chef à emporter\n\nTechniques abordées \n\nPréparation du tartare et marinade au Yuzu\nCuisson du magret et technique de la découpe\nPréparation du foie gras pour le Luculus
URL:https://villamonin.fr/cours/menu-festif-3/
CATEGORIES:Atelier Cuisine,Menu thématique - 2h
ATTACH;FMTTYPE=image/jpeg:https://villamonin.fr/wp-content/uploads/2023/10/Magret-de-canard-au-foie-gras.jpg
END:VEVENT
BEGIN:VEVENT
DTSTART;TZID=Europe/Paris:20231214T121500
DTEND;TZID=Europe/Paris:20231214T130000
DTSTAMP:20260419T140203
CREATED:20231011T130200Z
LAST-MODIFIED:20231130T105758Z
UID:46561-1702556100-1702558800@villamonin.fr
SUMMARY:Un Plat démo avec Cheffe Stéphanie
DESCRIPTION:Petit chou farci aux légumes et lentilles vertes du Berry\, purée de butternut\, échalotes caramélisées à l’huile de truffe\nDessert à emporter\n\nTechniques abordées \n\nTechnique de cuisson du butternut au vitaliseur\nPréparation de la farce\nDressage à l’assiette
URL:https://villamonin.fr/cours/un-plat-demo-avec-cheffe-stephanie-14-12-23/
CATEGORIES:Menu express 45min
END:VEVENT
BEGIN:VEVENT
DTSTART;TZID=Europe/Paris:20231214T173000
DTEND;TZID=Europe/Paris:20231214T190000
DTSTAMP:20260419T140203
CREATED:20231005T125358Z
LAST-MODIFIED:20231110T093726Z
UID:46253-1702575000-1702580400@villamonin.fr
SUMMARY:Mixologie
DESCRIPTION:Techniques abordées \n\nAprès le succès du 1er cours « Autour du rhum et des Caraïbes »\, vous découvrirez trois autres cocktails à base de rhum !\n\nLe Falernum Rhum Mule : vous apprendrez à réaliser notre version du « Dark & Stormy » cocktail originaire de La Barbade dans sa version twistée avec notre Sirop Saveur Falernum aux notes de gingembre\, amande\, clou de girofle et zeste de citron vert. Ce cocktail peut se décliner en version sans alcool.\nLa Daïquiri : l’autre cocktail national de l’Île de Cuba après le Mojito. Vous aurez besoin du shaker et des outils nécessaires pour le réaliser tout en suivant les conseils de notre mixologue.\nLe Rhum Old Fashioned : ce cocktail originalement préparé à base de bourbon se décline à merveille avec du rhum vieux\, du bitter aromatique et nos sirops Sucre de Canne Roux\, Sucre Muscovado ou un autre parfum de la gamme présente à La Cour des Chefs
URL:https://villamonin.fr/cours/mixologie-14-12-23/
CATEGORIES:Mixologie - 1h30
ATTACH;FMTTYPE=image/jpeg:https://villamonin.fr/wp-content/uploads/2023/03/FRUIT-LIME-DAIQUIRI-framing-a107b.jpg
END:VEVENT
BEGIN:VEVENT
DTSTART;TZID=Europe/Paris:20231215T121500
DTEND;TZID=Europe/Paris:20231215T130000
DTSTAMP:20260419T140203
CREATED:20231011T131503Z
LAST-MODIFIED:20231011T131504Z
UID:46564-1702642500-1702645200@villamonin.fr
SUMMARY:Un Plat démonstration - Pot au feu de foie gras
DESCRIPTION:Pot au feu de foie gras\, aiguillettes du filet\, légumes en cocotte\nDessert du Chef à emporter\n\nTechniques abordées \n\nTechnique de découpe et cuisson\nPréparation du bouillon\nDressage en cocotte
URL:https://villamonin.fr/cours/un-plat-demonstration-pot-au-feu-de-foie-gras/
CATEGORIES:Menu express 45min
ATTACH;FMTTYPE=image/jpeg:https://villamonin.fr/wp-content/uploads/2022/10/TF-046.jpg
END:VEVENT
BEGIN:VEVENT
DTSTART;TZID=Europe/Paris:20231215T173000
DTEND;TZID=Europe/Paris:20231215T190000
DTSTAMP:20260419T140203
CREATED:20231005T123514Z
LAST-MODIFIED:20231110T093834Z
UID:46227-1702661400-1702666800@villamonin.fr
SUMMARY:Mixologie
DESCRIPTION:Spécial Cocktails Fêtes de fin d’année \nNos mixologues vous proposent de découvrir trois recettes signatures aux saveurs hivernales que vous pourrez reproduire à la maison pour vos diners de fêtes : \n\nLe Jingle Mule : un cocktail sans alcool aux notes de cassis\, de raisin\, d’orange amère et de gingembre que vous préparerez au shaker et que vous agrémenterez d’une décoration en rapport avec Noël.\nLe Spritz’Mas : un cocktail aperitivo léger en alcool sur une base de vermouth blanc\, aux arômes de fruits rouges et d’épices douces.\nLe Santaïquiri : un twist hivernal du célèbre Daïquiri\, aromatisé avec notre Sirop de MONIN Saveur Epices d’Hiver et surmonté de son espuma au Sirop de MONIN Mandarine\, servi dans un contenant « so Xmassy »\n\nNotre mixologue vous accompagnera dans l’élaboration et la création de vos cocktails et vous donnera quelques astuces afin de préparer ces recettes pour vos réveillons de Noël ou du Jour de l’An.
URL:https://villamonin.fr/cours/mixologie-15-12-23/
CATEGORIES:Mixologie - 1h30
ATTACH;FMTTYPE=image/jpeg:https://villamonin.fr/wp-content/uploads/2023/09/Christmas-Spritz-2.jpg
END:VEVENT
BEGIN:VEVENT
DTSTART;TZID=Europe/Paris:20231216T093000
DTEND;TZID=Europe/Paris:20231216T113000
DTSTAMP:20260419T140203
CREATED:20231011T132004Z
LAST-MODIFIED:20231214T141654Z
UID:46567-1702719000-1702726200@villamonin.fr
SUMMARY:Cours Spécial Foie gras
DESCRIPTION:Technique du Foie gras mi-cuit  en ballotine\n\nTechniques abordées \n\nComment déveiner le foie\nPréparation de la Marinade\nLes astuces de cuisson
URL:https://villamonin.fr/cours/cours-special-foie-gras-16-12-23/
CATEGORIES:Atelier Cuisine,Menu thématique - 2h
ATTACH;FMTTYPE=image/jpeg:https://villamonin.fr/wp-content/uploads/2022/10/TF-046.jpg
END:VEVENT
BEGIN:VEVENT
DTSTART;TZID=Europe/Paris:20231216T180000
DTEND;TZID=Europe/Paris:20231216T193000
DTSTAMP:20260419T140203
CREATED:20231005T123743Z
LAST-MODIFIED:20231110T093941Z
UID:46230-1702749600-1702755000@villamonin.fr
SUMMARY:Mixologie
DESCRIPTION:Spécial Cocktails Fêtes de fin d’année \nNos mixologues vous proposent de découvrir trois recettes signatures aux saveurs hivernales que vous pourrez reproduire à la maison pour vos diners de fêtes : \n\nLe Jingle Mule : un cocktail sans alcool aux notes de cassis\, de raisin\, d’orange amère et de gingembre que vous préparerez au shaker et que vous agrémenterez d’une décoration en rapport avec Noël.\nLe Spritz’Mas : un cocktail aperitivo léger en alcool sur une base de vermouth blanc\, aux arômes de fruits rouges et d’épices douces.\nLe Santaïquiri : un twist hivernal du célèbre Daïquiri\, aromatisé avec notre Sirop de MONIN Saveur Epices d’Hiver et surmonté de son espuma au Sirop de MONIN Mandarine\, servi dans un contenant « so Xmassy »\n\nNotre mixologue vous accompagnera dans l’élaboration et la création de vos cocktails et vous donnera quelques astuces afin de préparer ces recettes pour vos réveillons de Noël ou du Jour de l’An.
URL:https://villamonin.fr/cours/mixologie-16-12-23/
CATEGORIES:Mixologie - 1h30
ATTACH;FMTTYPE=image/jpeg:https://villamonin.fr/wp-content/uploads/2023/09/Christmas-Spritz-2.jpg
END:VEVENT
BEGIN:VEVENT
DTSTART;TZID=Europe/Paris:20231220T093000
DTEND;TZID=Europe/Paris:20231220T113000
DTSTAMP:20260419T140203
CREATED:20231011T141611Z
LAST-MODIFIED:20231011T141612Z
UID:46573-1703064600-1703071800@villamonin.fr
SUMMARY:Cours Spécial Foie gras
DESCRIPTION:Technique du Foie gras mi-cuit  en ballotine\n\nTechniques abordées \n\nComment déveiner le foie\nPréparation de la Marinade\nLes astuces de cuisson
URL:https://villamonin.fr/cours/cours-special-foie-gras-2/
CATEGORIES:Atelier Cuisine,Menu thématique - 2h
ATTACH;FMTTYPE=image/jpeg:https://villamonin.fr/wp-content/uploads/2022/10/TF-046.jpg
END:VEVENT
BEGIN:VEVENT
DTSTART;TZID=Europe/Paris:20231220T140000
DTEND;TZID=Europe/Paris:20231220T160000
DTSTAMP:20260419T140203
CREATED:20231011T142039Z
LAST-MODIFIED:20231011T142039Z
UID:46578-1703080800-1703088000@villamonin.fr
SUMMARY:Pâtisserie Parent/Enfant Desserts de Noël
DESCRIPTION:Macarons de Noël\nEntremets dans sa bulle\n\nTechnique abordée \n\nAstuces des macarons\nTechnique des meringues\nComment faire ses entremets
URL:https://villamonin.fr/cours/patisserie-parent-enfant-desserts-de-noel/
CATEGORIES:Atelier parent/enfant
ATTACH;FMTTYPE=image/jpeg:https://villamonin.fr/wp-content/uploads/2023/10/HILG7664.jpg
END:VEVENT
BEGIN:VEVENT
DTSTART;TZID=Europe/Paris:20231221T121500
DTEND;TZID=Europe/Paris:20231221T130000
DTSTAMP:20260419T140203
CREATED:20231031T102058Z
LAST-MODIFIED:20231102T083259Z
UID:47456-1703160900-1703163600@villamonin.fr
SUMMARY:Un Plat Démonstration - Volaille fermière de Racan
DESCRIPTION:Volaille fermière de Racan à la royale (foie gras)\, pommes de terre confite en millefeuille\nDessert du Chef à emporter\n\nTechniques abordées \nDécoupe et cuisson de la volaille\, technique de la sauce au foie gras \nDressage à l’assiette \n  \n 
URL:https://villamonin.fr/cours/un-plat-demonstration-volaille-fermiere-de-racan-21-12-23/
CATEGORIES:Menu express 45min
ATTACH;FMTTYPE=image/jpeg:https://villamonin.fr/wp-content/uploads/2023/03/Blanc-de-volaille.jpg
END:VEVENT
BEGIN:VEVENT
DTSTART;TZID=Europe/Paris:20231221T173000
DTEND;TZID=Europe/Paris:20231221T190000
DTSTAMP:20260419T140203
CREATED:20231005T131820Z
LAST-MODIFIED:20231110T094129Z
UID:46260-1703179800-1703185200@villamonin.fr
SUMMARY:Mixologie
DESCRIPTION:Accompagné de notre mixologue\, vous apprendrez à réaliser 3 cocktails emblématiques de la culture latino.\n\nLa Caïpirinha : le cocktail national du Brésil à base de cachaça\, l’eau de vie de canne à sucre locale\, de citron vert et de Sirop de Sucre de Canne MONIN. Vous apprendrez la méthode au pilon pour confectionner ce cocktail intemporel.\nLa Margarita : le cocktail national du Mexique à base de tequila de Liqueur de Triple Sec MONIN et de citron vert\, préparée au shaker et servie dans son verre givré au sel.\nLe Pisco Sour : le cocktail national du Pérou et du Chili\, à base de pisco\, une eau de vie de vin non vieillie en fût. Notre mixologue vous dévoilera les secrets de la méthode du « Reverse Dry Shake » et du « Double Strain » afin de réaliser un cocktail parfaitement équilibré et avec une onctueuse mousse de blanc d’œuf*. Vous aurez le choix de confectionner le cocktail classique original ou de le twister avec une des saveurs Le Sirop de MONIN disponible à La Cour des Chefs.\n\n* allergènes \nLes cocktails composant ce cours ne peuvent pas être déclinés en version sans alcool.
URL:https://villamonin.fr/cours/mixologie-21-12-23/
CATEGORIES:Mixologie - 1h30
ATTACH;FMTTYPE=image/jpeg:https://villamonin.fr/wp-content/uploads/2022/05/Spicy-Margarita-brush-gesture.jpg
END:VEVENT
BEGIN:VEVENT
DTSTART;TZID=Europe/Paris:20231222T093000
DTEND;TZID=Europe/Paris:20231222T113000
DTSTAMP:20260419T140203
CREATED:20231102T101406Z
LAST-MODIFIED:20231102T101406Z
UID:47525-1703237400-1703244600@villamonin.fr
SUMMARY:Menu des Fêtes
DESCRIPTION:Tartare de noix de St Jacques au Yuzu\, salade de jeunes pousses\nVolaille fermière de Racan à la royale (foie gras)\, pommes de terre confite en millefeuille\nDessert du Chef à emporter\n\nTechniques abordées \n\nPréparation du tartare et da marinade\nDécoupe et cuisson de la volaille\, technique de la sauce au foie gras\nDressage à l’assiette
URL:https://villamonin.fr/cours/menu-des-fetes/
CATEGORIES:Atelier Cuisine,Menu thématique - 2h
ATTACH;FMTTYPE=image/jpeg:https://villamonin.fr/wp-content/uploads/2023/03/Blanc-de-volaille.jpg
END:VEVENT
BEGIN:VEVENT
DTSTART;TZID=Europe/Paris:20231222T173000
DTEND;TZID=Europe/Paris:20231222T190000
DTSTAMP:20260419T140203
CREATED:20231005T123952Z
LAST-MODIFIED:20231110T094240Z
UID:46233-1703266200-1703271600@villamonin.fr
SUMMARY:Mixologie
DESCRIPTION:Spécial Cocktails Fêtes de fin d’année \nNos mixologues vous proposent de découvrir trois recettes signatures aux saveurs hivernales que vous pourrez reproduire à la maison pour vos diners de fêtes : \n\nLe Jingle Mule : un cocktail sans alcool aux notes de cassis\, de raisin\, d’orange amère et de gingembre que vous préparerez au shaker et que vous agrémenterez d’une décoration en rapport avec Noël.\nLe Spritz’Mas : un cocktail aperitivo léger en alcool sur une base de vermouth blanc\, aux arômes de fruits rouges et d’épices douces.\nLe Santaïquiri : un twist hivernal du célèbre Daïquiri\, aromatisé avec notre Sirop de MONIN Saveur Epices d’Hiver et surmonté de son espuma au Sirop de MONIN Mandarine\, servi dans un contenant « so Xmassy »\n\nNotre mixologue vous accompagnera dans l’élaboration et la création de vos cocktails et vous donnera quelques astuces afin de préparer ces recettes pour vos réveillons de Noël ou du Jour de l’An.
URL:https://villamonin.fr/cours/mixologie-22-12-23/
CATEGORIES:Mixologie - 1h30
ATTACH;FMTTYPE=image/jpeg:https://villamonin.fr/wp-content/uploads/2023/09/Pornstar.jpg
END:VEVENT
BEGIN:VEVENT
DTSTART;TZID=Europe/Paris:20231223T093000
DTEND;TZID=Europe/Paris:20231223T110000
DTSTAMP:20260419T140203
CREATED:20231102T101749Z
LAST-MODIFIED:20231102T101750Z
UID:47529-1703323800-1703329200@villamonin.fr
SUMMARY:Pâtisserie - Spécial Macarons
DESCRIPTION:Chef Thierry FINET présente ses Macarons et ses astuces de réussite \nTechniques abordées \n\nComment faire la meringue au sirop\nLe dosage sucre/poudre d’amandes\nLe macaronage\nApprentissage du dosage en poche\nL’utilisation des colorants naturels\nLa cuisson\nLes garnitures faciles et gourmandes
URL:https://villamonin.fr/cours/patisserie-special-macarons-5/
CATEGORIES:Atelier Pâtisserie
ATTACH;FMTTYPE=image/jpeg:https://villamonin.fr/wp-content/uploads/2022/12/MACARONS_DSC0194.jpg
END:VEVENT
END:VCALENDAR