BEGIN:VCALENDAR
VERSION:2.0
PRODID:-//Villa MONIN - ECPv6.15.17//NONSGML v1.0//EN
CALSCALE:GREGORIAN
METHOD:PUBLISH
X-WR-CALNAME:Villa MONIN
X-ORIGINAL-URL:https://villamonin.fr
X-WR-CALDESC:Évènements pour Villa MONIN
REFRESH-INTERVAL;VALUE=DURATION:PT1H
X-Robots-Tag:noindex
X-PUBLISHED-TTL:PT1H
BEGIN:VTIMEZONE
TZID:Europe/Paris
BEGIN:DAYLIGHT
TZOFFSETFROM:+0100
TZOFFSETTO:+0200
TZNAME:CEST
DTSTART:20240331T010000
END:DAYLIGHT
BEGIN:STANDARD
TZOFFSETFROM:+0200
TZOFFSETTO:+0100
TZNAME:CET
DTSTART:20241027T010000
END:STANDARD
BEGIN:DAYLIGHT
TZOFFSETFROM:+0100
TZOFFSETTO:+0200
TZNAME:CEST
DTSTART:20250330T010000
END:DAYLIGHT
BEGIN:STANDARD
TZOFFSETFROM:+0200
TZOFFSETTO:+0100
TZNAME:CET
DTSTART:20251026T010000
END:STANDARD
BEGIN:DAYLIGHT
TZOFFSETFROM:+0100
TZOFFSETTO:+0200
TZNAME:CEST
DTSTART:20260329T010000
END:DAYLIGHT
BEGIN:STANDARD
TZOFFSETFROM:+0200
TZOFFSETTO:+0100
TZNAME:CET
DTSTART:20261025T010000
END:STANDARD
END:VTIMEZONE
BEGIN:VEVENT
DTSTART;TZID=Europe/Paris:20250301T093000
DTEND;TZID=Europe/Paris:20250301T113000
DTSTAMP:20260421T120108
CREATED:20241206T142837Z
LAST-MODIFIED:20241206T142838Z
UID:65277-1740821400-1740828600@villamonin.fr
SUMMARY:Menu autour du Bœuf
DESCRIPTION:Tartare et carpaccio\nBœuf à la Wellington\, chou chinois au miel\nDessert du Chef à emporter\n\nTechniques abordées \n\nDécoupe et Assaisonnement du bœuf\nTechnique de cuisson du bœuf en croute feuilletée\nCuisson des garnitures
URL:https://villamonin.fr/cours/menu-autour-du-boeuf-2/
CATEGORIES:Atelier Cuisine,Menu thématique - 2h
END:VEVENT
BEGIN:VEVENT
DTSTART;TZID=Europe/Paris:20250301T180000
DTEND;TZID=Europe/Paris:20250301T193000
DTSTAMP:20260421T120108
CREATED:20241127T152856Z
LAST-MODIFIED:20241127T152856Z
UID:64497-1740852000-1740857400@villamonin.fr
SUMMARY:Mixologie
DESCRIPTION:Techniques abordées \n\nRhum Vol.3\nPlongez encore plus loin dans l’univers du Rhum avec ce troisième volume\, avec 3 cocktails créatifs et emblématiques : le Timur n°5\, le El Presidente\, et le Tanayuki. Une nouvelle exploration du rhum à ne pas manquer.
URL:https://villamonin.fr/cours/mixologie-104/
CATEGORIES:Mixologie - 1h30
ATTACH;FMTTYPE=image/jpeg:https://villamonin.fr/wp-content/uploads/2023/09/Pornstar.jpg
END:VEVENT
BEGIN:VEVENT
DTSTART;TZID=Europe/Paris:20250305T093000
DTEND;TZID=Europe/Paris:20250305T110000
DTSTAMP:20260421T120108
CREATED:20250114T090112Z
LAST-MODIFIED:20250114T090112Z
UID:67832-1741167000-1741172400@villamonin.fr
SUMMARY:Pâtisserie
DESCRIPTION:Gâteaux de voyage \n\nFinanciers\nCakes\nFondant \n\nTechniques abordées \n\nPréparation des appareils\ncuisson
URL:https://villamonin.fr/cours/patisserie-4/
CATEGORIES:Atelier Pâtisserie
ATTACH;FMTTYPE=image/png:https://villamonin.fr/wp-content/uploads/2023/01/TARTELETTE-CHOCOLAT-PASSION-2-LD.png
END:VEVENT
BEGIN:VEVENT
DTSTART;TZID=Europe/Paris:20250305T140000
DTEND;TZID=Europe/Paris:20250305T160000
DTSTAMP:20260421T120108
CREATED:20250114T093201Z
LAST-MODIFIED:20250206T090503Z
UID:67835-1741183200-1741190400@villamonin.fr
SUMMARY:Pâtisserie - Parents/Enfants
DESCRIPTION:Une inscription à 69€ = un duo parent/enfant (à partir de 6 ans) – 5 places “duo” disponibles \nSpécial Chocolat \n\nFondant\nMoelleux\nMousses\n\nTechniques abordées \n\nLes techniques de cuisson (Temps\, température\, niveau)\nLes différents moules à utiliser\nLa cristallisation du chocolat
URL:https://villamonin.fr/cours/patisserie-parents-enfants-05-03-25/
CATEGORIES:Atelier parent/enfant
ATTACH;FMTTYPE=image/webp:https://villamonin.fr/wp-content/uploads/2022/12/chocolat-300x300-1.webp
END:VEVENT
BEGIN:VEVENT
DTSTART;TZID=Europe/Paris:20250306T121500
DTEND;TZID=Europe/Paris:20250306T130000
DTSTAMP:20260421T120108
CREATED:20250114T093905Z
LAST-MODIFIED:20250114T093905Z
UID:67839-1741263300-1741266000@villamonin.fr
SUMMARY:Un Plat démo - Asperges et dos de Merlu
DESCRIPTION:Asperges vertes en fraicheur\, dos de merlu\, jus cuisiné au yuzu\nDessert des Chefs à emporter\n\nTechniques abordées \n\nTaille et cuisson des asperges\nPréparation du jus cuisiné\nDressage à l’assiette
URL:https://villamonin.fr/cours/un-plat-demo-asperges-et-dos-de-merlu/
CATEGORIES:Menu express 45min
ATTACH;FMTTYPE=image/jpeg:https://villamonin.fr/wp-content/uploads/2023/01/Asperges.jpg
END:VEVENT
BEGIN:VEVENT
DTSTART;TZID=Europe/Paris:20250306T173000
DTEND;TZID=Europe/Paris:20250306T190000
DTSTAMP:20260421T120108
CREATED:20250110T141957Z
LAST-MODIFIED:20250303T075421Z
UID:67716-1741282200-1741287600@villamonin.fr
SUMMARY:Mixologie
DESCRIPTION:La Tendance Gin \n\nLe Gin est devenu ces dernières années l’un des spiritueux les plus populaires auprès des consommateurs. Accompagné de notre mixologue vous apprendrez à réaliser Le London Mule\, un Gin Tonic aromatisé et le Gin Sour.
URL:https://villamonin.fr/cours/mixologie-06-03-25/
CATEGORIES:Mixologie - 1h30
ATTACH;FMTTYPE=image/jpeg:https://villamonin.fr/wp-content/uploads/2022/07/Gin.jpg
END:VEVENT
BEGIN:VEVENT
DTSTART;TZID=Europe/Paris:20250307T093000
DTEND;TZID=Europe/Paris:20250307T113000
DTSTAMP:20260421T120108
CREATED:20250114T094326Z
LAST-MODIFIED:20250114T094326Z
UID:67842-1741339800-1741347000@villamonin.fr
SUMMARY:Menu du Marché
DESCRIPTION:Céviché de merlu\, avocat\, mangue et oignon rouge\nAsperges vertes en fraicheur\, dos de merlu\, jus cuisiné au yuzu\nDessert des Chefs à emporter\n\nTechniques abordées \n\nTechnique et préparation de la sauce\nCuisson et préparation des légumes\nDressage à l’assiette
URL:https://villamonin.fr/cours/menu-du-marche/
CATEGORIES:Atelier Cuisine,Menu thématique - 2h
ATTACH;FMTTYPE=image/png:https://villamonin.fr/wp-content/uploads/2022/07/DSC_0524.png
END:VEVENT
BEGIN:VEVENT
DTSTART;TZID=Europe/Paris:20250307T170000
DTEND;TZID=Europe/Paris:20250307T183000
DTSTAMP:20260421T120108
CREATED:20250114T094624Z
LAST-MODIFIED:20250114T094624Z
UID:67845-1741366800-1741372200@villamonin.fr
SUMMARY:Pâtisserie - Spécial Macarons
DESCRIPTION:L’équipe de Chefs présente ses Macarons et ses astuces de réussite \nTechniques abordées \n\nComment faire la meringue au sirop\nLe dosage sucre/poudre d’amandes\nLe macaronage\nApprentissage du dosage en poche\nL’utilisation des colorants naturels\nLa cuisson\nLes garnitures faciles et gourmandes
URL:https://villamonin.fr/cours/patisserie-special-macarons-27/
CATEGORIES:Atelier Pâtisserie
END:VEVENT
BEGIN:VEVENT
DTSTART;TZID=Europe/Paris:20250308T093000
DTEND;TZID=Europe/Paris:20250308T110000
DTSTAMP:20260421T120108
CREATED:20250114T094952Z
LAST-MODIFIED:20250114T094952Z
UID:67848-1741426200-1741431600@villamonin.fr
SUMMARY:Pâtisserie - Spécial Macarons
DESCRIPTION:L’équipe de Chefs présente ses Macarons et ses astuces de réussite \nTechniques abordées \n\nComment faire la meringue au sirop\nLe dosage sucre/poudre d’amandes\nLe macaronage\nApprentissage du dosage en poche\nL’utilisation des colorants naturels\nLa cuisson\nLes garnitures faciles et gourmandes
URL:https://villamonin.fr/cours/patisserie-special-macarons-31/
CATEGORIES:Atelier Pâtisserie
END:VEVENT
BEGIN:VEVENT
DTSTART;TZID=Europe/Paris:20250308T180000
DTEND;TZID=Europe/Paris:20250308T193000
DTSTAMP:20260421T120108
CREATED:20250110T142253Z
LAST-MODIFIED:20250220T131920Z
UID:67719-1741456800-1741462200@villamonin.fr
SUMMARY:Mixologie
DESCRIPTION:HOLI \nCocktails au thèmes des couleurs Fêtes de L’INDE \n\nle Lassi\nLe Holi Bliss\nLe Timur Spice Punch\n\n 
URL:https://villamonin.fr/cours/mixologie-08-03-25/
CATEGORIES:Mixologie - 1h30
ATTACH;FMTTYPE=image/jpeg:https://villamonin.fr/wp-content/uploads/2023/02/ginto_portraitcRinaNURRA-bd.jpg
END:VEVENT
BEGIN:VEVENT
DTSTART;TZID=Europe/Paris:20250312T093000
DTEND;TZID=Europe/Paris:20250312T113000
DTSTAMP:20260421T120108
CREATED:20250114T095440Z
LAST-MODIFIED:20250128T091406Z
UID:67851-1741771800-1741779000@villamonin.fr
SUMMARY:Menu de Printemps
DESCRIPTION:Cappuccino de chou-fleur au petit lait de coco\nMignon de veau juste saisi cuit basse température\, poireaux rôtis à la moutarde à l’ancienne\nDessert des Chefs à emporter\n\nTechniques abordées \n\nComment râpé le chou-fleur pour la semoule\nPréparation du cappuccino\nCuisson du veau\nTechnique à réaliser sur marinade des poireaux
URL:https://villamonin.fr/cours/menu-de-printemps-12-03-25/
CATEGORIES:Atelier Cuisine,Menu thématique - 2h
END:VEVENT
BEGIN:VEVENT
DTSTART;TZID=Europe/Paris:20250312T140000
DTEND;TZID=Europe/Paris:20250312T153000
DTSTAMP:20260421T120108
CREATED:20250114T095821Z
LAST-MODIFIED:20250206T091025Z
UID:67854-1741788000-1741793400@villamonin.fr
SUMMARY:Pâtisserie - Spécial Chocolat
DESCRIPTION:Fondant\nCharlotte\nMousses\n\nTechniques abordées \n\nLes techniques de cuisson (Temps\, température\, niveau)\nLes différents moules à utiliser
URL:https://villamonin.fr/cours/patisserie-special-chocolat-12-03-25/
CATEGORIES:Atelier Pâtisserie
ATTACH;FMTTYPE=image/webp:https://villamonin.fr/wp-content/uploads/2022/12/chocolat-300x300-1.webp
END:VEVENT
BEGIN:VEVENT
DTSTART;TZID=Europe/Paris:20250313T093000
DTEND;TZID=Europe/Paris:20250313T110000
DTSTAMP:20260421T120108
CREATED:20250114T100921Z
LAST-MODIFIED:20250128T091321Z
UID:67857-1741858200-1741863600@villamonin.fr
SUMMARY:Pâtisserie - Spécial Chocolat
DESCRIPTION:Fondant\nCharlotte\nMousses\n\nTechniques abordées \n\nLes techniques de cuisson (Temps\, température\, niveau)\nLes différents moules à utiliser
URL:https://villamonin.fr/cours/patisserie-special-chocolat-13-03-25/
CATEGORIES:Atelier Pâtisserie
ATTACH;FMTTYPE=image/webp:https://villamonin.fr/wp-content/uploads/2022/12/chocolat-300x300-1.webp
END:VEVENT
BEGIN:VEVENT
DTSTART;TZID=Europe/Paris:20250313T173000
DTEND;TZID=Europe/Paris:20250313T190000
DTSTAMP:20260421T120108
CREATED:20250110T143015Z
LAST-MODIFIED:20250225T134229Z
UID:67725-1741887000-1741892400@villamonin.fr
SUMMARY:Mixologie
DESCRIPTION:Les Créations du Bar 1912 de la VILLA MONIN \n\n 3 cocktails signature créés par nos Chefs Barmen\n\nClos des Fées\nL’Ursine\nLe Green’sh
URL:https://villamonin.fr/cours/mixologie-13-03-25/
CATEGORIES:Mixologie - 1h30
ATTACH;FMTTYPE=image/jpeg:https://villamonin.fr/wp-content/uploads/2023/07/moscowmule_paysagecRinaNURRA-bd.jpg
END:VEVENT
BEGIN:VEVENT
DTSTART;TZID=Europe/Paris:20250314T093000
DTEND;TZID=Europe/Paris:20250314T113000
DTSTAMP:20260421T120108
CREATED:20250114T101241Z
LAST-MODIFIED:20250128T091233Z
UID:67860-1741944600-1741951800@villamonin.fr
SUMMARY:Menu de Printemps
DESCRIPTION:Cappuccino de chou-fleur au petit lait de coco\nMignon de veau juste saisi cuit basse température\, poireaux rôtis à la moutarde à l’ancienne\nDessert des Chefs à emporter\n\nTechniques abordées \n\nComment râpé le chou-fleur pour la semoule\nPréparation du cappuccino\nCuisson du veau\nTechnique à réaliser sur marinade des poireaux
URL:https://villamonin.fr/cours/menu-de-printemps-14-03-25/
CATEGORIES:Atelier Cuisine,Menu thématique - 2h
END:VEVENT
BEGIN:VEVENT
DTSTART;TZID=Europe/Paris:20250314T173000
DTEND;TZID=Europe/Paris:20250314T190000
DTSTAMP:20260421T120108
CREATED:20250110T143309Z
LAST-MODIFIED:20250110T143309Z
UID:67728-1741973400-1741978800@villamonin.fr
SUMMARY:Mixologie
DESCRIPTION:Dans ce cours vous découvrirez trois cocktails emblématiques de la culture cocktail inspirés des Etats Unis :\n\nLe Mint Julep : le cocktail phare du Derby du Kentucky\, servi dans son Julep Cup\, à base de bourbon\, de menthe de bitter aromatique et de Sirop Pur Sucre de Canne.\nLe Whiskey Sour : Notre mixologue vous apprendra tout sur la famille des sours et vous dévoilera les secrets de la méthode du « Reverse Dry Shake » et du « Double Strain » afin de réaliser un cocktail parfaitement équilibré avec une onctueuse mousse de blanc d’œuf*. Vous aurez le choix de confectionner le cocktail classique original ou de le twister avec une des saveurs Le Sirop de MONIN disponible à La Cour des Chefs.\n\n*allergènes \n\nLe Bourbon Old Fashioned : le cocktail n°1 aux USA\, qui se réalise directement au verre. Vous aurez le choix de préparer la recette originale ou de la twister avec un Sirop de MONIN parmi la gamme présente à La Cour de Chefs (Popcorn\, caramel salé\, Pain d’Epices\, Sucre Muscovado…). Notre mixologue vous apprendra à décorer ce cocktail avec un zeste d’orange exprimé et taillé.\n\nLes cocktails composant ce cours ne peuvent pas être déclinés en version sans alcool.
URL:https://villamonin.fr/cours/mixologie-115/
CATEGORIES:Mixologie - 1h30
ATTACH;FMTTYPE=image/jpeg:https://villamonin.fr/wp-content/uploads/2022/06/Rhums.jpg
END:VEVENT
BEGIN:VEVENT
DTSTART;TZID=Europe/Paris:20250315T093000
DTEND;TZID=Europe/Paris:20250315T110000
DTSTAMP:20260421T120108
CREATED:20250114T102247Z
LAST-MODIFIED:20250114T102247Z
UID:67863-1742031000-1742036400@villamonin.fr
SUMMARY:Pâtisserie - Spécial Macarons
DESCRIPTION:L’équipe de Chefs présente ses Macarons et ses astuces de réussite \nTechniques abordées \n\nComment faire la meringue au sirop\nLe dosage sucre/poudre d’amandes\nLe macaronage\nApprentissage du dosage en poche\nL’utilisation des colorants naturels\nLa cuisson\nLes garnitures faciles et gourmandes
URL:https://villamonin.fr/cours/patisserie-special-macarons-34/
CATEGORIES:Atelier Pâtisserie
END:VEVENT
BEGIN:VEVENT
DTSTART;TZID=Europe/Paris:20250315T180000
DTEND;TZID=Europe/Paris:20250315T193000
DTSTAMP:20260421T120108
CREATED:20250110T142444Z
LAST-MODIFIED:20250220T132057Z
UID:67722-1742061600-1742067000@villamonin.fr
SUMMARY:Mixologie
DESCRIPTION:HOLI \nCocktails au thèmes des couleurs Fêtes de L’INDE \n\nle Lassi\nLe Holi Bliss\nLe Timur Spice Punch\n\n 
URL:https://villamonin.fr/cours/mixologie-15-03-25/
CATEGORIES:Mixologie - 1h30
ATTACH;FMTTYPE=image/jpeg:https://villamonin.fr/wp-content/uploads/2023/02/ginto_portraitcRinaNURRA-bd.jpg
END:VEVENT
BEGIN:VEVENT
DTSTART;TZID=Europe/Paris:20250319T093000
DTEND;TZID=Europe/Paris:20250319T110000
DTSTAMP:20260421T120108
CREATED:20250114T103750Z
LAST-MODIFIED:20250114T103750Z
UID:67875-1742376600-1742382000@villamonin.fr
SUMMARY:Pâtisserie- Spécial Macarons
DESCRIPTION:L’équipe de Chefs présente ses Macarons et ses astuces de réussite \nTechniques abordées \n\nComment faire la meringue au sirop\nLe dosage sucre/poudre d’amandes\nLe macaronage\nApprentissage du dosage en poche\nL’utilisation des colorants naturels\nLa cuisson\nLes garnitures faciles et gourmandes
URL:https://villamonin.fr/cours/patisserie-special-macarons-38/
CATEGORIES:Atelier Pâtisserie
ATTACH;FMTTYPE=image/jpeg:https://villamonin.fr/wp-content/uploads/2022/05/macarons-2.jpg
END:VEVENT
BEGIN:VEVENT
DTSTART;TZID=Europe/Paris:20250319T140000
DTEND;TZID=Europe/Paris:20250319T160000
DTSTAMP:20260421T120108
CREATED:20250114T104304Z
LAST-MODIFIED:20250114T104304Z
UID:67878-1742392800-1742400000@villamonin.fr
SUMMARY:Pâtisserie- Parents/Enfants
DESCRIPTION:Une inscription à 69€ = un duo parent/enfant (à partir de 6 ans) – 3 places “duo” disponibles \nL’équipe des Chefs présente ses Macarons et ses astuces de réussite \nTechniques abordées \n\nComment faire la meringue au sirop\nLe dosage sucre/poudre d’amandes\nLe macaronage\nApprentissage du dosage en poche\nL’utilisation des colorants naturels\nLa cuisson\nLes garnitures faciles et gourmandes
URL:https://villamonin.fr/cours/patisserie-parents-enfants-4/
CATEGORIES:Atelier parent/enfant
END:VEVENT
BEGIN:VEVENT
DTSTART;TZID=Europe/Paris:20250320T093000
DTEND;TZID=Europe/Paris:20250320T113000
DTSTAMP:20260421T120108
CREATED:20250114T104633Z
LAST-MODIFIED:20250114T104633Z
UID:67881-1742463000-1742470200@villamonin.fr
SUMMARY:Menu Spécial Réception
DESCRIPTION:Petits fours salés et sucrés\n\nTechniques abordées \n\nIdées de création de petites bouchées\nFinger food
URL:https://villamonin.fr/cours/menu-special-reception/
CATEGORIES:Atelier Cuisine,Menu thématique - 2h
ATTACH;FMTTYPE=image/jpeg:https://villamonin.fr/wp-content/uploads/2022/05/tapas-1.jpg
END:VEVENT
BEGIN:VEVENT
DTSTART;TZID=Europe/Paris:20250321T093000
DTEND;TZID=Europe/Paris:20250321T113000
DTSTAMP:20260421T120108
CREATED:20250114T104856Z
LAST-MODIFIED:20250114T104857Z
UID:67885-1742549400-1742556600@villamonin.fr
SUMMARY:Menu Spécial Réception
DESCRIPTION:Petits fours salés et sucrés\n\nTechniques abordées \n\nIdées de création de petites bouchées\nFinger food
URL:https://villamonin.fr/cours/menu-special-reception-3/
CATEGORIES:Atelier Cuisine,Menu thématique - 2h
ATTACH;FMTTYPE=image/jpeg:https://villamonin.fr/wp-content/uploads/2022/05/tapas-1.jpg
END:VEVENT
BEGIN:VEVENT
DTSTART;TZID=Europe/Paris:20250321T173000
DTEND;TZID=Europe/Paris:20250321T190000
DTSTAMP:20260421T120108
CREATED:20250114T130428Z
LAST-MODIFIED:20250114T130428Z
UID:67925-1742578200-1742583600@villamonin.fr
SUMMARY:Mixologie
DESCRIPTION:Après le succès du 1er cours autour de la culture latino\, vous apprendrez à réaliser 3 autres cocktails emblématiques classiques et revisités : la Tequila Sunrise\, le Paloma\, et la Batida.\n\n\nLa Tequila Sunrise : re découvrez notre version moderne de ce cocktail. Une explosion de couleurs et de saveurs.\nLe Paloma : un cocktail mexicain qui marie la fraîcheur de la tequila à l’acidité pétillante des agrumes. Une boisson légère et désaltérante.\nLa Batida : un cocktail crémeux à base de cachaça qui vous transportera sous les tropiques.\n\nDes techniques simples et des astuces vous seront partagées pour maîtriser ces classiques intemporels
URL:https://villamonin.fr/cours/mixologie-112/
CATEGORIES:Mixologie - 1h30
ATTACH;FMTTYPE=image/jpeg:https://villamonin.fr/wp-content/uploads/2022/05/Spicy-Margarita-brush-gesture.jpg
END:VEVENT
BEGIN:VEVENT
DTSTART;TZID=Europe/Paris:20250322T093000
DTEND;TZID=Europe/Paris:20250322T113000
DTSTAMP:20260421T120108
CREATED:20250114T105329Z
LAST-MODIFIED:20250114T105329Z
UID:67888-1742635800-1742643000@villamonin.fr
SUMMARY:Menu Méditerranéen
DESCRIPTION:Sablé Parmesan\, houmous\, légumes crus et cuits\nAïoli de haddock\, légumes printaniers\nDessert des Chefs à emporter\n\nTechniques abordées \n\nPréparation du sablé et des légumes\nTechnique de l’aïoli et préparation du haddock\nDressage à l’assiette
URL:https://villamonin.fr/cours/menu-mediterraneen/
CATEGORIES:Atelier Cuisine,Menu thématique - 2h
ATTACH;FMTTYPE=image/jpeg:https://villamonin.fr/wp-content/uploads/2022/11/saumon.jpg
END:VEVENT
BEGIN:VEVENT
DTSTART;TZID=Europe/Paris:20250322T180000
DTEND;TZID=Europe/Paris:20250322T193000
DTSTAMP:20260421T120108
CREATED:20250114T130752Z
LAST-MODIFIED:20250220T132405Z
UID:67928-1742666400-1742671800@villamonin.fr
SUMMARY:Mixologie
DESCRIPTION:HOLI \n\nCocktails au thèmes des couleurs Fêtes de L’INDE\n\nle Lassi\nLe Holi Bliss\nLe Timur Spice Punch
URL:https://villamonin.fr/cours/mixologie-22-03-25/
CATEGORIES:Mixologie - 1h30
ATTACH;FMTTYPE=image/jpeg:https://villamonin.fr/wp-content/uploads/2023/02/ginto_portraitcRinaNURRA-bd.jpg
END:VEVENT
BEGIN:VEVENT
DTSTART;TZID=Europe/Paris:20250326T140000
DTEND;TZID=Europe/Paris:20250326T160000
DTSTAMP:20260421T120108
CREATED:20250114T110148Z
LAST-MODIFIED:20250306T075130Z
UID:67905-1742997600-1743004800@villamonin.fr
SUMMARY:Pâtisserie - Parents/Enfants
DESCRIPTION:Une inscription à 69€ = un duo parent/enfant (à partir de 6 ans) – 3 places “duo” disponibles \nSpécial Chocolat \n\nFondant\nMoelleux\nMousses\n\nTechniques abordées \n\nLes techniques de cuisson (Temps\, température\, niveau)\nLes différents moules à utiliser\nLa cristallisation du chocolat
URL:https://villamonin.fr/cours/patisserie-parents-enfants-26-03-25/
CATEGORIES:Atelier parent/enfant
ATTACH;FMTTYPE=image/webp:https://villamonin.fr/wp-content/uploads/2022/12/chocolat-300x300-1.webp
END:VEVENT
BEGIN:VEVENT
DTSTART;TZID=Europe/Paris:20250327T121500
DTEND;TZID=Europe/Paris:20250327T130000
DTSTAMP:20260421T120108
CREATED:20250114T123704Z
LAST-MODIFIED:20250114T123705Z
UID:67916-1743077700-1743080400@villamonin.fr
SUMMARY:Un Plat démo - Aïoli de haddock
DESCRIPTION:Aïoli de haddock\, légumes printaniers\n\nTechniques abordées \n\nCuisson basse température du poisson\nPréparation des légumes\nDressage à l’assiette
URL:https://villamonin.fr/cours/un-plat-demo-aioli-de-haddock/
CATEGORIES:Menu express 45min
ATTACH;FMTTYPE=image/jpeg:https://villamonin.fr/wp-content/uploads/2022/07/cathCdrale_robot.jpg
END:VEVENT
BEGIN:VEVENT
DTSTART;TZID=Europe/Paris:20250327T173000
DTEND;TZID=Europe/Paris:20250327T190000
DTSTAMP:20260421T120108
CREATED:20250114T131132Z
LAST-MODIFIED:20250225T135644Z
UID:67931-1743096600-1743102000@villamonin.fr
SUMMARY:Mixologie
DESCRIPTION:Le Gin est devenu ces dernières années l’un des spiritueux les plus populaires auprès des consommateurs. Accompagné de notre mixologue vous apprendrez à réaliser Le London Mule\, un Gin Tonic aromatisé et le Gin Sour.
URL:https://villamonin.fr/cours/mixologie-27-03-25/
CATEGORIES:Mixologie - 1h30
ATTACH;FMTTYPE=image/jpeg:https://villamonin.fr/wp-content/uploads/2022/07/Gin.jpg
END:VEVENT
BEGIN:VEVENT
DTSTART;TZID=Europe/Paris:20250328T093000
DTEND;TZID=Europe/Paris:20250328T113000
DTSTAMP:20260421T120108
CREATED:20250114T105626Z
LAST-MODIFIED:20250114T105627Z
UID:67897-1743154200-1743161400@villamonin.fr
SUMMARY:Menu Méditerranéen
DESCRIPTION:Sablé Parmesan\, houmous\, légumes crus et cuits\nAïoli de haddock\, légumes printaniers\nDessert des Chefs à emporter\n\nTechniques abordées \n\nPréparation du sablé et des légumes\nTechnique de l’aïoli et préparation du haddock\nDressage à l’assiette
URL:https://villamonin.fr/cours/menu-mediterraneen-2/
CATEGORIES:Atelier Cuisine,Menu thématique - 2h
ATTACH;FMTTYPE=image/jpeg:https://villamonin.fr/wp-content/uploads/2024/01/saumon.jpg
END:VEVENT
BEGIN:VEVENT
DTSTART;TZID=Europe/Paris:20250328T173000
DTEND;TZID=Europe/Paris:20250328T190000
DTSTAMP:20260421T120108
CREATED:20250114T131446Z
LAST-MODIFIED:20250313T074744Z
UID:67934-1743183000-1743188400@villamonin.fr
SUMMARY:Mixologie
DESCRIPTION:Techniques abordées \n\nBack to Basic Vol.2 Pour ce deuxième volume\, notre expert boisson vous apprendra à réaliser trois cocktails emblématiques\, Le Blue Lagoon\, le Sex On The Beach\, et l’Expresso Martini. Vous découvrirez l’origine et l’histoire de leur création et les variantes de ces grands classiques.
URL:https://villamonin.fr/cours/mixologie-28-03-25/
CATEGORIES:Mixologie - 1h30
ATTACH;FMTTYPE=image/jpeg:https://villamonin.fr/wp-content/uploads/2023/12/Ruby-k-ube-Sour.jpg
END:VEVENT
END:VCALENDAR