BEGIN:VCALENDAR
VERSION:2.0
PRODID:-//Villa MONIN - ECPv6.15.17//NONSGML v1.0//EN
CALSCALE:GREGORIAN
METHOD:PUBLISH
X-WR-CALNAME:Villa MONIN
X-ORIGINAL-URL:https://villamonin.fr
X-WR-CALDESC:Évènements pour Villa MONIN
REFRESH-INTERVAL;VALUE=DURATION:PT1H
X-Robots-Tag:noindex
X-PUBLISHED-TTL:PT1H
BEGIN:VTIMEZONE
TZID:Europe/Paris
BEGIN:DAYLIGHT
TZOFFSETFROM:+0100
TZOFFSETTO:+0200
TZNAME:CEST
DTSTART:20250330T010000
END:DAYLIGHT
BEGIN:STANDARD
TZOFFSETFROM:+0200
TZOFFSETTO:+0100
TZNAME:CET
DTSTART:20251026T010000
END:STANDARD
BEGIN:DAYLIGHT
TZOFFSETFROM:+0100
TZOFFSETTO:+0200
TZNAME:CEST
DTSTART:20260329T010000
END:DAYLIGHT
BEGIN:STANDARD
TZOFFSETFROM:+0200
TZOFFSETTO:+0100
TZNAME:CET
DTSTART:20261025T010000
END:STANDARD
BEGIN:DAYLIGHT
TZOFFSETFROM:+0100
TZOFFSETTO:+0200
TZNAME:CEST
DTSTART:20270328T010000
END:DAYLIGHT
BEGIN:STANDARD
TZOFFSETFROM:+0200
TZOFFSETTO:+0100
TZNAME:CET
DTSTART:20271031T010000
END:STANDARD
END:VTIMEZONE
BEGIN:VEVENT
DTSTART;TZID=Europe/Paris:20260422T093000
DTEND;TZID=Europe/Paris:20260422T113000
DTSTAMP:20260422T014138
CREATED:20260305T152232Z
LAST-MODIFIED:20260306T142530Z
UID:83476-1776850200-1776857400@villamonin.fr
SUMMARY:Menu bistronomique
DESCRIPTION:Avec l’accompagnement du Chef\, vous réaliserez le menu suivant : \nEntrée :  \n\nAsperges vertes au beurre demi sel\nŒuf mollet croustillant\nVieux parmesan\n\nPlat :  \n\nVol au vent de volaille et crevette\nPetits légumes\nJus des carcasses\n\nDessert du Chef à emporter \nTechniques abordées : \n\nConception de l’œuf\nRéalisation du vol au vent\nTaillage des légumes
URL:https://villamonin.fr/cours/menu-bistronomique-22-04-26/
CATEGORIES:Atelier Cuisine
ATTACH;FMTTYPE=image/png:https://villamonin.fr/wp-content/uploads/2026/03/2.png
END:VEVENT
BEGIN:VEVENT
DTSTART;TZID=Europe/Paris:20260422T140000
DTEND;TZID=Europe/Paris:20260422T160000
DTSTAMP:20260422T014138
CREATED:20260305T152745Z
LAST-MODIFIED:20260305T152745Z
UID:83480-1776866400-1776873600@villamonin.fr
SUMMARY:Déjeuner pour les Kids - Parent/enfant
DESCRIPTION:Une inscription à 69€ = un duo parent/enfant (à partir de 6 ans) – 5 places “duo” disponibles \nLe menu :  \n\nTartare de pomme de terre et jambon blanc\nVinaigrette au sirop de Monin\nBurger de volaille croustillant\nKetchup maison\nFinancier et mousseux au fruit de Monin\n\nles techniques abordées : \n\nDécoupe et taillage des différents aliments\nFabrication du burger\nRéalisation du financier
URL:https://villamonin.fr/cours/dejeuner-pour-les-kids-parent-enfant-4/
CATEGORIES:Atelier parent/enfant
ATTACH;FMTTYPE=image/png:https://villamonin.fr/wp-content/uploads/2026/01/1.png
END:VEVENT
END:VCALENDAR