BEGIN:VCALENDAR
VERSION:2.0
PRODID:-//Villa MONIN - ECPv6.15.17//NONSGML v1.0//EN
CALSCALE:GREGORIAN
METHOD:PUBLISH
X-WR-CALNAME:Villa MONIN
X-ORIGINAL-URL:https://villamonin.fr
X-WR-CALDESC:Évènements pour Villa MONIN
REFRESH-INTERVAL;VALUE=DURATION:PT1H
X-Robots-Tag:noindex
X-PUBLISHED-TTL:PT1H
BEGIN:VTIMEZONE
TZID:Europe/Paris
BEGIN:DAYLIGHT
TZOFFSETFROM:+0100
TZOFFSETTO:+0200
TZNAME:CEST
DTSTART:20240331T010000
END:DAYLIGHT
BEGIN:STANDARD
TZOFFSETFROM:+0200
TZOFFSETTO:+0100
TZNAME:CET
DTSTART:20241027T010000
END:STANDARD
BEGIN:DAYLIGHT
TZOFFSETFROM:+0100
TZOFFSETTO:+0200
TZNAME:CEST
DTSTART:20250330T010000
END:DAYLIGHT
BEGIN:STANDARD
TZOFFSETFROM:+0200
TZOFFSETTO:+0100
TZNAME:CET
DTSTART:20251026T010000
END:STANDARD
BEGIN:DAYLIGHT
TZOFFSETFROM:+0100
TZOFFSETTO:+0200
TZNAME:CEST
DTSTART:20260329T010000
END:DAYLIGHT
BEGIN:STANDARD
TZOFFSETFROM:+0200
TZOFFSETTO:+0100
TZNAME:CET
DTSTART:20261025T010000
END:STANDARD
END:VTIMEZONE
BEGIN:VEVENT
DTSTART;TZID=Europe/Paris:20251025T093000
DTEND;TZID=Europe/Paris:20251025T113000
DTSTAMP:20260422T103601
CREATED:20250806T090350Z
LAST-MODIFIED:20250806T090350Z
UID:75650-1761384600-1761391800@villamonin.fr
SUMMARY:Menu Bistronomique
DESCRIPTION:En totale immersion à la Cour des Chefs\, vous réaliserez les plats suivants :\n\nL’entrée: \n\nSablé parmesan\nCrevettes marinées\nPoire et petits légumes\n\nLe plat :  \n\nFilet de canette basse température\nJus cuisiné à l’hibiscus\nPomme de terre Ana au lard fumé\n\nDessert des Chefs à emporter \nLes techniques abordées : \n\nRéalisation du sablé\nCuisson de la canette\nFabrication de la pomme de terre Ana
URL:https://villamonin.fr/cours/menu-bistronomique-3/
CATEGORIES:Atelier Cuisine
ATTACH;FMTTYPE=image/png:https://villamonin.fr/wp-content/uploads/2025/08/1.png
END:VEVENT
BEGIN:VEVENT
DTSTART;TZID=Europe/Paris:20251025T180000
DTEND;TZID=Europe/Paris:20251025T193000
DTSTAMP:20260422T103601
CREATED:20250807T080252Z
LAST-MODIFIED:20250807T080253Z
UID:75690-1761415200-1761420600@villamonin.fr
SUMMARY:Mixologie - Vodka Vol.2
DESCRIPTION:Poursuivez votre découverte des grands classiques du bar avec trois nouveaux cocktails incontournables\, tout aussi appréciés pour leurs saveurs que pour leur esthétique : \n\nLe Blue Lagoon : ce cocktail à la couleur bleue éclatante est un incontournable des bars d’été. À base de vodka\, curaçao bleu et citron\, il séduit par sa fraîcheur et son look résolument tropical.\nLe Sex on the Beach : originaire des États-Unis\, ce cocktail fruité aux notes de pêche\, d’orange et de cranberry est une véritable invitation au voyage. Vous apprendrez à équilibrer ses saveurs douces et acidulées pour un résultat parfaitement harmonieux.\nL’Espresso Martini : cocktail moderne par excellence\, il associe la force du café à la douceur de la vodka et à une pointe de liqueur. Vous découvrirez comment réaliser une mousse onctueuse au shaker et maîtriser l’art de la présentation avec ses trois grains de café emblématiques.\n\nCes cocktails peuvent se décliner avec un spiritueux sans alcool à votre demande auprès de notre mixologue.
URL:https://villamonin.fr/cours/mixologie-vodka-vol-2/
CATEGORIES:Mixologie - 1h30
ATTACH;FMTTYPE=image/png:https://villamonin.fr/wp-content/uploads/2025/04/Le-sex-on-the-beach.png
END:VEVENT
END:VCALENDAR