BEGIN:VCALENDAR
VERSION:2.0
PRODID:-//Villa MONIN - ECPv6.15.17//NONSGML v1.0//EN
CALSCALE:GREGORIAN
METHOD:PUBLISH
X-WR-CALNAME:Villa MONIN
X-ORIGINAL-URL:https://villamonin.fr
X-WR-CALDESC:Évènements pour Villa MONIN
REFRESH-INTERVAL;VALUE=DURATION:PT1H
X-Robots-Tag:noindex
X-PUBLISHED-TTL:PT1H
BEGIN:VTIMEZONE
TZID:Europe/Paris
BEGIN:DAYLIGHT
TZOFFSETFROM:+0100
TZOFFSETTO:+0200
TZNAME:CEST
DTSTART:20240331T010000
END:DAYLIGHT
BEGIN:STANDARD
TZOFFSETFROM:+0200
TZOFFSETTO:+0100
TZNAME:CET
DTSTART:20241027T010000
END:STANDARD
BEGIN:DAYLIGHT
TZOFFSETFROM:+0100
TZOFFSETTO:+0200
TZNAME:CEST
DTSTART:20250330T010000
END:DAYLIGHT
BEGIN:STANDARD
TZOFFSETFROM:+0200
TZOFFSETTO:+0100
TZNAME:CET
DTSTART:20251026T010000
END:STANDARD
BEGIN:DAYLIGHT
TZOFFSETFROM:+0100
TZOFFSETTO:+0200
TZNAME:CEST
DTSTART:20260329T010000
END:DAYLIGHT
BEGIN:STANDARD
TZOFFSETFROM:+0200
TZOFFSETTO:+0100
TZNAME:CET
DTSTART:20261025T010000
END:STANDARD
END:VTIMEZONE
BEGIN:VEVENT
DTSTART;TZID=Europe/Paris:20251002T180000
DTEND;TZID=Europe/Paris:20251002T193000
DTSTAMP:20260422T085330
CREATED:20250930T084720Z
LAST-MODIFIED:20250930T085008Z
UID:77413-1759428000-1759433400@villamonin.fr
SUMMARY:Mixologie - autour de l'italie
DESCRIPTION:Ce cours vous invite à plonger dans l’univers des saveurs italiennes à travers trois cocktails originaux\, qui mêlent ingrédients typiques et techniques modernes. \nAccompagné de notre mixologue\, vous apprendrez à réaliser des recettes aussi élégantes que savoureuses\, idéales pour des instants de partage et de convivialité. \n\nLe Caprese : une création fraîche et colorée à base de vodka infusée à la tomate\, de cordial Labdanum Paragon et de vermouth sec italien. Ce cocktail se distingue par sa décoration gourmande avec une brochette de tomate cerise et billes de mozzarella\, hommage à la célèbre salade italienne.\n\n\nLe Bergamotte Negroni Sbagliato : une revisite du classique Negroni Sbagliato\, relevée par le sirop de Bergamotte et le Concentré Bitter de MONIN\, associés à du vermouth dry et du gin italien\, puis complétée d’une touche pétillante de Prosecco pour une expérience aromatique équilibrée et rafraîchissante.\n\n\nLa Pannacotta Martini : un cocktail crémeux et onctueux\, inspiré du célèbre dessert italien. Il combine le Limoncello\, la douceur de la vanille\, la richesse de la crème liquide entière et la douceur veloutée du mascarpone liquide\, pour un plaisir gourmand à chaque gorgée.
URL:https://villamonin.fr/cours/mixologie-autour-de-litalie-02-10-25/
CATEGORIES:Mixologie - 1h30
ATTACH;FMTTYPE=image/png:https://villamonin.fr/wp-content/uploads/2025/04/Lexpresso-Martini.png
END:VEVENT
END:VCALENDAR