BEGIN:VCALENDAR
VERSION:2.0
PRODID:-//Villa MONIN - ECPv6.15.17//NONSGML v1.0//EN
CALSCALE:GREGORIAN
METHOD:PUBLISH
X-WR-CALNAME:Villa MONIN
X-ORIGINAL-URL:https://villamonin.fr
X-WR-CALDESC:Évènements pour Villa MONIN
REFRESH-INTERVAL;VALUE=DURATION:PT1H
X-Robots-Tag:noindex
X-PUBLISHED-TTL:PT1H
BEGIN:VTIMEZONE
TZID:Europe/Paris
BEGIN:DAYLIGHT
TZOFFSETFROM:+0100
TZOFFSETTO:+0200
TZNAME:CEST
DTSTART:20240331T010000
END:DAYLIGHT
BEGIN:STANDARD
TZOFFSETFROM:+0200
TZOFFSETTO:+0100
TZNAME:CET
DTSTART:20241027T010000
END:STANDARD
BEGIN:DAYLIGHT
TZOFFSETFROM:+0100
TZOFFSETTO:+0200
TZNAME:CEST
DTSTART:20250330T010000
END:DAYLIGHT
BEGIN:STANDARD
TZOFFSETFROM:+0200
TZOFFSETTO:+0100
TZNAME:CET
DTSTART:20251026T010000
END:STANDARD
BEGIN:DAYLIGHT
TZOFFSETFROM:+0100
TZOFFSETTO:+0200
TZNAME:CEST
DTSTART:20260329T010000
END:DAYLIGHT
BEGIN:STANDARD
TZOFFSETFROM:+0200
TZOFFSETTO:+0100
TZNAME:CET
DTSTART:20261025T010000
END:STANDARD
END:VTIMEZONE
BEGIN:VEVENT
DTSTART;TZID=Europe/Paris:20250924T140000
DTEND;TZID=Europe/Paris:20250924T160000
DTSTAMP:20260422T085335
CREATED:20250625T084004Z
LAST-MODIFIED:20250625T090354Z
UID:74264-1758722400-1758729600@villamonin.fr
SUMMARY:Pâtisserie - Spécial Italie - Parent/enfant
DESCRIPTION:Une inscription à 69€ = un duo parent/enfant (à partir de 6 ans) – 5 places “duo” disponibles \nAu menu : \n\nTiramisu aux fruits de Monin\nPanna cotta au sirop de Monin\nMousseux aux fruits de saison\n\nTechniques abordées : \n\nRéalisation du Tiramisu\nConfection de la Panna cotta\nRéalisation du mousseux
URL:https://villamonin.fr/cours/patisserie-special-italie-parent-enfant-25-09-25/
CATEGORIES:Atelier parent/enfant
ATTACH;FMTTYPE=image/png:https://villamonin.fr/wp-content/uploads/2025/06/Le-Whiskey-Sour.png
END:VEVENT
END:VCALENDAR