BEGIN:VCALENDAR
VERSION:2.0
PRODID:-//Villa MONIN - ECPv6.15.17//NONSGML v1.0//EN
CALSCALE:GREGORIAN
METHOD:PUBLISH
X-WR-CALNAME:Villa MONIN
X-ORIGINAL-URL:https://villamonin.fr
X-WR-CALDESC:Évènements pour Villa MONIN
REFRESH-INTERVAL;VALUE=DURATION:PT1H
X-Robots-Tag:noindex
X-PUBLISHED-TTL:PT1H
BEGIN:VTIMEZONE
TZID:Europe/Paris
BEGIN:DAYLIGHT
TZOFFSETFROM:+0100
TZOFFSETTO:+0200
TZNAME:CEST
DTSTART:20240331T010000
END:DAYLIGHT
BEGIN:STANDARD
TZOFFSETFROM:+0200
TZOFFSETTO:+0100
TZNAME:CET
DTSTART:20241027T010000
END:STANDARD
BEGIN:DAYLIGHT
TZOFFSETFROM:+0100
TZOFFSETTO:+0200
TZNAME:CEST
DTSTART:20250330T010000
END:DAYLIGHT
BEGIN:STANDARD
TZOFFSETFROM:+0200
TZOFFSETTO:+0100
TZNAME:CET
DTSTART:20251026T010000
END:STANDARD
BEGIN:DAYLIGHT
TZOFFSETFROM:+0100
TZOFFSETTO:+0200
TZNAME:CEST
DTSTART:20260329T010000
END:DAYLIGHT
BEGIN:STANDARD
TZOFFSETFROM:+0200
TZOFFSETTO:+0100
TZNAME:CET
DTSTART:20261025T010000
END:STANDARD
END:VTIMEZONE
BEGIN:VEVENT
DTSTART;TZID=Europe/Paris:20250918T121500
DTEND;TZID=Europe/Paris:20250918T130000
DTSTAMP:20260422T090029
CREATED:20250625T074839Z
LAST-MODIFIED:20250625T074904Z
UID:74253-1758197700-1758200400@villamonin.fr
SUMMARY:Plat Démo
DESCRIPTION:Au menu : \n\nSuprême de volaille\nPomme de terre ana\nPleurotes\n\nTechniques abordée: \n\nCuisson du suprême\nFabrication de la pomme de terre ana\nDressage à l’assiette\n\nDessert des chefs à emporter
URL:https://villamonin.fr/cours/plat-demo-18-09-25/
CATEGORIES:Menu express 45min
ATTACH;FMTTYPE=image/jpeg:https://villamonin.fr/wp-content/uploads/2023/03/Blanc-de-volaille.jpg
END:VEVENT
BEGIN:VEVENT
DTSTART;TZID=Europe/Paris:20250918T190000
DTEND;TZID=Europe/Paris:20250918T220000
DTSTAMP:20260422T090029
CREATED:20250731T101256Z
LAST-MODIFIED:20250917T092126Z
UID:75415-1758222000-1758232800@villamonin.fr
SUMMARY:Une soirée italienne à la Villa MONIN – La Dolce Vita
DESCRIPTION:
URL:https://villamonin.fr/cours/une-soiree-italienne-a-la-villa-monin-la-dolce-vita-18-09-25/
CATEGORIES:Évènement privé
ATTACH;FMTTYPE=image/jpeg:https://villamonin.fr/wp-content/uploads/2025/07/1-page-evenement.jpg
END:VEVENT
END:VCALENDAR