BEGIN:VCALENDAR
VERSION:2.0
PRODID:-//Villa MONIN - ECPv6.15.17//NONSGML v1.0//EN
CALSCALE:GREGORIAN
METHOD:PUBLISH
X-WR-CALNAME:Villa MONIN
X-ORIGINAL-URL:https://villamonin.fr
X-WR-CALDESC:Évènements pour Villa MONIN
REFRESH-INTERVAL;VALUE=DURATION:PT1H
X-Robots-Tag:noindex
X-PUBLISHED-TTL:PT1H
BEGIN:VTIMEZONE
TZID:Europe/Paris
BEGIN:DAYLIGHT
TZOFFSETFROM:+0100
TZOFFSETTO:+0200
TZNAME:CEST
DTSTART:20240331T010000
END:DAYLIGHT
BEGIN:STANDARD
TZOFFSETFROM:+0200
TZOFFSETTO:+0100
TZNAME:CET
DTSTART:20241027T010000
END:STANDARD
BEGIN:DAYLIGHT
TZOFFSETFROM:+0100
TZOFFSETTO:+0200
TZNAME:CEST
DTSTART:20250330T010000
END:DAYLIGHT
BEGIN:STANDARD
TZOFFSETFROM:+0200
TZOFFSETTO:+0100
TZNAME:CET
DTSTART:20251026T010000
END:STANDARD
BEGIN:DAYLIGHT
TZOFFSETFROM:+0100
TZOFFSETTO:+0200
TZNAME:CEST
DTSTART:20260329T010000
END:DAYLIGHT
BEGIN:STANDARD
TZOFFSETFROM:+0200
TZOFFSETTO:+0100
TZNAME:CET
DTSTART:20261025T010000
END:STANDARD
END:VTIMEZONE
BEGIN:VEVENT
DTSTART;TZID=Europe/Paris:20250822T173000
DTEND;TZID=Europe/Paris:20250822T190000
DTSTAMP:20260422T051230
CREATED:20250604T070049Z
LAST-MODIFIED:20250604T070049Z
UID:72119-1755883800-1755889200@villamonin.fr
SUMMARY:Mixologie
DESCRIPTION:RHUM Vol.2  \nVous réaliserez trois cocktails autour du spiritueux préféré des français\, le rhum : \n\nLe Falernum Rhum Mule\, \nLa Daïquiri \nLe Rhum Old Fashioned\n\nVous découvrirez les différents rhums et leurs origines\, ainsi que leur utilisation en cocktails. Mais aussi : \n\nL’histoire de ces cocktails emblématiques\n\n\nLa Technique\, les dosages et les équilibres\nLa verrerie
URL:https://villamonin.fr/cours/mixologie-22-08-25/
CATEGORIES:Mixologie - 1h30
ATTACH;FMTTYPE=image/jpeg:https://villamonin.fr/wp-content/uploads/2022/11/2.jpg
END:VEVENT
END:VCALENDAR