BEGIN:VCALENDAR
VERSION:2.0
PRODID:-//Villa MONIN - ECPv6.15.17//NONSGML v1.0//EN
CALSCALE:GREGORIAN
METHOD:PUBLISH
X-WR-CALNAME:Villa MONIN
X-ORIGINAL-URL:https://villamonin.fr
X-WR-CALDESC:Évènements pour Villa MONIN
REFRESH-INTERVAL;VALUE=DURATION:PT1H
X-Robots-Tag:noindex
X-PUBLISHED-TTL:PT1H
BEGIN:VTIMEZONE
TZID:Europe/Paris
BEGIN:DAYLIGHT
TZOFFSETFROM:+0100
TZOFFSETTO:+0200
TZNAME:CEST
DTSTART:20240331T010000
END:DAYLIGHT
BEGIN:STANDARD
TZOFFSETFROM:+0200
TZOFFSETTO:+0100
TZNAME:CET
DTSTART:20241027T010000
END:STANDARD
BEGIN:DAYLIGHT
TZOFFSETFROM:+0100
TZOFFSETTO:+0200
TZNAME:CEST
DTSTART:20250330T010000
END:DAYLIGHT
BEGIN:STANDARD
TZOFFSETFROM:+0200
TZOFFSETTO:+0100
TZNAME:CET
DTSTART:20251026T010000
END:STANDARD
BEGIN:DAYLIGHT
TZOFFSETFROM:+0100
TZOFFSETTO:+0200
TZNAME:CEST
DTSTART:20260329T010000
END:DAYLIGHT
BEGIN:STANDARD
TZOFFSETFROM:+0200
TZOFFSETTO:+0100
TZNAME:CET
DTSTART:20261025T010000
END:STANDARD
END:VTIMEZONE
BEGIN:VEVENT
DTSTART;TZID=Europe/Paris:20250821T173000
DTEND;TZID=Europe/Paris:20250821T190000
DTSTAMP:20260422T051237
CREATED:20250716T130752Z
LAST-MODIFIED:20250716T130752Z
UID:74140-1755797400-1755802800@villamonin.fr
SUMMARY:Mixologie
DESCRIPTION:Cocktail SIGNATURE 2 \nLes Créations du Bar 1912 de la VILLA MONIN \n3 cocktails signature créés par nos Chefs Barmen \n\n\n\nClos des Fées\nL’Ursine\nLe Green’sh
URL:https://villamonin.fr/cours/mixologie-21-08-25/
CATEGORIES:Mixologie - 1h30
ATTACH;FMTTYPE=image/png:https://villamonin.fr/wp-content/uploads/2025/04/le-paloma.png
END:VEVENT
BEGIN:VEVENT
DTSTART;TZID=Europe/Paris:20250821T190000
DTEND;TZID=Europe/Paris:20250821T210000
DTSTAMP:20260422T051237
CREATED:20250730T123323Z
LAST-MODIFIED:20250805T114303Z
UID:75315-1755802800-1755810000@villamonin.fr
SUMMARY:Atelier Peinture sur verre
DESCRIPTION:Cet été\, la Villa MONIN vous ouvre les portes de la créativité avec un atelier Peinture sur verre\, en collaboration avec Ever\, fondatrice du Studio à Bourges. \nVenez personnaliser votre verre en jouant avec des couleurs tendances et des inspirations élégantes. \nGuidé(e) par Ever\, vous réaliserez une pièce unique\, à votre image\, dans une ambiance douce et conviviale. \nLaissez votre pinceau s’exprimer lors de ce moment hors du temps. \nCet atelier comprend : \n\nRéalisation d’une peinture sur verre (1 verre) – atelier animé par Le Studio\n2 boissons avec ou sans alcool\nTartinades\, et une douceur sucrée réalisée par nos chefs\n\n*Inscriptions limitées\, 20 places disponibles.
URL:https://villamonin.fr/cours/atelier-peinture-sur-verre-21-08-25/
CATEGORIES:Évènement privé
ATTACH;FMTTYPE=image/jpeg:https://villamonin.fr/wp-content/uploads/2025/07/07-2025-Atelier-Peinture-Newsletter-1.jpg
END:VEVENT
END:VCALENDAR