BEGIN:VCALENDAR
VERSION:2.0
PRODID:-//Villa MONIN - ECPv6.15.17//NONSGML v1.0//EN
CALSCALE:GREGORIAN
METHOD:PUBLISH
X-ORIGINAL-URL:https://villamonin.fr
X-WR-CALDESC:Évènements pour Villa MONIN
REFRESH-INTERVAL;VALUE=DURATION:PT1H
X-Robots-Tag:noindex
X-PUBLISHED-TTL:PT1H
BEGIN:VTIMEZONE
TZID:Europe/Paris
BEGIN:DAYLIGHT
TZOFFSETFROM:+0100
TZOFFSETTO:+0200
TZNAME:CEST
DTSTART:20240331T010000
END:DAYLIGHT
BEGIN:STANDARD
TZOFFSETFROM:+0200
TZOFFSETTO:+0100
TZNAME:CET
DTSTART:20241027T010000
END:STANDARD
BEGIN:DAYLIGHT
TZOFFSETFROM:+0100
TZOFFSETTO:+0200
TZNAME:CEST
DTSTART:20250330T010000
END:DAYLIGHT
BEGIN:STANDARD
TZOFFSETFROM:+0200
TZOFFSETTO:+0100
TZNAME:CET
DTSTART:20251026T010000
END:STANDARD
BEGIN:DAYLIGHT
TZOFFSETFROM:+0100
TZOFFSETTO:+0200
TZNAME:CEST
DTSTART:20260329T010000
END:DAYLIGHT
BEGIN:STANDARD
TZOFFSETFROM:+0200
TZOFFSETTO:+0100
TZNAME:CET
DTSTART:20261025T010000
END:STANDARD
END:VTIMEZONE
BEGIN:VEVENT
DTSTART;TZID=Europe/Paris:20250807T121500
DTEND;TZID=Europe/Paris:20250807T130000
DTSTAMP:20260422T031415
CREATED:20250624T145616Z
LAST-MODIFIED:20250624T145616Z
UID:74212-1754568900-1754571600@villamonin.fr
SUMMARY:Plat Démo
DESCRIPTION:Plat :  \n\nKefta de boeuf\nJus à ras El Hanout\nTaboulet de pois chiche\n\nTechniques abordées : \n\nFabrication de la brique\nRéalisation du Kefta\nFabrication du taboulet
URL:https://villamonin.fr/cours/plat-demo/
CATEGORIES:Atelier Cuisine
ATTACH;FMTTYPE=image/jpeg:https://villamonin.fr/wp-content/uploads/2022/11/TF-082.jpg
END:VEVENT
BEGIN:VEVENT
DTSTART;TZID=Europe/Paris:20250807T173000
DTEND;TZID=Europe/Paris:20250807T190000
DTSTAMP:20260422T031415
CREATED:20250716T130602Z
LAST-MODIFIED:20250716T130603Z
UID:74123-1754587800-1754593200@villamonin.fr
SUMMARY:Mixologie
DESCRIPTION:Cocktail SIGNATURE 1  \nLes Créations du Bar 1912 de la VILLA MONIN \n3 cocktails signature créés par nos Chefs Barmen \n\n\n\nle Verger d’automne à base de cidre\nle Green Park Fizz à base de Vermouth blanc\nla Mule gourmande à base de vodka
URL:https://villamonin.fr/cours/mixologie-07-08-25/
CATEGORIES:Mixologie - 1h30
ATTACH;FMTTYPE=image/png:https://villamonin.fr/wp-content/uploads/2025/04/6.png
END:VEVENT
END:VCALENDAR