BEGIN:VCALENDAR
VERSION:2.0
PRODID:-//Villa MONIN - ECPv6.15.17//NONSGML v1.0//EN
CALSCALE:GREGORIAN
METHOD:PUBLISH
X-WR-CALNAME:Villa MONIN
X-ORIGINAL-URL:https://villamonin.fr
X-WR-CALDESC:Évènements pour Villa MONIN
REFRESH-INTERVAL;VALUE=DURATION:PT1H
X-Robots-Tag:noindex
X-PUBLISHED-TTL:PT1H
BEGIN:VTIMEZONE
TZID:Europe/Paris
BEGIN:DAYLIGHT
TZOFFSETFROM:+0100
TZOFFSETTO:+0200
TZNAME:CEST
DTSTART:20240331T010000
END:DAYLIGHT
BEGIN:STANDARD
TZOFFSETFROM:+0200
TZOFFSETTO:+0100
TZNAME:CET
DTSTART:20241027T010000
END:STANDARD
BEGIN:DAYLIGHT
TZOFFSETFROM:+0100
TZOFFSETTO:+0200
TZNAME:CEST
DTSTART:20250330T010000
END:DAYLIGHT
BEGIN:STANDARD
TZOFFSETFROM:+0200
TZOFFSETTO:+0100
TZNAME:CET
DTSTART:20251026T010000
END:STANDARD
BEGIN:DAYLIGHT
TZOFFSETFROM:+0100
TZOFFSETTO:+0200
TZNAME:CEST
DTSTART:20260329T010000
END:DAYLIGHT
BEGIN:STANDARD
TZOFFSETFROM:+0200
TZOFFSETTO:+0100
TZNAME:CET
DTSTART:20261025T010000
END:STANDARD
END:VTIMEZONE
BEGIN:VEVENT
DTSTART;TZID=Europe/Paris:20250730T093000
DTEND;TZID=Europe/Paris:20250730T113000
DTSTAMP:20260421T211352
CREATED:20250513T150604Z
LAST-MODIFIED:20250513T151000Z
UID:72626-1753867800-1753875000@villamonin.fr
SUMMARY:Menu Gastronomique
DESCRIPTION:Entrée : \nTartare de thon \nMimosa d’œuf \nPoireau fondant \n  \nPlat : \nMagret de canard basse température \nMillefeuille de légumes aux herbes fraîches \nJus cuisiné à la cerise \n  \nTechniques détaillées : \n\nDécoupe du poisson\nRéalisation des mimosas d’œufs\nRéalisation du millefeuille de légumes\n\n 
URL:https://villamonin.fr/cours/menu-gastronomique-30-07-25-2/
CATEGORIES:Atelier Cuisine,Menu thématique - 2h
ATTACH;FMTTYPE=image/jpeg:https://villamonin.fr/wp-content/uploads/2023/02/Magret.jpg
END:VEVENT
BEGIN:VEVENT
DTSTART;TZID=Europe/Paris:20250730T140000
DTEND;TZID=Europe/Paris:20250730T160000
DTSTAMP:20260421T211352
CREATED:20250513T132819Z
LAST-MODIFIED:20250520T145826Z
UID:72566-1753884000-1753891200@villamonin.fr
SUMMARY:Pâtisserie - Parent/enfant - Spécial Macarons
DESCRIPTION:Une inscription à 69€ = un duo parent/enfant (à partir de 6 ans) – 5 places “duo” disponibles \nL’équipe de Chefs présente ses Macarons et ses astuces de réussite \nTechniques abordées : \n\nLa réalisation de la meringue au sirop\nDosage sucre/poudre d’amandes\nLe macaronage\nApprentissage du dosage en poche\nL’utilisation des colorants naturels\nLa cuisson\nLes garnitures faciles et gourmandes
URL:https://villamonin.fr/cours/patisserie-parent-enfant-special-macarons-30-07-25/
CATEGORIES:Atelier Pâtisserie
ATTACH;FMTTYPE=image/jpeg:https://villamonin.fr/wp-content/uploads/2023/10/HILG7664.jpg
END:VEVENT
END:VCALENDAR