BEGIN:VCALENDAR
VERSION:2.0
PRODID:-//Villa MONIN - ECPv6.15.17//NONSGML v1.0//EN
CALSCALE:GREGORIAN
METHOD:PUBLISH
X-WR-CALNAME:Villa MONIN
X-ORIGINAL-URL:https://villamonin.fr
X-WR-CALDESC:Évènements pour Villa MONIN
REFRESH-INTERVAL;VALUE=DURATION:PT1H
X-Robots-Tag:noindex
X-PUBLISHED-TTL:PT1H
BEGIN:VTIMEZONE
TZID:Europe/Paris
BEGIN:DAYLIGHT
TZOFFSETFROM:+0100
TZOFFSETTO:+0200
TZNAME:CEST
DTSTART:20240331T010000
END:DAYLIGHT
BEGIN:STANDARD
TZOFFSETFROM:+0200
TZOFFSETTO:+0100
TZNAME:CET
DTSTART:20241027T010000
END:STANDARD
BEGIN:DAYLIGHT
TZOFFSETFROM:+0100
TZOFFSETTO:+0200
TZNAME:CEST
DTSTART:20250330T010000
END:DAYLIGHT
BEGIN:STANDARD
TZOFFSETFROM:+0200
TZOFFSETTO:+0100
TZNAME:CET
DTSTART:20251026T010000
END:STANDARD
BEGIN:DAYLIGHT
TZOFFSETFROM:+0100
TZOFFSETTO:+0200
TZNAME:CEST
DTSTART:20260329T010000
END:DAYLIGHT
BEGIN:STANDARD
TZOFFSETFROM:+0200
TZOFFSETTO:+0100
TZNAME:CET
DTSTART:20261025T010000
END:STANDARD
END:VTIMEZONE
BEGIN:VEVENT
DTSTART;TZID=Europe/Paris:20250723T093000
DTEND;TZID=Europe/Paris:20250723T113000
DTSTAMP:20260421T211351
CREATED:20250513T143057Z
LAST-MODIFIED:20250513T143057Z
UID:72603-1753263000-1753270200@villamonin.fr
SUMMARY:Menu tout en fraîcheur
DESCRIPTION:Entrée : \nFraîcheur de fregola sarda au pesto \nChèvre chavignol et vieux jambon \n  \nPlat : \nDorade royale et snackée \nRémoulade de tomate céleri et concombre \nChou chinois rôti \n  \nTechniques détaillées : \nCuisson de fregola sarda \nFabrication du pesto \nFabrication de la rémoulade de tomate céleri et concombre \n 
URL:https://villamonin.fr/cours/menu-tout-en-fraicheur/
CATEGORIES:Atelier Cuisine,Menu thématique - 2h
ATTACH;FMTTYPE=image/jpeg:https://villamonin.fr/wp-content/uploads/2022/11/Photo-524.jpg
END:VEVENT
BEGIN:VEVENT
DTSTART;TZID=Europe/Paris:20250723T140000
DTEND;TZID=Europe/Paris:20250723T160000
DTSTAMP:20260421T211351
CREATED:20250513T145146Z
LAST-MODIFIED:20250513T145314Z
UID:72619-1753279200-1753286400@villamonin.fr
SUMMARY:Pâtisserie - Parent/enfant - Spécial sablé breton
DESCRIPTION:Une inscription à 69€ = un duo parent/enfant (à partir de 6 ans) – 5 places “duo” disponibles \nChamallows \nSablés breton \nMousseux aux fruits \nTechnique abordée \n\nFaire ses chamallows\nTechnique des sablés\nComment faire ses mousseux
URL:https://villamonin.fr/cours/patisserie-parent-enfant-special-sable-breton-23-07-25/
CATEGORIES:Atelier parent/enfant,Atelier Pâtisserie
ATTACH;FMTTYPE=image/jpeg:https://villamonin.fr/wp-content/uploads/2022/01/close-up-of-woman-tying-apron-taking-part-in-cooke-2021-08-27-09-55-29-utc.jpg
END:VEVENT
END:VCALENDAR