BEGIN:VCALENDAR
VERSION:2.0
PRODID:-//Villa MONIN - ECPv6.15.17//NONSGML v1.0//EN
CALSCALE:GREGORIAN
METHOD:PUBLISH
X-WR-CALNAME:Villa MONIN
X-ORIGINAL-URL:https://villamonin.fr
X-WR-CALDESC:Évènements pour Villa MONIN
REFRESH-INTERVAL;VALUE=DURATION:PT1H
X-Robots-Tag:noindex
X-PUBLISHED-TTL:PT1H
BEGIN:VTIMEZONE
TZID:Europe/Paris
BEGIN:DAYLIGHT
TZOFFSETFROM:+0100
TZOFFSETTO:+0200
TZNAME:CEST
DTSTART:20240331T010000
END:DAYLIGHT
BEGIN:STANDARD
TZOFFSETFROM:+0200
TZOFFSETTO:+0100
TZNAME:CET
DTSTART:20241027T010000
END:STANDARD
BEGIN:DAYLIGHT
TZOFFSETFROM:+0100
TZOFFSETTO:+0200
TZNAME:CEST
DTSTART:20250330T010000
END:DAYLIGHT
BEGIN:STANDARD
TZOFFSETFROM:+0200
TZOFFSETTO:+0100
TZNAME:CET
DTSTART:20251026T010000
END:STANDARD
BEGIN:DAYLIGHT
TZOFFSETFROM:+0100
TZOFFSETTO:+0200
TZNAME:CEST
DTSTART:20260329T010000
END:DAYLIGHT
BEGIN:STANDARD
TZOFFSETFROM:+0200
TZOFFSETTO:+0100
TZNAME:CET
DTSTART:20261025T010000
END:STANDARD
END:VTIMEZONE
BEGIN:VEVENT
DTSTART;TZID=Europe/Paris:20250719T093000
DTEND;TZID=Europe/Paris:20250719T113000
DTSTAMP:20260421T211350
CREATED:20250513T140711Z
LAST-MODIFIED:20250606T073816Z
UID:72594-1752917400-1752924600@villamonin.fr
SUMMARY:Menu retour du Marché
DESCRIPTION:Entrée : \nŒuf mollet \nTartare de tomate basilic et roquette \n  \nPlat : \nMédaillon de volaille basse température \nFraicheur de petits pois \nPetits farcis \n  \nTechniques détaillées : \n\nRéalisation de l’œuf poché\nDécoupe du tartare\nRéalisation de la farce fine
URL:https://villamonin.fr/cours/menu-retour-du-marche-19-07-25/
CATEGORIES:Atelier Cuisine,Menu thématique - 2h
ATTACH;FMTTYPE=image/jpeg:https://villamonin.fr/wp-content/uploads/2023/03/Blanc-de-volaille.jpg
END:VEVENT
BEGIN:VEVENT
DTSTART;TZID=Europe/Paris:20250719T180000
DTEND;TZID=Europe/Paris:20250719T193000
DTSTAMP:20260421T211350
CREATED:20250428T130202Z
LAST-MODIFIED:20250505T080342Z
UID:72100-1752948000-1752953400@villamonin.fr
SUMMARY:Mixologie
DESCRIPTION:RHUM Vol.3 \nPlongez encore plus loin dans l’univers du Rhum avec ce troisième volume\, avec 3 cocktails créatifs et emblématiques : \n\nle Timur n°5\, \nle El Presidente\, \nle Tanayuki. \n\nUne nouvelle exploration du rhum à ne pas manquer.
URL:https://villamonin.fr/cours/mixologie-19-07-25/
CATEGORIES:Mixologie - 1h30
ATTACH;FMTTYPE=image/jpeg:https://villamonin.fr/wp-content/uploads/2023/09/Pornstar.jpg
END:VEVENT
END:VCALENDAR