BEGIN:VCALENDAR
VERSION:2.0
PRODID:-//Villa MONIN - ECPv6.15.17//NONSGML v1.0//EN
CALSCALE:GREGORIAN
METHOD:PUBLISH
X-ORIGINAL-URL:https://villamonin.fr
X-WR-CALDESC:Évènements pour Villa MONIN
REFRESH-INTERVAL;VALUE=DURATION:PT1H
X-Robots-Tag:noindex
X-PUBLISHED-TTL:PT1H
BEGIN:VTIMEZONE
TZID:Europe/Paris
BEGIN:DAYLIGHT
TZOFFSETFROM:+0100
TZOFFSETTO:+0200
TZNAME:CEST
DTSTART:20240331T010000
END:DAYLIGHT
BEGIN:STANDARD
TZOFFSETFROM:+0200
TZOFFSETTO:+0100
TZNAME:CET
DTSTART:20241027T010000
END:STANDARD
BEGIN:DAYLIGHT
TZOFFSETFROM:+0100
TZOFFSETTO:+0200
TZNAME:CEST
DTSTART:20250330T010000
END:DAYLIGHT
BEGIN:STANDARD
TZOFFSETFROM:+0200
TZOFFSETTO:+0100
TZNAME:CET
DTSTART:20251026T010000
END:STANDARD
BEGIN:DAYLIGHT
TZOFFSETFROM:+0100
TZOFFSETTO:+0200
TZNAME:CEST
DTSTART:20260329T010000
END:DAYLIGHT
BEGIN:STANDARD
TZOFFSETFROM:+0200
TZOFFSETTO:+0100
TZNAME:CET
DTSTART:20261025T010000
END:STANDARD
END:VTIMEZONE
BEGIN:VEVENT
DTSTART;TZID=Europe/Paris:20250709T093000
DTEND;TZID=Europe/Paris:20250709T113000
DTSTAMP:20260421T194113
CREATED:20250513T133936Z
LAST-MODIFIED:20250513T133936Z
UID:72572-1752053400-1752060600@villamonin.fr
SUMMARY:Menu Tartare & Carpaccio
DESCRIPTION:Entrée : \nTartare de cabillaud \nFruit de la passion et condiments \n  \nPlat : \nCarpaccio de veau a l’italienne \nMozzarella \, parmesan et roquette \n  \nTechniques détaillées : \n\nDécoupe du tartare et du carpaccio\nVinaigrette au sirop de Monin\nPréparation d’une huile aromatisé\n\n 
URL:https://villamonin.fr/cours/menu-tartare-carpaccio/
CATEGORIES:Atelier Cuisine,Menu thématique - 2h
ATTACH;FMTTYPE=image/jpeg:https://villamonin.fr/wp-content/uploads/2022/05/Blanc-de-poisson.jpg
END:VEVENT
BEGIN:VEVENT
DTSTART;TZID=Europe/Paris:20250709T140000
DTEND;TZID=Europe/Paris:20250709T160000
DTSTAMP:20260421T194113
CREATED:20250513T134931Z
LAST-MODIFIED:20250513T134931Z
UID:72581-1752069600-1752076800@villamonin.fr
SUMMARY:Pâtisserie - Parent/enfant - Spécialité Pavlova
DESCRIPTION:Détail du menu : \nPavlova aux fruits rouges \nMousse au au fruit de Monin \nMarshmallow \n  \nTechniques détaillées : \nRéalisation du Marshmallow \nRéalisation de la mousse aux fruits de Monin \nRéalisation de la meringue \n 
URL:https://villamonin.fr/cours/patisserie-parent-enfant-specialite-pavlova/
CATEGORIES:Atelier Pâtisserie
ATTACH;FMTTYPE=image/jpeg:https://villamonin.fr/wp-content/uploads/2024/03/IMG_0504.jpg
END:VEVENT
END:VCALENDAR