BEGIN:VCALENDAR
VERSION:2.0
PRODID:-//Villa MONIN - ECPv6.15.17//NONSGML v1.0//EN
CALSCALE:GREGORIAN
METHOD:PUBLISH
X-WR-CALNAME:Villa MONIN
X-ORIGINAL-URL:https://villamonin.fr
X-WR-CALDESC:Évènements pour Villa MONIN
REFRESH-INTERVAL;VALUE=DURATION:PT1H
X-Robots-Tag:noindex
X-PUBLISHED-TTL:PT1H
BEGIN:VTIMEZONE
TZID:Europe/Paris
BEGIN:DAYLIGHT
TZOFFSETFROM:+0100
TZOFFSETTO:+0200
TZNAME:CEST
DTSTART:20240331T010000
END:DAYLIGHT
BEGIN:STANDARD
TZOFFSETFROM:+0200
TZOFFSETTO:+0100
TZNAME:CET
DTSTART:20241027T010000
END:STANDARD
BEGIN:DAYLIGHT
TZOFFSETFROM:+0100
TZOFFSETTO:+0200
TZNAME:CEST
DTSTART:20250330T010000
END:DAYLIGHT
BEGIN:STANDARD
TZOFFSETFROM:+0200
TZOFFSETTO:+0100
TZNAME:CET
DTSTART:20251026T010000
END:STANDARD
BEGIN:DAYLIGHT
TZOFFSETFROM:+0100
TZOFFSETTO:+0200
TZNAME:CEST
DTSTART:20260329T010000
END:DAYLIGHT
BEGIN:STANDARD
TZOFFSETFROM:+0200
TZOFFSETTO:+0100
TZNAME:CET
DTSTART:20261025T010000
END:STANDARD
END:VTIMEZONE
BEGIN:VEVENT
DTSTART;TZID=Europe/Paris:20250704T093000
DTEND;TZID=Europe/Paris:20250704T113000
DTSTAMP:20260422T032746
CREATED:20250513T124847Z
LAST-MODIFIED:20250513T124847Z
UID:72553-1751621400-1751628600@villamonin.fr
SUMMARY:Menu fraîcheur
DESCRIPTION:Entrée :  \nCarpaccio de concombre \nTarte de truite fumée \nFeta et vinaigrette au sirop de Monin \n  \nPlat :  \nQuasi de veau basse température \nPomme de terre anna et croûte d’herbes fraîches \n  \nDesserts des chefs à emporter \nTechniques abordées: \n\nDécoupe des légumes et du poisson\nRéalisation de la vinaigrette\nRéalisation de le pomme de terre anna\nFabrication de la croûte d’herbes fraîches\n\n 
URL:https://villamonin.fr/cours/menu-fraicheur-02-07-25-2/
CATEGORIES:Atelier Cuisine,Menu thématique - 2h
ATTACH;FMTTYPE=image/jpeg:https://villamonin.fr/wp-content/uploads/2023/02/cours-villa-mail.jpg
END:VEVENT
BEGIN:VEVENT
DTSTART;TZID=Europe/Paris:20250704T170000
DTEND;TZID=Europe/Paris:20250704T183000
DTSTAMP:20260422T032746
CREATED:20250522T091656Z
LAST-MODIFIED:20250604T123121Z
UID:72640-1751648400-1751653800@villamonin.fr
SUMMARY:Pâtisserie - Spécial Macarons
DESCRIPTION:L’équipe de Chefs présente ses Macarons et ses astuces de réussite \nTechniques abordées : \n\nLa réalisation de la meringue au sirop\nDosage sucre/poudre d’amandes\nLe macaronage\nApprentissage du dosage en poche\nL’utilisation des colorants naturels\nLa cuisson\nLes garnitures faciles et gourmandes
URL:https://villamonin.fr/cours/patisserie-special-macarons-04-07-25/
CATEGORIES:Atelier Pâtisserie
ATTACH;FMTTYPE=image/jpeg:https://villamonin.fr/wp-content/uploads/2023/10/HILG7664.jpg
END:VEVENT
END:VCALENDAR