BEGIN:VCALENDAR
VERSION:2.0
PRODID:-//Villa MONIN - ECPv6.15.17//NONSGML v1.0//EN
CALSCALE:GREGORIAN
METHOD:PUBLISH
X-ORIGINAL-URL:https://villamonin.fr
X-WR-CALDESC:Évènements pour Villa MONIN
REFRESH-INTERVAL;VALUE=DURATION:PT1H
X-Robots-Tag:noindex
X-PUBLISHED-TTL:PT1H
BEGIN:VTIMEZONE
TZID:Europe/Paris
BEGIN:DAYLIGHT
TZOFFSETFROM:+0100
TZOFFSETTO:+0200
TZNAME:CEST
DTSTART:20240331T010000
END:DAYLIGHT
BEGIN:STANDARD
TZOFFSETFROM:+0200
TZOFFSETTO:+0100
TZNAME:CET
DTSTART:20241027T010000
END:STANDARD
BEGIN:DAYLIGHT
TZOFFSETFROM:+0100
TZOFFSETTO:+0200
TZNAME:CEST
DTSTART:20250330T010000
END:DAYLIGHT
BEGIN:STANDARD
TZOFFSETFROM:+0200
TZOFFSETTO:+0100
TZNAME:CET
DTSTART:20251026T010000
END:STANDARD
BEGIN:DAYLIGHT
TZOFFSETFROM:+0100
TZOFFSETTO:+0200
TZNAME:CEST
DTSTART:20260329T010000
END:DAYLIGHT
BEGIN:STANDARD
TZOFFSETFROM:+0200
TZOFFSETTO:+0100
TZNAME:CET
DTSTART:20261025T010000
END:STANDARD
END:VTIMEZONE
BEGIN:VEVENT
DTSTART;TZID=Europe/Paris:20250626T093000
DTEND;TZID=Europe/Paris:20250626T113000
DTSTAMP:20260422T020518
CREATED:20250408T135820Z
LAST-MODIFIED:20250408T135820Z
UID:71591-1750930200-1750937400@villamonin.fr
SUMMARY:Menu Veggie & Gourmand
DESCRIPTION:Gaspacho de pastèque basilic & feta\nFalafels aux herbes et petits pois\nQuinoa aux petits légumes\nPatate douce laquée au miso\nYaourt aux herbes\nDessert des Chefs à emporter\n\nTechniques abordées :  \n\nDécoupe des différents légumes\nRéalisation des falafels & sauce aux herbes\nLaquage Miso
URL:https://villamonin.fr/cours/menu-veggie-gourmand-2/
CATEGORIES:Menu thématique - 2h
ATTACH;FMTTYPE=image/jpeg:https://villamonin.fr/wp-content/uploads/2022/06/Cromesquis.jpg
END:VEVENT
BEGIN:VEVENT
DTSTART;TZID=Europe/Paris:20250626T193000
DTEND;TZID=Europe/Paris:20250626T213000
DTSTAMP:20260422T020518
CREATED:20250521T092109Z
LAST-MODIFIED:20250605T165429Z
UID:72967-1750966200-1750973400@villamonin.fr
SUMMARY:Atelier : Couronne de fleurs
DESCRIPTION:À l’occasion de Midsommar\, la fête scandinave du solstice d’été\, la Villa MONIN vous invite à vivre un atelier exclusif mêlant création florale\, cocktails raffinés et délices de saison\, dans la lumière dorée de La Cour. \nRejoignez-nous pour une soirée inédite ! \nVenez habillé(e) de blanc ou de motifs floraux pour célébrer pleinement l’esprit de Midsommar. \nCet atelier comprend : \n\nCréation de votre couronne de fleurs – atelier animé par Billie et les Fleurs\n2 boissons avec ou sans alcool\n2 pièces salées et 2 pièces sucrées réalisées par nos chefs
URL:https://villamonin.fr/cours/atelier-couronne-de-fleurs-26-06-25/
ATTACH;FMTTYPE=image/jpeg:https://villamonin.fr/wp-content/uploads/2025/05/04-2025-Midsommar-Atelier-Newsletterbandeau-site-web.jpg
END:VEVENT
END:VCALENDAR