BEGIN:VCALENDAR
VERSION:2.0
PRODID:-//Villa MONIN - ECPv6.15.17//NONSGML v1.0//EN
CALSCALE:GREGORIAN
METHOD:PUBLISH
X-ORIGINAL-URL:https://villamonin.fr
X-WR-CALDESC:Évènements pour Villa MONIN
REFRESH-INTERVAL;VALUE=DURATION:PT1H
X-Robots-Tag:noindex
X-PUBLISHED-TTL:PT1H
BEGIN:VTIMEZONE
TZID:Europe/Paris
BEGIN:DAYLIGHT
TZOFFSETFROM:+0100
TZOFFSETTO:+0200
TZNAME:CEST
DTSTART:20240331T010000
END:DAYLIGHT
BEGIN:STANDARD
TZOFFSETFROM:+0200
TZOFFSETTO:+0100
TZNAME:CET
DTSTART:20241027T010000
END:STANDARD
BEGIN:DAYLIGHT
TZOFFSETFROM:+0100
TZOFFSETTO:+0200
TZNAME:CEST
DTSTART:20250330T010000
END:DAYLIGHT
BEGIN:STANDARD
TZOFFSETFROM:+0200
TZOFFSETTO:+0100
TZNAME:CET
DTSTART:20251026T010000
END:STANDARD
BEGIN:DAYLIGHT
TZOFFSETFROM:+0100
TZOFFSETTO:+0200
TZNAME:CEST
DTSTART:20260329T010000
END:DAYLIGHT
BEGIN:STANDARD
TZOFFSETFROM:+0200
TZOFFSETTO:+0100
TZNAME:CET
DTSTART:20261025T010000
END:STANDARD
END:VTIMEZONE
BEGIN:VEVENT
DTSTART;TZID=Europe/Paris:20250620T121500
DTEND;TZID=Europe/Paris:20250620T130000
DTSTAMP:20260421T230044
CREATED:20250408T133702Z
LAST-MODIFIED:20250408T133702Z
UID:71579-1750421700-1750424400@villamonin.fr
SUMMARY:Un plat Démo – Tartare de bœuf à l’asiatique
DESCRIPTION:Tartare de bœuf à l’asiatique\nDessert des Chefs à emporter\n\nTechniques abordées : \n\nDécoupe du Tartare\nPréparation de la sauce asiatique
URL:https://villamonin.fr/cours/un-plat-demo-tartare-de-boeuf-a-lasiatique-2/
CATEGORIES:Menu express 45min
ATTACH;FMTTYPE=image/jpeg:https://villamonin.fr/wp-content/uploads/2022/07/Côte-de-veau.jpg
END:VEVENT
BEGIN:VEVENT
DTSTART;TZID=Europe/Paris:20250620T173000
DTEND;TZID=Europe/Paris:20250620T190000
DTSTAMP:20260421T230044
CREATED:20250402T074549Z
LAST-MODIFIED:20250402T074549Z
UID:71321-1750440600-1750446000@villamonin.fr
SUMMARY:Mixologie
DESCRIPTION:Le Gin est devenu ces dernières années l’un des spiritueux les plus populaires auprès des consommateurs. Accompagné de notre mixologue vous apprendrez à réaliser Le London Mule\, un Gin Tonic aromatisé et le Gin Sour.
URL:https://villamonin.fr/cours/mixologie-117/
CATEGORIES:Mixologie - 1h30
ATTACH;FMTTYPE=image/jpeg:https://villamonin.fr/wp-content/uploads/2023/02/ginto_portraitcRinaNURRA-bd.jpg
END:VEVENT
END:VCALENDAR