BEGIN:VCALENDAR
VERSION:2.0
PRODID:-//Villa MONIN - ECPv6.15.17//NONSGML v1.0//EN
CALSCALE:GREGORIAN
METHOD:PUBLISH
X-WR-CALNAME:Villa MONIN
X-ORIGINAL-URL:https://villamonin.fr
X-WR-CALDESC:Évènements pour Villa MONIN
REFRESH-INTERVAL;VALUE=DURATION:PT1H
X-Robots-Tag:noindex
X-PUBLISHED-TTL:PT1H
BEGIN:VTIMEZONE
TZID:Europe/Paris
BEGIN:DAYLIGHT
TZOFFSETFROM:+0100
TZOFFSETTO:+0200
TZNAME:CEST
DTSTART:20240331T010000
END:DAYLIGHT
BEGIN:STANDARD
TZOFFSETFROM:+0200
TZOFFSETTO:+0100
TZNAME:CET
DTSTART:20241027T010000
END:STANDARD
BEGIN:DAYLIGHT
TZOFFSETFROM:+0100
TZOFFSETTO:+0200
TZNAME:CEST
DTSTART:20250330T010000
END:DAYLIGHT
BEGIN:STANDARD
TZOFFSETFROM:+0200
TZOFFSETTO:+0100
TZNAME:CET
DTSTART:20251026T010000
END:STANDARD
BEGIN:DAYLIGHT
TZOFFSETFROM:+0100
TZOFFSETTO:+0200
TZNAME:CEST
DTSTART:20260329T010000
END:DAYLIGHT
BEGIN:STANDARD
TZOFFSETFROM:+0200
TZOFFSETTO:+0100
TZNAME:CET
DTSTART:20261025T010000
END:STANDARD
END:VTIMEZONE
BEGIN:VEVENT
DTSTART;TZID=Europe/Paris:20250619T121500
DTEND;TZID=Europe/Paris:20250619T130000
DTSTAMP:20260422T002653
CREATED:20250408T132943Z
LAST-MODIFIED:20250527T083143Z
UID:71574-1750335300-1750338000@villamonin.fr
SUMMARY:Un plat Démo - Tartare de bœuf à l'asiatique
DESCRIPTION:Tartare de bœuf à l’asiatique\nDessert des Chefs à emporter\n\nTechniques abordées : \n\nDécoupe du Tartare\nPréparation de la sauce asiatique
URL:https://villamonin.fr/cours/un-plat-demo-tartare-de-boeuf-a-lasiatique-19-06-25/
CATEGORIES:Menu express 45min
ATTACH;FMTTYPE=image/jpeg:https://villamonin.fr/wp-content/uploads/2022/07/Côte-de-veau.jpg
END:VEVENT
BEGIN:VEVENT
DTSTART;TZID=Europe/Paris:20250619T173000
DTEND;TZID=Europe/Paris:20250619T190000
DTSTAMP:20260422T002653
CREATED:20250402T075241Z
LAST-MODIFIED:20250618T071521Z
UID:71327-1750354200-1750359600@villamonin.fr
SUMMARY:Mixologie
DESCRIPTION:Les Créations du Bar 1912 de la VILLA MONIN \n\n 3 cocktails signature créés par nos Chefs Barmen\n\nClos des Fées\nL’Ursine\nLe Green’sh
URL:https://villamonin.fr/cours/mixologie-19-06-25/
CATEGORIES:Mixologie - 1h30
ATTACH;FMTTYPE=image/jpeg:https://villamonin.fr/wp-content/uploads/2023/07/moscowmule_paysagecRinaNURRA-bd.jpg
END:VEVENT
END:VCALENDAR