BEGIN:VCALENDAR
VERSION:2.0
PRODID:-//Villa MONIN - ECPv6.15.17//NONSGML v1.0//EN
CALSCALE:GREGORIAN
METHOD:PUBLISH
X-WR-CALNAME:Villa MONIN
X-ORIGINAL-URL:https://villamonin.fr
X-WR-CALDESC:Évènements pour Villa MONIN
REFRESH-INTERVAL;VALUE=DURATION:PT1H
X-Robots-Tag:noindex
X-PUBLISHED-TTL:PT1H
BEGIN:VTIMEZONE
TZID:Europe/Paris
BEGIN:DAYLIGHT
TZOFFSETFROM:+0100
TZOFFSETTO:+0200
TZNAME:CEST
DTSTART:20240331T010000
END:DAYLIGHT
BEGIN:STANDARD
TZOFFSETFROM:+0200
TZOFFSETTO:+0100
TZNAME:CET
DTSTART:20241027T010000
END:STANDARD
BEGIN:DAYLIGHT
TZOFFSETFROM:+0100
TZOFFSETTO:+0200
TZNAME:CEST
DTSTART:20250330T010000
END:DAYLIGHT
BEGIN:STANDARD
TZOFFSETFROM:+0200
TZOFFSETTO:+0100
TZNAME:CET
DTSTART:20251026T010000
END:STANDARD
BEGIN:DAYLIGHT
TZOFFSETFROM:+0100
TZOFFSETTO:+0200
TZNAME:CEST
DTSTART:20260329T010000
END:DAYLIGHT
BEGIN:STANDARD
TZOFFSETFROM:+0200
TZOFFSETTO:+0100
TZNAME:CET
DTSTART:20261025T010000
END:STANDARD
END:VTIMEZONE
BEGIN:VEVENT
DTSTART;TZID=Europe/Paris:20250502T121500
DTEND;TZID=Europe/Paris:20250502T130000
DTSTAMP:20260422T044913
CREATED:20250131T093011Z
LAST-MODIFIED:20250131T093011Z
UID:68828-1746188100-1746190800@villamonin.fr
SUMMARY:Un Plat démo - Brouillade d’œufs et Toast magret
DESCRIPTION:Brouillade d’œuf à l’huile de truffe\, toast  œuf parfait condimenté\, magret fumé et asperges vertes\nDessert des Chefs à emporter\n\nTechniques abordées \n\nTechnique des œufs brouillés et de l’œuf parfait\nPréparation du condiment\nDressage du toast
URL:https://villamonin.fr/cours/un-plat-demo-brouillade-doeufs-et-toast-magret/
CATEGORIES:Menu express 45min
END:VEVENT
BEGIN:VEVENT
DTSTART;TZID=Europe/Paris:20250502T170000
DTEND;TZID=Europe/Paris:20250502T183000
DTSTAMP:20260422T044913
CREATED:20250131T093618Z
LAST-MODIFIED:20250131T094820Z
UID:68832-1746205200-1746210600@villamonin.fr
SUMMARY:Pâtisserie - Spécial Macarons
DESCRIPTION:L’équipe de Chefs présente ses Macarons et ses astuces de réussite \nTechniques abordées \n\nComment faire la meringue au sirop\nLe dosage sucre/poudre d’amandes\nLe macaronage\nApprentissage du dosage en poche\nL’utilisation des colorants naturels\nLa cuisson\nLes garnitures faciles et gourmandes
URL:https://villamonin.fr/cours/patisserie-special-macarons-02-05-25/
CATEGORIES:Atelier Pâtisserie
END:VEVENT
END:VCALENDAR