BEGIN:VCALENDAR
VERSION:2.0
PRODID:-//Villa MONIN - ECPv6.15.17//NONSGML v1.0//EN
CALSCALE:GREGORIAN
METHOD:PUBLISH
X-WR-CALNAME:Villa MONIN
X-ORIGINAL-URL:https://villamonin.fr
X-WR-CALDESC:Évènements pour Villa MONIN
REFRESH-INTERVAL;VALUE=DURATION:PT1H
X-Robots-Tag:noindex
X-PUBLISHED-TTL:PT1H
BEGIN:VTIMEZONE
TZID:Europe/Paris
BEGIN:DAYLIGHT
TZOFFSETFROM:+0100
TZOFFSETTO:+0200
TZNAME:CEST
DTSTART:20240331T010000
END:DAYLIGHT
BEGIN:STANDARD
TZOFFSETFROM:+0200
TZOFFSETTO:+0100
TZNAME:CET
DTSTART:20241027T010000
END:STANDARD
BEGIN:DAYLIGHT
TZOFFSETFROM:+0100
TZOFFSETTO:+0200
TZNAME:CEST
DTSTART:20250330T010000
END:DAYLIGHT
BEGIN:STANDARD
TZOFFSETFROM:+0200
TZOFFSETTO:+0100
TZNAME:CET
DTSTART:20251026T010000
END:STANDARD
BEGIN:DAYLIGHT
TZOFFSETFROM:+0100
TZOFFSETTO:+0200
TZNAME:CEST
DTSTART:20260329T010000
END:DAYLIGHT
BEGIN:STANDARD
TZOFFSETFROM:+0200
TZOFFSETTO:+0100
TZNAME:CET
DTSTART:20261025T010000
END:STANDARD
END:VTIMEZONE
BEGIN:VEVENT
DTSTART;TZID=Europe/Paris:20250424T121500
DTEND;TZID=Europe/Paris:20250424T130000
DTSTAMP:20260421T145925
CREATED:20250130T132755Z
LAST-MODIFIED:20250130T132756Z
UID:68751-1745496900-1745499600@villamonin.fr
SUMMARY:Un plat démo – Mignon d’agneau
DESCRIPTION:Mignon d’agneau juste saisie\, jus court au thym citron\, asperges vertes au consommé\nDessert des Chefs à emporter\n\nTechniques abordées \n\nCuisson des asperges\nCuisson et préparation du mignon d’agneau\nTechnique du jus court\nDressage à l’assiette
URL:https://villamonin.fr/cours/un-plat-demo-mignon-dagneau-2/
CATEGORIES:Menu express 45min
END:VEVENT
END:VCALENDAR