BEGIN:VCALENDAR
VERSION:2.0
PRODID:-//Villa MONIN - ECPv6.15.17//NONSGML v1.0//EN
CALSCALE:GREGORIAN
METHOD:PUBLISH
X-WR-CALNAME:Villa MONIN
X-ORIGINAL-URL:https://villamonin.fr
X-WR-CALDESC:Évènements pour Villa MONIN
REFRESH-INTERVAL;VALUE=DURATION:PT1H
X-Robots-Tag:noindex
X-PUBLISHED-TTL:PT1H
BEGIN:VTIMEZONE
TZID:Europe/Paris
BEGIN:DAYLIGHT
TZOFFSETFROM:+0100
TZOFFSETTO:+0200
TZNAME:CEST
DTSTART:20240331T010000
END:DAYLIGHT
BEGIN:STANDARD
TZOFFSETFROM:+0200
TZOFFSETTO:+0100
TZNAME:CET
DTSTART:20241027T010000
END:STANDARD
BEGIN:DAYLIGHT
TZOFFSETFROM:+0100
TZOFFSETTO:+0200
TZNAME:CEST
DTSTART:20250330T010000
END:DAYLIGHT
BEGIN:STANDARD
TZOFFSETFROM:+0200
TZOFFSETTO:+0100
TZNAME:CET
DTSTART:20251026T010000
END:STANDARD
BEGIN:DAYLIGHT
TZOFFSETFROM:+0100
TZOFFSETTO:+0200
TZNAME:CEST
DTSTART:20260329T010000
END:DAYLIGHT
BEGIN:STANDARD
TZOFFSETFROM:+0200
TZOFFSETTO:+0100
TZNAME:CET
DTSTART:20261025T010000
END:STANDARD
END:VTIMEZONE
BEGIN:VEVENT
DTSTART;TZID=Europe/Paris:20250418T093000
DTEND;TZID=Europe/Paris:20250418T113000
DTSTAMP:20260421T211852
CREATED:20250130T125446Z
LAST-MODIFIED:20250130T125446Z
UID:68736-1744968600-1744975800@villamonin.fr
SUMMARY:Pâtisserie Parent/Enfant - Spécial Pâques
DESCRIPTION:Une inscription à 69€ = un duo parent/enfant (à partir de 6 ans) – 5 places “duo” disponibles \n\nPetits nids de Pâques\nMuffins décoration de Pâques\n\nTechnique abordée \n\nRéalisation des nids en chocolat sans cuisson\nRéalisation et cuisson du Muffin
URL:https://villamonin.fr/cours/patisserie-parent-enfant-special-paques-2/
CATEGORIES:Atelier parent/enfant
ATTACH;FMTTYPE=image/jpeg:https://villamonin.fr/wp-content/uploads/2024/08/Steph-e1725368042752.jpg
END:VEVENT
BEGIN:VEVENT
DTSTART;TZID=Europe/Paris:20250418T173000
DTEND;TZID=Europe/Paris:20250418T190000
DTSTAMP:20260421T211852
CREATED:20250130T082755Z
LAST-MODIFIED:20250130T082756Z
UID:68676-1744997400-1745002800@villamonin.fr
SUMMARY:Mixologie
DESCRIPTION:Dans ce cours vous découvrirez trois cocktails emblématiques de la culture cocktail inspirés des Etats Unis :\n\nLe Mint Julep : le cocktail phare du Derby du Kentucky\, servi dans son Julep Cup\, à base de bourbon\, de menthe de bitter aromatique et de Sirop Pur Sucre de Canne.\nLe Whiskey Sour : Notre mixologue vous apprendra tout sur la famille des sours et vous dévoilera les secrets de la méthode du « Reverse Dry Shake » et du « Double Strain » afin de réaliser un cocktail parfaitement équilibré avec une onctueuse mousse de blanc d’œuf*. Vous aurez le choix de confectionner le cocktail classique original ou de le twister avec une des saveurs Le Sirop de MONIN disponible à La Cour des Chefs.\n\n*allergènes \n\nLe Bourbon Old Fashioned : le cocktail n°1 aux USA\, qui se réalise directement au verre. Vous aurez le choix de préparer la recette originale ou de la twister avec un Sirop de MONIN parmi la gamme présente à La Cour de Chefs (Popcorn\, caramel salé\, Pain d’Epices\, Sucre Muscovado…). Notre mixologue vous apprendra à décorer ce cocktail avec un zeste d’orange exprimé et taillé.\n\nLes cocktails composant ce cours ne peuvent pas être déclinés en version sans alcool.
URL:https://villamonin.fr/cours/mixologie-122/
CATEGORIES:Mixologie - 1h30
ATTACH;FMTTYPE=image/jpeg:https://villamonin.fr/wp-content/uploads/2022/06/Rhums.jpg
END:VEVENT
END:VCALENDAR