BEGIN:VCALENDAR
VERSION:2.0
PRODID:-//Villa MONIN - ECPv6.15.17//NONSGML v1.0//EN
CALSCALE:GREGORIAN
METHOD:PUBLISH
X-WR-CALNAME:Villa MONIN
X-ORIGINAL-URL:https://villamonin.fr
X-WR-CALDESC:Évènements pour Villa MONIN
REFRESH-INTERVAL;VALUE=DURATION:PT1H
X-Robots-Tag:noindex
X-PUBLISHED-TTL:PT1H
BEGIN:VTIMEZONE
TZID:Europe/Paris
BEGIN:DAYLIGHT
TZOFFSETFROM:+0100
TZOFFSETTO:+0200
TZNAME:CEST
DTSTART:20240331T010000
END:DAYLIGHT
BEGIN:STANDARD
TZOFFSETFROM:+0200
TZOFFSETTO:+0100
TZNAME:CET
DTSTART:20241027T010000
END:STANDARD
BEGIN:DAYLIGHT
TZOFFSETFROM:+0100
TZOFFSETTO:+0200
TZNAME:CEST
DTSTART:20250330T010000
END:DAYLIGHT
BEGIN:STANDARD
TZOFFSETFROM:+0200
TZOFFSETTO:+0100
TZNAME:CET
DTSTART:20251026T010000
END:STANDARD
BEGIN:DAYLIGHT
TZOFFSETFROM:+0100
TZOFFSETTO:+0200
TZNAME:CEST
DTSTART:20260329T010000
END:DAYLIGHT
BEGIN:STANDARD
TZOFFSETFROM:+0200
TZOFFSETTO:+0100
TZNAME:CET
DTSTART:20261025T010000
END:STANDARD
END:VTIMEZONE
BEGIN:VEVENT
DTSTART;TZID=Europe/Paris:20250410T121500
DTEND;TZID=Europe/Paris:20250410T130000
DTSTAMP:20260421T145925
CREATED:20250130T105420Z
LAST-MODIFIED:20250130T105420Z
UID:68719-1744287300-1744290000@villamonin.fr
SUMMARY:Un Plat démo - Filet d’agneau basse température
DESCRIPTION:Filet d’agneau basse température\, haricots coco au safran\, jus cuisiné à la grenade\nDessert du Chef à emporter\n\nTechniques abordées \n\nCuisson basse température de l’agneau\nRéalisation de la garniture
URL:https://villamonin.fr/cours/un-plat-demo-filet-dagneau-basse-temperature/
CATEGORIES:Menu express 45min
END:VEVENT
BEGIN:VEVENT
DTSTART;TZID=Europe/Paris:20250410T173000
DTEND;TZID=Europe/Paris:20250410T190000
DTSTAMP:20260421T145925
CREATED:20250403T121227Z
LAST-MODIFIED:20250403T121403Z
UID:71417-1744306200-1744311600@villamonin.fr
SUMMARY:Mixologie
DESCRIPTION:Techniques abordées\n\n\nBack to Basic Vol.2 Pour ce deuxième volume\, notre expert boisson vous apprendra à réaliser trois cocktails emblématiques\, Le Blue Lagoon\, le Sex On The Beach\, et l’Expresso Martini. Vous découvrirez l’origine et l’histoire de leur création et les variantes de ces grands classiques.
URL:https://villamonin.fr/cours/mixologie-10-04-25/
CATEGORIES:Mixologie - 1h30
ATTACH;FMTTYPE=image/jpeg:https://villamonin.fr/wp-content/uploads/2023/12/Ruby-k-ube-Sour.jpg
END:VEVENT
END:VCALENDAR