BEGIN:VCALENDAR
VERSION:2.0
PRODID:-//Villa MONIN - ECPv6.15.17//NONSGML v1.0//EN
CALSCALE:GREGORIAN
METHOD:PUBLISH
X-ORIGINAL-URL:https://villamonin.fr
X-WR-CALDESC:Évènements pour Villa MONIN
REFRESH-INTERVAL;VALUE=DURATION:PT1H
X-Robots-Tag:noindex
X-PUBLISHED-TTL:PT1H
BEGIN:VTIMEZONE
TZID:Europe/Paris
BEGIN:DAYLIGHT
TZOFFSETFROM:+0100
TZOFFSETTO:+0200
TZNAME:CEST
DTSTART:20240331T010000
END:DAYLIGHT
BEGIN:STANDARD
TZOFFSETFROM:+0200
TZOFFSETTO:+0100
TZNAME:CET
DTSTART:20241027T010000
END:STANDARD
BEGIN:DAYLIGHT
TZOFFSETFROM:+0100
TZOFFSETTO:+0200
TZNAME:CEST
DTSTART:20250330T010000
END:DAYLIGHT
BEGIN:STANDARD
TZOFFSETFROM:+0200
TZOFFSETTO:+0100
TZNAME:CET
DTSTART:20251026T010000
END:STANDARD
BEGIN:DAYLIGHT
TZOFFSETFROM:+0100
TZOFFSETTO:+0200
TZNAME:CEST
DTSTART:20260329T010000
END:DAYLIGHT
BEGIN:STANDARD
TZOFFSETFROM:+0200
TZOFFSETTO:+0100
TZNAME:CET
DTSTART:20261025T010000
END:STANDARD
END:VTIMEZONE
BEGIN:VEVENT
DTSTART;TZID=Europe/Paris:20250404T121500
DTEND;TZID=Europe/Paris:20250404T130000
DTSTAMP:20260421T150122
CREATED:20250130T103549Z
LAST-MODIFIED:20250130T103550Z
UID:68707-1743768900-1743771600@villamonin.fr
SUMMARY:Un Plat démo - Cabillaud vapeur douce
DESCRIPTION:Skrei (gros cabillaud) des îles LOFOTEN cuit à la vapeur douce\, légumes en sautoir sauce Thaï\nDessert des Chefs à emporter\n\nTechniques abordées \n\nCuisson basse température du poisson\nPréparation de la sauce Thaï\nDressage à l’assiette\n\n 
URL:https://villamonin.fr/cours/un-plat-demo-cabillaud-vapeur-douce-3/
CATEGORIES:Menu express 45min
ATTACH;FMTTYPE=image/jpeg:https://villamonin.fr/wp-content/uploads/2022/11/Photo-524.jpg
END:VEVENT
BEGIN:VEVENT
DTSTART;TZID=Europe/Paris:20250404T173000
DTEND;TZID=Europe/Paris:20250404T190000
DTSTAMP:20260421T150122
CREATED:20250117T092100Z
LAST-MODIFIED:20250117T095537Z
UID:68079-1743787800-1743793200@villamonin.fr
SUMMARY:Mixologie
DESCRIPTION:Techniques abordées \n\nTrois cocktails autour du spiritueux préféré des français\, le rhum : Le Falernum Rhum Mule\, La Daïquiri et le Rhum Old Fashioned.\nExplications sur les différents rhums et leurs origines\, leurs utilisation en cocktails.\nL’origine des différents rhums et leur livret de famille\nLeurs utilisations\nL’histoire de ces cocktails emblématiques\nLa Technique\, les dosages et les équilibres\nLa verrerie
URL:https://villamonin.fr/cours/mixologie-04-04-25/
CATEGORIES:Mixologie - 1h30
ATTACH;FMTTYPE=image/jpeg:https://villamonin.fr/wp-content/uploads/2023/03/FRUIT-LIME-DAIQUIRI-framing-a107b.jpg
END:VEVENT
END:VCALENDAR