BEGIN:VCALENDAR
VERSION:2.0
PRODID:-//Villa MONIN - ECPv6.15.17//NONSGML v1.0//EN
CALSCALE:GREGORIAN
METHOD:PUBLISH
X-ORIGINAL-URL:https://villamonin.fr
X-WR-CALDESC:Évènements pour Villa MONIN
REFRESH-INTERVAL;VALUE=DURATION:PT1H
X-Robots-Tag:noindex
X-PUBLISHED-TTL:PT1H
BEGIN:VTIMEZONE
TZID:Europe/Paris
BEGIN:DAYLIGHT
TZOFFSETFROM:+0100
TZOFFSETTO:+0200
TZNAME:CEST
DTSTART:20240331T010000
END:DAYLIGHT
BEGIN:STANDARD
TZOFFSETFROM:+0200
TZOFFSETTO:+0100
TZNAME:CET
DTSTART:20241027T010000
END:STANDARD
BEGIN:DAYLIGHT
TZOFFSETFROM:+0100
TZOFFSETTO:+0200
TZNAME:CEST
DTSTART:20250330T010000
END:DAYLIGHT
BEGIN:STANDARD
TZOFFSETFROM:+0200
TZOFFSETTO:+0100
TZNAME:CET
DTSTART:20251026T010000
END:STANDARD
BEGIN:DAYLIGHT
TZOFFSETFROM:+0100
TZOFFSETTO:+0200
TZNAME:CEST
DTSTART:20260329T010000
END:DAYLIGHT
BEGIN:STANDARD
TZOFFSETFROM:+0200
TZOFFSETTO:+0100
TZNAME:CET
DTSTART:20261025T010000
END:STANDARD
END:VTIMEZONE
BEGIN:VEVENT
DTSTART;TZID=Europe/Paris:20250402T093000
DTEND;TZID=Europe/Paris:20250402T113000
DTSTAMP:20260421T150158
CREATED:20250130T101605Z
LAST-MODIFIED:20250130T101605Z
UID:68698-1743586200-1743593400@villamonin.fr
SUMMARY:Menu autour de l'Asperge
DESCRIPTION:Asperges blanches vinaigrette Citron/citron vert\, parmesan\nCarbonara d’asperges au lard fumé et lait de coco\nDessert des Chefs à emporter\n\nTechniques abordées \n\nDifférentes Cuisson des asperges\, astuce de préparation\nUtilisation de toute l’asperge\nRéalisation de la sauce carbonara
URL:https://villamonin.fr/cours/menu-autour-de-lasperge/
CATEGORIES:Atelier Cuisine,Menu thématique - 2h
ATTACH;FMTTYPE=image/jpeg:https://villamonin.fr/wp-content/uploads/2023/01/Asperges.jpg
END:VEVENT
BEGIN:VEVENT
DTSTART;TZID=Europe/Paris:20250402T140000
DTEND;TZID=Europe/Paris:20250402T153000
DTSTAMP:20260421T150158
CREATED:20250130T102033Z
LAST-MODIFIED:20250206T091129Z
UID:68701-1743602400-1743607800@villamonin.fr
SUMMARY:Pâtisserie - Gâteaux de voyage
DESCRIPTION:Financiers au Sirop de Monin\nCake au Fruit de Monin\nFondant chocolat sauce Caramel Monin\n\nTechniques abordées \n\nRéalisation de tous les appareils\nDifférentes cuissons des gâteaux
URL:https://villamonin.fr/cours/patisserie-gateaux-de-voyage-02-04-25/
CATEGORIES:Atelier Pâtisserie
ATTACH;FMTTYPE=image/png:https://villamonin.fr/wp-content/uploads/2023/01/TARTELETTE-CHOCOLAT-PASSION-2-LD.png
END:VEVENT
END:VCALENDAR