BEGIN:VCALENDAR
VERSION:2.0
PRODID:-//Villa MONIN - ECPv6.15.17//NONSGML v1.0//EN
CALSCALE:GREGORIAN
METHOD:PUBLISH
X-ORIGINAL-URL:https://villamonin.fr
X-WR-CALDESC:Évènements pour Villa MONIN
REFRESH-INTERVAL;VALUE=DURATION:PT1H
X-Robots-Tag:noindex
X-PUBLISHED-TTL:PT1H
BEGIN:VTIMEZONE
TZID:Europe/Paris
BEGIN:DAYLIGHT
TZOFFSETFROM:+0100
TZOFFSETTO:+0200
TZNAME:CEST
DTSTART:20230326T010000
END:DAYLIGHT
BEGIN:STANDARD
TZOFFSETFROM:+0200
TZOFFSETTO:+0100
TZNAME:CET
DTSTART:20231029T010000
END:STANDARD
BEGIN:DAYLIGHT
TZOFFSETFROM:+0100
TZOFFSETTO:+0200
TZNAME:CEST
DTSTART:20240331T010000
END:DAYLIGHT
BEGIN:STANDARD
TZOFFSETFROM:+0200
TZOFFSETTO:+0100
TZNAME:CET
DTSTART:20241027T010000
END:STANDARD
BEGIN:DAYLIGHT
TZOFFSETFROM:+0100
TZOFFSETTO:+0200
TZNAME:CEST
DTSTART:20250330T010000
END:DAYLIGHT
BEGIN:STANDARD
TZOFFSETFROM:+0200
TZOFFSETTO:+0100
TZNAME:CET
DTSTART:20251026T010000
END:STANDARD
END:VTIMEZONE
BEGIN:VEVENT
DTSTART;TZID=Europe/Paris:20241128T121500
DTEND;TZID=Europe/Paris:20241128T130000
DTSTAMP:20260421T212043
CREATED:20240918T094055Z
LAST-MODIFIED:20240918T094055Z
UID:61197-1732796100-1732798800@villamonin.fr
SUMMARY:Un Plat démo - Risotto girolles et cèpes
DESCRIPTION:Risotto girolles et cèpes\, parmesan et crevettes\nDessert du Chef à emporter\n\nTechniques abordées \n\nPréparation et cuisson du risotto\nCuisson des champignons\nDressage à l’assiette
URL:https://villamonin.fr/cours/un-plat-demo-risotto-girolles-et-cepes/
CATEGORIES:Menu express 45min
ATTACH;FMTTYPE=image/jpeg:https://villamonin.fr/wp-content/uploads/2022/07/Risotto-aux-légumes.jpg
END:VEVENT
END:VCALENDAR