BEGIN:VCALENDAR
VERSION:2.0
PRODID:-//Villa MONIN - ECPv6.15.17//NONSGML v1.0//EN
CALSCALE:GREGORIAN
METHOD:PUBLISH
X-WR-CALNAME:Villa MONIN
X-ORIGINAL-URL:https://villamonin.fr
X-WR-CALDESC:Évènements pour Villa MONIN
REFRESH-INTERVAL;VALUE=DURATION:PT1H
X-Robots-Tag:noindex
X-PUBLISHED-TTL:PT1H
BEGIN:VTIMEZONE
TZID:Europe/Paris
BEGIN:DAYLIGHT
TZOFFSETFROM:+0100
TZOFFSETTO:+0200
TZNAME:CEST
DTSTART:20230326T010000
END:DAYLIGHT
BEGIN:STANDARD
TZOFFSETFROM:+0200
TZOFFSETTO:+0100
TZNAME:CET
DTSTART:20231029T010000
END:STANDARD
BEGIN:DAYLIGHT
TZOFFSETFROM:+0100
TZOFFSETTO:+0200
TZNAME:CEST
DTSTART:20240331T010000
END:DAYLIGHT
BEGIN:STANDARD
TZOFFSETFROM:+0200
TZOFFSETTO:+0100
TZNAME:CET
DTSTART:20241027T010000
END:STANDARD
BEGIN:DAYLIGHT
TZOFFSETFROM:+0100
TZOFFSETTO:+0200
TZNAME:CEST
DTSTART:20250330T010000
END:DAYLIGHT
BEGIN:STANDARD
TZOFFSETFROM:+0200
TZOFFSETTO:+0100
TZNAME:CET
DTSTART:20251026T010000
END:STANDARD
END:VTIMEZONE
BEGIN:VEVENT
DTSTART;TZID=Europe/Paris:20241123T093000
DTEND;TZID=Europe/Paris:20241123T113000
DTSTAMP:20260422T034955
CREATED:20240918T093158Z
LAST-MODIFIED:20240926T100050Z
UID:61191-1732354200-1732361400@villamonin.fr
SUMMARY:Menu Festif
DESCRIPTION:Velouté de topinambour aux éclats de foie gras\nCabillaud au yuzu croute d’herbes et poireaux croustillants\nDessert du Chef à emporter\n\nTechniques abordées \n\nPréparation du  velouté\nPréparation et cuisson du cabillaud\nTechnique de la croute d’herbes\nDressage à l’assiette
URL:https://villamonin.fr/cours/menu-festif-23-11-24/
CATEGORIES:Atelier Cuisine,Menu thématique - 2h
ATTACH;FMTTYPE=image/jpeg:https://villamonin.fr/wp-content/uploads/2022/11/Photo-524.jpg
END:VEVENT
BEGIN:VEVENT
DTSTART;TZID=Europe/Paris:20241123T180000
DTEND;TZID=Europe/Paris:20241123T193000
DTSTAMP:20260422T034955
CREATED:20240919T092217Z
LAST-MODIFIED:20241022T101235Z
UID:61295-1732384800-1732390200@villamonin.fr
SUMMARY:Mixologie
DESCRIPTION:Gin Vol.2\nPour ce second opus à travers l’univers du gin\, vous découvrirez comment réinterpréter 3 cocktails classiques\, le Tom Collins\, le Clover Club\, et le Red Lion en leur apportant un twist original avec un parfum MONIN.
URL:https://villamonin.fr/cours/mixologie-23-11-24/
CATEGORIES:Mixologie - 1h30
ATTACH;FMTTYPE=image/jpeg:https://villamonin.fr/wp-content/uploads/2022/07/Gin.jpg
END:VEVENT
END:VCALENDAR