BEGIN:VCALENDAR
VERSION:2.0
PRODID:-//Villa MONIN - ECPv6.15.17//NONSGML v1.0//EN
CALSCALE:GREGORIAN
METHOD:PUBLISH
X-ORIGINAL-URL:https://villamonin.fr
X-WR-CALDESC:Évènements pour Villa MONIN
REFRESH-INTERVAL;VALUE=DURATION:PT1H
X-Robots-Tag:noindex
X-PUBLISHED-TTL:PT1H
BEGIN:VTIMEZONE
TZID:Europe/Paris
BEGIN:DAYLIGHT
TZOFFSETFROM:+0100
TZOFFSETTO:+0200
TZNAME:CEST
DTSTART:20230326T010000
END:DAYLIGHT
BEGIN:STANDARD
TZOFFSETFROM:+0200
TZOFFSETTO:+0100
TZNAME:CET
DTSTART:20231029T010000
END:STANDARD
BEGIN:DAYLIGHT
TZOFFSETFROM:+0100
TZOFFSETTO:+0200
TZNAME:CEST
DTSTART:20240331T010000
END:DAYLIGHT
BEGIN:STANDARD
TZOFFSETFROM:+0200
TZOFFSETTO:+0100
TZNAME:CET
DTSTART:20241027T010000
END:STANDARD
BEGIN:DAYLIGHT
TZOFFSETFROM:+0100
TZOFFSETTO:+0200
TZNAME:CEST
DTSTART:20250330T010000
END:DAYLIGHT
BEGIN:STANDARD
TZOFFSETFROM:+0200
TZOFFSETTO:+0100
TZNAME:CET
DTSTART:20251026T010000
END:STANDARD
END:VTIMEZONE
BEGIN:VEVENT
DTSTART;TZID=Europe/Paris:20241115T121500
DTEND;TZID=Europe/Paris:20241115T130000
DTSTAMP:20260422T053506
CREATED:20240918T082114Z
LAST-MODIFIED:20240918T082114Z
UID:61174-1731672900-1731675600@villamonin.fr
SUMMARY:Un Plat démo- Parmentier de butternut au haddock
DESCRIPTION:Parmentier de butternut au haddock sur crème d’endives\nDessert de Stéphanie à emporter\n\nTechniques abordées \n\nPréparation parmentier\nTechnique de cuisson du haddock\nDressage à l’assiette
URL:https://villamonin.fr/cours/un-plat-demo-parmentier-de-butternut-au-haddock-2/
CATEGORIES:Menu express 45min
ATTACH;FMTTYPE=image/jpeg:https://villamonin.fr/wp-content/uploads/2024/08/Steph-e1725368042752.jpg
END:VEVENT
BEGIN:VEVENT
DTSTART;TZID=Europe/Paris:20241115T173000
DTEND;TZID=Europe/Paris:20241115T190000
DTSTAMP:20260422T053506
CREATED:20240919T090017Z
LAST-MODIFIED:20240919T090017Z
UID:61271-1731691800-1731697200@villamonin.fr
SUMMARY:Mixologie
DESCRIPTION:Techniques abordées \n\nRhum Vol.3\nPlongez dans l’univers fascinant de ce spiritueux emblématique grâce à ce troisième volume et apprenez à confectionner des cocktails surprenants et délicieux qui raviront vos papilles.
URL:https://villamonin.fr/cours/mixologie-96/
CATEGORIES:Mixologie - 1h30
ATTACH;FMTTYPE=image/jpeg:https://villamonin.fr/wp-content/uploads/2023/09/Pornstar.jpg
END:VEVENT
END:VCALENDAR