BEGIN:VCALENDAR
VERSION:2.0
PRODID:-//Villa MONIN - ECPv6.15.17//NONSGML v1.0//EN
CALSCALE:GREGORIAN
METHOD:PUBLISH
X-ORIGINAL-URL:https://villamonin.fr
X-WR-CALDESC:Évènements pour Villa MONIN
REFRESH-INTERVAL;VALUE=DURATION:PT1H
X-Robots-Tag:noindex
X-PUBLISHED-TTL:PT1H
BEGIN:VTIMEZONE
TZID:Europe/Paris
BEGIN:DAYLIGHT
TZOFFSETFROM:+0100
TZOFFSETTO:+0200
TZNAME:CEST
DTSTART:20230326T010000
END:DAYLIGHT
BEGIN:STANDARD
TZOFFSETFROM:+0200
TZOFFSETTO:+0100
TZNAME:CET
DTSTART:20231029T010000
END:STANDARD
BEGIN:DAYLIGHT
TZOFFSETFROM:+0100
TZOFFSETTO:+0200
TZNAME:CEST
DTSTART:20240331T010000
END:DAYLIGHT
BEGIN:STANDARD
TZOFFSETFROM:+0200
TZOFFSETTO:+0100
TZNAME:CET
DTSTART:20241027T010000
END:STANDARD
BEGIN:DAYLIGHT
TZOFFSETFROM:+0100
TZOFFSETTO:+0200
TZNAME:CEST
DTSTART:20250330T010000
END:DAYLIGHT
BEGIN:STANDARD
TZOFFSETFROM:+0200
TZOFFSETTO:+0100
TZNAME:CET
DTSTART:20251026T010000
END:STANDARD
END:VTIMEZONE
BEGIN:VEVENT
DTSTART;TZID=Europe/Paris:20241109T093000
DTEND;TZID=Europe/Paris:20241109T113000
DTSTAMP:20260422T044846
CREATED:20240918T075542Z
LAST-MODIFIED:20240918T075542Z
UID:61162-1731144600-1731151800@villamonin.fr
SUMMARY:Menu Spécial Oeufs
DESCRIPTION:Velouté de citrouille spicy\, œuf mollet croustillant\nŒuf parfait sur tapas au vieux jambon Serrano\, salade de pousses\nDessert des Chefs à emporter\n\nTechniques abordées \n\nCuisson de l’œuf mollet croustillant\nPréparation du velouté\nAstuce de l’œuf parfait\nDressage à l’assiette
URL:https://villamonin.fr/cours/menu-special-oeufs/
CATEGORIES:Atelier Cuisine,Menu thématique - 2h
ATTACH;FMTTYPE=image/jpeg:https://villamonin.fr/wp-content/uploads/2022/07/Tapas.jpg
END:VEVENT
BEGIN:VEVENT
DTSTART;TZID=Europe/Paris:20241109T180000
DTEND;TZID=Europe/Paris:20241109T193000
DTSTAMP:20260422T044846
CREATED:20240919T090937Z
LAST-MODIFIED:20240919T090938Z
UID:61282-1731175200-1731180600@villamonin.fr
SUMMARY:Mixologie
DESCRIPTION:La Tendance Gin \n\nLe Gin est devenu ces dernières années l’un des spiritueux les plus populaires auprès des consommateurs. Accompagné de notre mixologue vous apprendrez à réaliser Le London Mule\, un Gin Tonic aromatisé et le Gin Sour.
URL:https://villamonin.fr/cours/mixologie-98/
CATEGORIES:Mixologie - 1h30
ATTACH;FMTTYPE=image/jpeg:https://villamonin.fr/wp-content/uploads/2022/07/Gin.jpg
END:VEVENT
END:VCALENDAR