BEGIN:VCALENDAR
VERSION:2.0
PRODID:-//Villa MONIN - ECPv6.15.17//NONSGML v1.0//EN
CALSCALE:GREGORIAN
METHOD:PUBLISH
X-WR-CALNAME:Villa MONIN
X-ORIGINAL-URL:https://villamonin.fr
X-WR-CALDESC:Évènements pour Villa MONIN
REFRESH-INTERVAL;VALUE=DURATION:PT1H
X-Robots-Tag:noindex
X-PUBLISHED-TTL:PT1H
BEGIN:VTIMEZONE
TZID:Europe/Paris
BEGIN:DAYLIGHT
TZOFFSETFROM:+0100
TZOFFSETTO:+0200
TZNAME:CEST
DTSTART:20230326T010000
END:DAYLIGHT
BEGIN:STANDARD
TZOFFSETFROM:+0200
TZOFFSETTO:+0100
TZNAME:CET
DTSTART:20231029T010000
END:STANDARD
BEGIN:DAYLIGHT
TZOFFSETFROM:+0100
TZOFFSETTO:+0200
TZNAME:CEST
DTSTART:20240331T010000
END:DAYLIGHT
BEGIN:STANDARD
TZOFFSETFROM:+0200
TZOFFSETTO:+0100
TZNAME:CET
DTSTART:20241027T010000
END:STANDARD
BEGIN:DAYLIGHT
TZOFFSETFROM:+0100
TZOFFSETTO:+0200
TZNAME:CEST
DTSTART:20250330T010000
END:DAYLIGHT
BEGIN:STANDARD
TZOFFSETFROM:+0200
TZOFFSETTO:+0100
TZNAME:CET
DTSTART:20251026T010000
END:STANDARD
END:VTIMEZONE
BEGIN:VEVENT
DTSTART;TZID=Europe/Paris:20241107T121500
DTEND;TZID=Europe/Paris:20241107T130000
DTSTAMP:20260422T072148
CREATED:20240918T074637Z
LAST-MODIFIED:20240918T075125Z
UID:61155-1730981700-1730984400@villamonin.fr
SUMMARY:Un Plat démo - Velouté de citrouille œuf mollet
DESCRIPTION:Velouté de citrouille spicy\, œuf mollet et tapas au vieux jambon\nDessert à emporter\n\nTechniques abordées \n\nCuisson de l’œuf mollet croustillant\nPréparation du velouté\nDressage à l’assiette
URL:https://villamonin.fr/cours/un-plat-demo-veloute-de-citrouille-oeuf-mollet-07-11-24/
CATEGORIES:Menu express 45min
ATTACH;FMTTYPE=image/jpeg:https://villamonin.fr/wp-content/uploads/2022/07/Velouté-de-légumes.jpg
END:VEVENT
BEGIN:VEVENT
DTSTART;TZID=Europe/Paris:20241107T173000
DTEND;TZID=Europe/Paris:20241107T190000
DTSTAMP:20260422T072148
CREATED:20240919T082025Z
LAST-MODIFIED:20241015T091907Z
UID:61259-1731000600-1731006000@villamonin.fr
SUMMARY:Mixologie
DESCRIPTION:Techniques abordées \n\nTrois cocktails autour du spiritueux préféré des français\, le rhum : Le Falernum Rhum Mule\, La Daïquiri et le Rhum Old Fashioned.\nExplications sur les différents rhums et leurs origines\, leurs utilisation en cocktails.\nL’origine des différents rhums et leur livret de famille\nLeurs utilisations\nL’histoire de ces cocktails emblématiques\nLa Technique\, les dosages et les équilibres\nLa verrerie
URL:https://villamonin.fr/cours/mixologie-07-11-24/
CATEGORIES:Mixologie - 1h30
ATTACH;FMTTYPE=image/jpeg:https://villamonin.fr/wp-content/uploads/2023/03/FRUIT-LIME-DAIQUIRI-framing-a107b.jpg
END:VEVENT
END:VCALENDAR