BEGIN:VCALENDAR
VERSION:2.0
PRODID:-//Villa MONIN - ECPv6.15.17//NONSGML v1.0//EN
CALSCALE:GREGORIAN
METHOD:PUBLISH
X-ORIGINAL-URL:https://villamonin.fr
X-WR-CALDESC:Évènements pour Villa MONIN
REFRESH-INTERVAL;VALUE=DURATION:PT1H
X-Robots-Tag:noindex
X-PUBLISHED-TTL:PT1H
BEGIN:VTIMEZONE
TZID:Europe/Paris
BEGIN:DAYLIGHT
TZOFFSETFROM:+0100
TZOFFSETTO:+0200
TZNAME:CEST
DTSTART:20230326T010000
END:DAYLIGHT
BEGIN:STANDARD
TZOFFSETFROM:+0200
TZOFFSETTO:+0100
TZNAME:CET
DTSTART:20231029T010000
END:STANDARD
BEGIN:DAYLIGHT
TZOFFSETFROM:+0100
TZOFFSETTO:+0200
TZNAME:CEST
DTSTART:20240331T010000
END:DAYLIGHT
BEGIN:STANDARD
TZOFFSETFROM:+0200
TZOFFSETTO:+0100
TZNAME:CET
DTSTART:20241027T010000
END:STANDARD
BEGIN:DAYLIGHT
TZOFFSETFROM:+0100
TZOFFSETTO:+0200
TZNAME:CEST
DTSTART:20250330T010000
END:DAYLIGHT
BEGIN:STANDARD
TZOFFSETFROM:+0200
TZOFFSETTO:+0100
TZNAME:CET
DTSTART:20251026T010000
END:STANDARD
END:VTIMEZONE
BEGIN:VEVENT
DTSTART;TZID=Europe/Paris:20241031T093000
DTEND;TZID=Europe/Paris:20241031T113000
DTSTAMP:20260422T091652
CREATED:20240822T120632Z
LAST-MODIFIED:20240822T120632Z
UID:60024-1730367000-1730374200@villamonin.fr
SUMMARY:Pâtisserie - Spécial Chocolat
DESCRIPTION:Mousse/Charlotte\nMi-cuit\nFondant\nTablettes personnalisées\n\nTechniques abordées \n\nLes techniques de cuisson (Temps\, température\, niveau)\nRéalisation d’une base chocolat pour 3 desserts\nCréation de sa propre tablette de chocolat
URL:https://villamonin.fr/cours/patisserie-special-chocolat-3/
CATEGORIES:Atelier Pâtisserie,Menu thématique - 2h
ATTACH;FMTTYPE=image/png:https://villamonin.fr/wp-content/uploads/2023/01/TARTELETTE-CHOCOLAT-PASSION-2-LD.png
END:VEVENT
BEGIN:VEVENT
DTSTART;TZID=Europe/Paris:20241031T173000
DTEND;TZID=Europe/Paris:20241031T190000
DTSTAMP:20260422T091652
CREATED:20240823T095940Z
LAST-MODIFIED:20240823T095940Z
UID:60139-1730395800-1730401200@villamonin.fr
SUMMARY:Mixologie
DESCRIPTION:Trois cocktails emblématique de la culture Latino : la Margarita\, la Caïpirinha\, le Pisco Sour\n\nMargarita : cocktail national du Mexique\, historique du cocktail\, qu’est ce que la téquila\, règles des 3 S\, méthode d’élaboration au shaker\, verre à margarita givré au sel\, décor avec tranche de citron vert cannelée\, liqueur de Curaçao Triple Sec MONIN\, version frozen au blender aromatisée avec Le Fruit Fraise ou Passion.\nCaïpirinha : le cocktail national du Brésil\, qu’est ce que la cachaça\, méthode au pilon + glace pilée\, recette classique\, sirop Pour Sucre de Canne Blanc ou Roux ou aromatisée avec Le Fruit Ananas ou Mangue\nPisco Sour : le cocktail national du Chili/Pérou\, qu’est ce que le Pisco\, réalisation au shaker avec la méthode du dry shake/reverse dry shake pour obtenir une mousse parfaite\, double strain\, décor sur la mousse du cocktail\, version classique avec Pur Sucre de Canne ou version aromatisée avec sirop Spicy Mango\, Pumpkin Spice ou Mandarine.
URL:https://villamonin.fr/cours/mixologie-94/
CATEGORIES:Mixologie - 1h30
ATTACH;FMTTYPE=image/jpeg:https://villamonin.fr/wp-content/uploads/2022/05/Spicy-Margarita-brush-gesture.jpg
END:VEVENT
END:VCALENDAR