BEGIN:VCALENDAR
VERSION:2.0
PRODID:-//Villa MONIN - ECPv6.15.17//NONSGML v1.0//EN
CALSCALE:GREGORIAN
METHOD:PUBLISH
X-WR-CALNAME:Villa MONIN
X-ORIGINAL-URL:https://villamonin.fr
X-WR-CALDESC:Évènements pour Villa MONIN
REFRESH-INTERVAL;VALUE=DURATION:PT1H
X-Robots-Tag:noindex
X-PUBLISHED-TTL:PT1H
BEGIN:VTIMEZONE
TZID:Europe/Paris
BEGIN:DAYLIGHT
TZOFFSETFROM:+0100
TZOFFSETTO:+0200
TZNAME:CEST
DTSTART:20230326T010000
END:DAYLIGHT
BEGIN:STANDARD
TZOFFSETFROM:+0200
TZOFFSETTO:+0100
TZNAME:CET
DTSTART:20231029T010000
END:STANDARD
BEGIN:DAYLIGHT
TZOFFSETFROM:+0100
TZOFFSETTO:+0200
TZNAME:CEST
DTSTART:20240331T010000
END:DAYLIGHT
BEGIN:STANDARD
TZOFFSETFROM:+0200
TZOFFSETTO:+0100
TZNAME:CET
DTSTART:20241027T010000
END:STANDARD
BEGIN:DAYLIGHT
TZOFFSETFROM:+0100
TZOFFSETTO:+0200
TZNAME:CEST
DTSTART:20250330T010000
END:DAYLIGHT
BEGIN:STANDARD
TZOFFSETFROM:+0200
TZOFFSETTO:+0100
TZNAME:CET
DTSTART:20251026T010000
END:STANDARD
END:VTIMEZONE
BEGIN:VEVENT
DTSTART;TZID=Europe/Paris:20241023T140000
DTEND;TZID=Europe/Paris:20241023T160000
DTSTAMP:20260422T071708
CREATED:20240822T112916Z
LAST-MODIFIED:20240904T080339Z
UID:60004-1729692000-1729699200@villamonin.fr
SUMMARY:Pâtisserie Parent/Enfant - Spécial HALLOWEEN
DESCRIPTION:Une inscription à 69€ = un duo parent/enfant (à partir de 6 ans) – 5 places “duo” disponibles \n\nCup cake Halloween et ses décorations\n\nTechnique abordée \n\nPréparation de l’appareil à Cup Cake\nRéalisation de la chantilly mascarpone\nConfection des décorations
URL:https://villamonin.fr/cours/patisserie-parent-enfant-special-halloween-23-10-24/
CATEGORIES:Atelier parent/enfant
END:VEVENT
END:VCALENDAR